BEGIN:VCALENDAR
VERSION:2.0
PRODID:-//Al Koran Shriners - ECPv6.15.20//NONSGML v1.0//EN
CALSCALE:GREGORIAN
METHOD:PUBLISH
X-WR-CALNAME:Al Koran Shriners
X-ORIGINAL-URL:https://alkoranshriners.com
X-WR-CALDESC:Events for Al Koran Shriners
REFRESH-INTERVAL;VALUE=DURATION:PT1H
X-Robots-Tag:noindex
X-PUBLISHED-TTL:PT1H
BEGIN:VTIMEZONE
TZID:America/New_York
BEGIN:DAYLIGHT
TZOFFSETFROM:-0500
TZOFFSETTO:-0400
TZNAME:EDT
DTSTART:20240310T070000
END:DAYLIGHT
BEGIN:STANDARD
TZOFFSETFROM:-0400
TZOFFSETTO:-0500
TZNAME:EST
DTSTART:20241103T060000
END:STANDARD
BEGIN:DAYLIGHT
TZOFFSETFROM:-0500
TZOFFSETTO:-0400
TZNAME:EDT
DTSTART:20250309T070000
END:DAYLIGHT
BEGIN:STANDARD
TZOFFSETFROM:-0400
TZOFFSETTO:-0500
TZNAME:EST
DTSTART:20251102T060000
END:STANDARD
BEGIN:DAYLIGHT
TZOFFSETFROM:-0500
TZOFFSETTO:-0400
TZNAME:EDT
DTSTART:20260308T070000
END:DAYLIGHT
BEGIN:STANDARD
TZOFFSETFROM:-0400
TZOFFSETTO:-0500
TZNAME:EST
DTSTART:20261101T060000
END:STANDARD
END:VTIMEZONE
BEGIN:VEVENT
DTSTART;TZID=America/New_York:20251220T180000
DTEND;TZID=America/New_York:20251220T230000
DTSTAMP:20260423T044137
CREATED:20251204T183816Z
LAST-MODIFIED:20251205T164056Z
UID:10001233-1766253600-1766271600@alkoranshriners.com
SUMMARY:Al Koran  Mid Ohio Shrine Club Christmas Party & Installation of Officers
DESCRIPTION:
URL:https://alkoranshriners.com/event/al-koran-mid-ohio-shrine-club-christmas-party-installation-of-officers/
ORGANIZER;CN="Al Koran Shriners":MAILTO:clevelandshriners@gmail.com
END:VEVENT
BEGIN:VEVENT
DTSTART;TZID=America/New_York:20251218T180000
DTEND;TZID=America/New_York:20251218T200000
DTSTAMP:20260423T044137
CREATED:20250512T192559Z
LAST-MODIFIED:20250606T123903Z
UID:10000080-1766080800-1766088000@alkoranshriners.com
SUMMARY:Youngstown Shrine Club Meeting
DESCRIPTION:
URL:https://alkoranshriners.com/event/youngstown-shrine-club-meeting/2025-12-18/
LOCATION:Youngstown Shrine Club\, 1735 S Range\, North Lima\, OH\, 44452\, United States
END:VEVENT
BEGIN:VEVENT
DTSTART;VALUE=DATE:20251218
DTEND;VALUE=DATE:20251219
DTSTAMP:20260423T044137
CREATED:20250722T124240Z
LAST-MODIFIED:20250930T191012Z
UID:10001046-1766016000-1766102399@alkoranshriners.com
SUMMARY:Youngstown Shrine Club Meeting
DESCRIPTION:
URL:https://alkoranshriners.com/event/youngstown-shrine-club-dinner-meeting/2025-12-18/
LOCATION:Youngstown Shrine Club\, 1735 S Range\, North Lima\, OH\, 44452\, United States
ORGANIZER;CN="Al Koran Shriners":MAILTO:clevelandshriners@gmail.com
END:VEVENT
BEGIN:VEVENT
DTSTART;TZID=America/New_York:20251217T180000
DTEND;TZID=America/New_York:20251217T200000
DTSTAMP:20260423T044137
CREATED:20250930T191631Z
LAST-MODIFIED:20250930T191631Z
UID:10001166-1765994400-1766001600@alkoranshriners.com
SUMMARY:Massillon Shrine Club
DESCRIPTION:
URL:https://alkoranshriners.com/event/massillon-shrine-club-2/2025-12-17/
LOCATION:Massillon Masonic Temple (Clinton Lodge #47)\, 22nd St SW\, Massillon\, OH\, 44647
END:VEVENT
BEGIN:VEVENT
DTSTART;TZID=America/New_York:20251216T180000
DTEND;TZID=America/New_York:20251216T200000
DTSTAMP:20260423T044137
CREATED:20250722T124435Z
LAST-MODIFIED:20250930T191253Z
UID:10001107-1765908000-1765915200@alkoranshriners.com
SUMMARY:Mariner's Meeting
DESCRIPTION:
URL:https://alkoranshriners.com/event/mariners-meeting-2/2025-12-16/
ORGANIZER;CN="Al Koran Shriners":MAILTO:clevelandshriners@gmail.com
END:VEVENT
BEGIN:VEVENT
DTSTART;VALUE=DATE:20251216
DTEND;VALUE=DATE:20251217
DTSTAMP:20260423T044137
CREATED:20250512T193053Z
LAST-MODIFIED:20250606T125019Z
UID:10000386-1765843200-1765929599@alkoranshriners.com
SUMMARY:Mariners Meeting
DESCRIPTION:
URL:https://alkoranshriners.com/event/mariners-meeting/2025-12-16/
END:VEVENT
BEGIN:VEVENT
DTSTART;TZID=America/New_York:20251215T180000
DTEND;TZID=America/New_York:20251215T210000
DTSTAMP:20260423T044137
CREATED:20251204T181446Z
LAST-MODIFIED:20251204T181446Z
UID:10001230-1765821600-1765832400@alkoranshriners.com
SUMMARY:Al Koran December Business Meeting
DESCRIPTION:Official Call of the Potentate \nTo All: \nThe regular June  Business meeting of Al Koran Shriners of Cleveland\, Ohio\, will be held on December 15\,   at 7 pm at the Berea Masonic Center 366 Eastland Road in Berea\, Ohio. \nLadies are welcome\, and the Business meeting will be open to them! \nThere will be a dinner preceding the meeting. \nDinner consists of: \nPork Tenderloin \nPerogies \nSalad \nDesert \n  \nDinner is at 6 pm. And costs $15.00 per person! \nReservations are required             NO Reservation No Dinner \nPlease send an email to \nklecantom@hotmail.com or to cevelandshriners@gmail.com or call the office and leave a message at 440-546-9866. \nYou can now pay by credit card online at alkoranshriners.com \nUse the “pay dues” or “donate now” tab in the upper right corner.  Please state reason as dinner meeting.  \n*Reservation by Friday the 12th *
URL:https://alkoranshriners.com/event/al-koran-december-business-meeting/
LOCATION:Berea Masonic Temple\, 366 Eastland\, Berea\, OH\, 44017\, United States
ORGANIZER;CN="Al Koran Shriners":MAILTO:clevelandshriners@gmail.com
END:VEVENT
BEGIN:VEVENT
DTSTART;TZID=America/New_York:20251214T130000
DTEND;TZID=America/New_York:20251214T160000
DTSTAMP:20260423T044137
CREATED:20251204T182939Z
LAST-MODIFIED:20251205T163531Z
UID:10001232-1765717200-1765728000@alkoranshriners.com
SUMMARY:Al Koran Mariners Change of Watch
DESCRIPTION:
URL:https://alkoranshriners.com/event/al-koran-mariners-change-of-watch/
LOCATION:Rocky River Yacht Club\, 200 Yacht Club Dr\, Rocky River\, OH\, 44116\, United States
ORGANIZER;CN="Al Koran Shriners":MAILTO:clevelandshriners@gmail.com
END:VEVENT
BEGIN:VEVENT
DTSTART;TZID=America/New_York:20251210T173000
DTEND;TZID=America/New_York:20251210T210000
DTSTAMP:20260423T044137
CREATED:20250512T191711Z
LAST-MODIFIED:20250606T124632Z
UID:10000206-1765387800-1765400400@alkoranshriners.com
SUMMARY:Lakewood Shrine Club Meeting
DESCRIPTION:
URL:https://alkoranshriners.com/event/lakewood-shrine-club-meeting/2025-12-10/
LOCATION:Cleveland Yachting Club\, 200 Yacht Club Dr\, Rocky River\, OH\, 44116\, United States
END:VEVENT
BEGIN:VEVENT
DTSTART;TZID=America/New_York:20251208T190000
DTEND;TZID=America/New_York:20251208T200000
DTSTAMP:20260423T044137
CREATED:20250512T192840Z
LAST-MODIFIED:20250616T194145Z
UID:10000266-1765220400-1765224000@alkoranshriners.com
SUMMARY:Hunters Meeting
DESCRIPTION:
URL:https://alkoranshriners.com/event/hunters-meeting/2025-12-08/
LOCATION:Al Koran Office\, 6801 OH-291\, Suite B\, Middleburg Heights\, OH\, 44130\, United States
END:VEVENT
BEGIN:VEVENT
DTSTART;TZID=America/New_York:20251208T180000
DTEND;TZID=America/New_York:20251208T190000
DTSTAMP:20260423T044137
CREATED:20250512T192758Z
LAST-MODIFIED:20250605T135856Z
UID:10000020-1765216800-1765220400@alkoranshriners.com
SUMMARY:Divan and Board of Directors Meeting
DESCRIPTION:
URL:https://alkoranshriners.com/event/divan-and-board-of-directors-meeting/2025-12-08/
LOCATION:Al Koran Office\, 6801 OH-291\, Suite B\, Middleburg Heights\, OH\, 44130\, United States
ORGANIZER;CN="Al Koran Shriners":MAILTO:clevelandshriners@gmail.com
END:VEVENT
BEGIN:VEVENT
DTSTART;TZID=America/New_York:20251206T130000
DTEND;TZID=America/New_York:20251206T150000
DTSTAMP:20260423T044137
CREATED:20251205T165237Z
LAST-MODIFIED:20251205T165237Z
UID:10000467-1765026000-1765033200@alkoranshriners.com
SUMMARY:Bourbon-Stogies
DESCRIPTION:
URL:https://alkoranshriners.com/event/bourbon-stogies-2/2025-12-06/
END:VEVENT
BEGIN:VEVENT
DTSTART;TZID=America/New_York:20251205T080000
DTEND;TZID=America/New_York:20251205T170000
DTSTAMP:20260423T044137
CREATED:20251205T165237Z
LAST-MODIFIED:20251205T165237Z
UID:10001290-1764921600-1764954000@alkoranshriners.com
SUMMARY:Bourbon-Stogies
DESCRIPTION:
URL:https://alkoranshriners.com/event/bourbon-stogies-2/2025-12-05/
END:VEVENT
BEGIN:VEVENT
DTSTART;TZID=America/New_York:20251205T080000
DTEND;TZID=America/New_York:20251205T170000
DTSTAMP:20260423T044137
CREATED:20250930T191518Z
LAST-MODIFIED:20250930T191518Z
UID:10000826-1764921600-1764954000@alkoranshriners.com
SUMMARY:Mansfield Shrine Club
DESCRIPTION:
URL:https://alkoranshriners.com/event/mansfield-shrine-club-2/2025-12-05/
LOCATION:Baku Grotto\, 747 S Main St\, Mansfield\, OH\, 44907\, United States
END:VEVENT
BEGIN:VEVENT
DTSTART;TZID=America/New_York:20251203T180000
DTEND;TZID=America/New_York:20251203T200000
DTSTAMP:20260423T044137
CREATED:20250606T130555Z
LAST-MODIFIED:20250930T191933Z
UID:10000768-1764784800-1764792000@alkoranshriners.com
SUMMARY:Lorain County Shrine Club & Fire Brigade
DESCRIPTION:
URL:https://alkoranshriners.com/event/lorain-county-shrine-club-fire-brigade/2025-12-03/
END:VEVENT
BEGIN:VEVENT
DTSTART;TZID=America/New_York:20251201T180000
DTEND;TZID=America/New_York:20251201T200000
DTSTAMP:20260423T044137
CREATED:20250512T192700Z
LAST-MODIFIED:20250606T124119Z
UID:10000140-1764612000-1764619200@alkoranshriners.com
SUMMARY:Mid-Ohio Shrine Club Meeting
DESCRIPTION:
URL:https://alkoranshriners.com/event/mid-ohio-shrine-club-meeting/2025-12-01/
LOCATION:Old Bag of Nails\, 625 Lexington Ave #7\, Mansfield\, OH\, 44907\, United States
END:VEVENT
BEGIN:VEVENT
DTSTART;TZID=America/New_York:20251126T180000
DTEND;TZID=America/New_York:20251126T200000
DTSTAMP:20260423T044137
CREATED:20250606T130337Z
LAST-MODIFIED:20250930T190850Z
UID:10000984-1764180000-1764187200@alkoranshriners.com
SUMMARY:Hillbilly Crooked River Clan #16 Meeting
DESCRIPTION:
URL:https://alkoranshriners.com/event/hillbilly-crooked-river-clan-16/2025-11-26/
LOCATION:St. Matthew’s Episcopal Church\, 9549 Highland Dr\, Brecksville\, OH\, 44141\, United States
END:VEVENT
BEGIN:VEVENT
DTSTART;TZID=America/New_York:20251124T180000
DTEND;TZID=America/New_York:20251124T200000
DTSTAMP:20260423T044137
CREATED:20250606T130759Z
LAST-MODIFIED:20250618T141551Z
UID:10000908-1764007200-1764014400@alkoranshriners.com
SUMMARY:Legion of Honor
DESCRIPTION:
URL:https://alkoranshriners.com/event/legion-of-honor/2025-11-24/
LOCATION:St. Matthew’s Episcopal Church\, 9549 Highland Dr\, Brecksville\, OH\, 44141\, United States
END:VEVENT
BEGIN:VEVENT
DTSTART;TZID=America/New_York:20251124T180000
DTEND;TZID=America/New_York:20251124T200000
DTSTAMP:20260423T044137
CREATED:20250512T193459Z
LAST-MODIFIED:20250606T124855Z
UID:10000325-1764007200-1764014400@alkoranshriners.com
SUMMARY:Krazy Kops Meeting
DESCRIPTION:
URL:https://alkoranshriners.com/event/krazy-kops-meeting/2025-11-24/
LOCATION:Teamz Restaurant & Bar\, 6611 Eastland Rd\, Middleburg Heights\, OH\, 44130\, United States
END:VEVENT
BEGIN:VEVENT
DTSTART;TZID=America/New_York:20251120T180000
DTEND;TZID=America/New_York:20251120T200000
DTSTAMP:20260423T044137
CREATED:20250512T192559Z
LAST-MODIFIED:20250606T123903Z
UID:10000079-1763661600-1763668800@alkoranshriners.com
SUMMARY:Youngstown Shrine Club Meeting
DESCRIPTION:
URL:https://alkoranshriners.com/event/youngstown-shrine-club-meeting/2025-11-20/
LOCATION:Youngstown Shrine Club\, 1735 S Range\, North Lima\, OH\, 44452\, United States
END:VEVENT
BEGIN:VEVENT
DTSTART;VALUE=DATE:20251120
DTEND;VALUE=DATE:20251121
DTSTAMP:20260423T044137
CREATED:20250722T124240Z
LAST-MODIFIED:20250930T191012Z
UID:10001045-1763596800-1763683199@alkoranshriners.com
SUMMARY:Youngstown Shrine Club Meeting
DESCRIPTION:
URL:https://alkoranshriners.com/event/youngstown-shrine-club-dinner-meeting/2025-11-20/
LOCATION:Youngstown Shrine Club\, 1735 S Range\, North Lima\, OH\, 44452\, United States
ORGANIZER;CN="Al Koran Shriners":MAILTO:clevelandshriners@gmail.com
END:VEVENT
BEGIN:VEVENT
DTSTART;TZID=America/New_York:20251119T180000
DTEND;TZID=America/New_York:20251119T200000
DTSTAMP:20260423T044137
CREATED:20250930T191631Z
LAST-MODIFIED:20250930T191631Z
UID:10001165-1763575200-1763582400@alkoranshriners.com
SUMMARY:Massillon Shrine Club
DESCRIPTION:
URL:https://alkoranshriners.com/event/massillon-shrine-club-2/2025-11-19/
LOCATION:Massillon Masonic Temple (Clinton Lodge #47)\, 22nd St SW\, Massillon\, OH\, 44647
END:VEVENT
BEGIN:VEVENT
DTSTART;TZID=America/New_York:20251118T180000
DTEND;TZID=America/New_York:20251118T200000
DTSTAMP:20260423T044137
CREATED:20250722T124435Z
LAST-MODIFIED:20250930T191253Z
UID:10001106-1763488800-1763496000@alkoranshriners.com
SUMMARY:Mariner's Meeting
DESCRIPTION:
URL:https://alkoranshriners.com/event/mariners-meeting-2/2025-11-18/
ORGANIZER;CN="Al Koran Shriners":MAILTO:clevelandshriners@gmail.com
END:VEVENT
BEGIN:VEVENT
DTSTART;VALUE=DATE:20251118
DTEND;VALUE=DATE:20251119
DTSTAMP:20260423T044137
CREATED:20250512T193053Z
LAST-MODIFIED:20250606T125019Z
UID:10000385-1763424000-1763510399@alkoranshriners.com
SUMMARY:Mariners Meeting
DESCRIPTION:
URL:https://alkoranshriners.com/event/mariners-meeting/2025-11-18/
END:VEVENT
BEGIN:VEVENT
DTSTART;TZID=America/New_York:20251112T173000
DTEND;TZID=America/New_York:20251112T210000
DTSTAMP:20260423T044137
CREATED:20250512T191711Z
LAST-MODIFIED:20250606T124632Z
UID:10000205-1762968600-1762981200@alkoranshriners.com
SUMMARY:Lakewood Shrine Club Meeting
DESCRIPTION:
URL:https://alkoranshriners.com/event/lakewood-shrine-club-meeting/2025-11-12/
LOCATION:Cleveland Yachting Club\, 200 Yacht Club Dr\, Rocky River\, OH\, 44116\, United States
END:VEVENT
BEGIN:VEVENT
DTSTART;TZID=America/New_York:20251110T190000
DTEND;TZID=America/New_York:20251110T200000
DTSTAMP:20260423T044137
CREATED:20250512T192840Z
LAST-MODIFIED:20250616T194145Z
UID:10000265-1762801200-1762804800@alkoranshriners.com
SUMMARY:Hunters Meeting
DESCRIPTION:
URL:https://alkoranshriners.com/event/hunters-meeting/2025-11-10/
LOCATION:Al Koran Office\, 6801 OH-291\, Suite B\, Middleburg Heights\, OH\, 44130\, United States
END:VEVENT
BEGIN:VEVENT
DTSTART;TZID=America/New_York:20251110T180000
DTEND;TZID=America/New_York:20251110T190000
DTSTAMP:20260423T044137
CREATED:20250512T192758Z
LAST-MODIFIED:20250605T135856Z
UID:10000019-1762797600-1762801200@alkoranshriners.com
SUMMARY:Divan and Board of Directors Meeting
DESCRIPTION:
URL:https://alkoranshriners.com/event/divan-and-board-of-directors-meeting/2025-11-10/
LOCATION:Al Koran Office\, 6801 OH-291\, Suite B\, Middleburg Heights\, OH\, 44130\, United States
ORGANIZER;CN="Al Koran Shriners":MAILTO:clevelandshriners@gmail.com
END:VEVENT
BEGIN:VEVENT
DTSTART;TZID=America/New_York:20251107T130000
DTEND;TZID=America/New_York:20251107T150000
DTSTAMP:20260423T044137
CREATED:20250606T125835Z
LAST-MODIFIED:20251205T162511Z
UID:10001238-1762520400-1762527600@alkoranshriners.com
SUMMARY:Bourbon-Stogies
DESCRIPTION:
URL:https://alkoranshriners.com/event/bourbon-stogies/2025-11-07/
END:VEVENT
BEGIN:VEVENT
DTSTART;TZID=America/New_York:20251105T180000
DTEND;TZID=America/New_York:20251105T200000
DTSTAMP:20260423T044137
CREATED:20250606T130555Z
LAST-MODIFIED:20250930T191933Z
UID:10000767-1762365600-1762372800@alkoranshriners.com
SUMMARY:Lorain County Shrine Club & Fire Brigade
DESCRIPTION:
URL:https://alkoranshriners.com/event/lorain-county-shrine-club-fire-brigade/2025-11-05/
END:VEVENT
BEGIN:VEVENT
DTSTART;TZID=America/New_York:20251103T180000
DTEND;TZID=America/New_York:20251103T200000
DTSTAMP:20260423T044137
CREATED:20250512T192700Z
LAST-MODIFIED:20250606T124119Z
UID:10000139-1762192800-1762200000@alkoranshriners.com
SUMMARY:Mid-Ohio Shrine Club Meeting
DESCRIPTION:
URL:https://alkoranshriners.com/event/mid-ohio-shrine-club-meeting/2025-11-03/
LOCATION:Old Bag of Nails\, 625 Lexington Ave #7\, Mansfield\, OH\, 44907\, United States
END:VEVENT
END:VCALENDAR