BEGIN:VCALENDAR
VERSION:2.0
PRODID:-//Al Koran Shriners - ECPv6.15.20//NONSGML v1.0//EN
CALSCALE:GREGORIAN
METHOD:PUBLISH
X-ORIGINAL-URL:https://alkoranshriners.com
X-WR-CALDESC:Events for Al Koran Shriners
REFRESH-INTERVAL;VALUE=DURATION:PT1H
X-Robots-Tag:noindex
X-PUBLISHED-TTL:PT1H
BEGIN:VTIMEZONE
TZID:America/New_York
BEGIN:DAYLIGHT
TZOFFSETFROM:-0500
TZOFFSETTO:-0400
TZNAME:EDT
DTSTART:20240310T070000
END:DAYLIGHT
BEGIN:STANDARD
TZOFFSETFROM:-0400
TZOFFSETTO:-0500
TZNAME:EST
DTSTART:20241103T060000
END:STANDARD
BEGIN:DAYLIGHT
TZOFFSETFROM:-0500
TZOFFSETTO:-0400
TZNAME:EDT
DTSTART:20250309T070000
END:DAYLIGHT
BEGIN:STANDARD
TZOFFSETFROM:-0400
TZOFFSETTO:-0500
TZNAME:EST
DTSTART:20251102T060000
END:STANDARD
BEGIN:DAYLIGHT
TZOFFSETFROM:-0500
TZOFFSETTO:-0400
TZNAME:EDT
DTSTART:20260308T070000
END:DAYLIGHT
BEGIN:STANDARD
TZOFFSETFROM:-0400
TZOFFSETTO:-0500
TZNAME:EST
DTSTART:20261101T060000
END:STANDARD
END:VTIMEZONE
BEGIN:VEVENT
DTSTART;TZID=America/New_York:20250619T180000
DTEND;TZID=America/New_York:20250619T200000
DTSTAMP:20260423T074823
CREATED:20250512T192559Z
LAST-MODIFIED:20250606T123903Z
UID:10000074-1750356000-1750363200@alkoranshriners.com
SUMMARY:Youngstown Shrine Club Meeting
DESCRIPTION:
URL:https://alkoranshriners.com/event/youngstown-shrine-club-meeting/2025-06-19/
LOCATION:Youngstown Shrine Club\, 1735 S Range\, North Lima\, OH\, 44452\, United States
END:VEVENT
BEGIN:VEVENT
DTSTART;TZID=America/New_York:20250623T180000
DTEND;TZID=America/New_York:20250623T200000
DTSTAMP:20260423T074823
CREATED:20250512T193459Z
LAST-MODIFIED:20250606T124855Z
UID:10000320-1750701600-1750708800@alkoranshriners.com
SUMMARY:Krazy Kops Meeting
DESCRIPTION:
URL:https://alkoranshriners.com/event/krazy-kops-meeting/2025-06-23/
LOCATION:Teamz Restaurant & Bar\, 6611 Eastland Rd\, Middleburg Heights\, OH\, 44130\, United States
END:VEVENT
BEGIN:VEVENT
DTSTART;TZID=America/New_York:20250623T180000
DTEND;TZID=America/New_York:20250623T200000
DTSTAMP:20260423T074823
CREATED:20250606T130759Z
LAST-MODIFIED:20250618T141551Z
UID:10000823-1750701600-1750708800@alkoranshriners.com
SUMMARY:Legion of Honor
DESCRIPTION:
URL:https://alkoranshriners.com/event/legion-of-honor/2025-06-23/
LOCATION:St. Matthew’s Episcopal Church\, 9549 Highland Dr\, Brecksville\, OH\, 44141\, United States
END:VEVENT
BEGIN:VEVENT
DTSTART;TZID=America/New_York:20250625T180000
DTEND;TZID=America/New_York:20250625T200000
DTSTAMP:20260423T074823
CREATED:20250606T130337Z
LAST-MODIFIED:20250930T190850Z
UID:10000979-1750874400-1750881600@alkoranshriners.com
SUMMARY:Hillbilly Crooked River Clan #16 Meeting
DESCRIPTION:
URL:https://alkoranshriners.com/event/hillbilly-crooked-river-clan-16/2025-06-25/
LOCATION:St. Matthew’s Episcopal Church\, 9549 Highland Dr\, Brecksville\, OH\, 44141\, United States
END:VEVENT
BEGIN:VEVENT
DTSTART;VALUE=DATE:20250629
DTEND;VALUE=DATE:20250704
DTSTAMP:20260423T074823
CREATED:20250620T173914Z
LAST-MODIFIED:20250620T173917Z
UID:10000967-1751155200-1751587199@alkoranshriners.com
SUMMARY:151st Imperial Session
DESCRIPTION:
URL:https://alkoranshriners.com/event/151st-imperial-session/
CATEGORIES:Special Events
END:VEVENT
BEGIN:VEVENT
DTSTART;TZID=America/New_York:20250702T180000
DTEND;TZID=America/New_York:20250702T200000
DTSTAMP:20260423T074823
CREATED:20250606T130555Z
LAST-MODIFIED:20250930T191933Z
UID:10000763-1751479200-1751486400@alkoranshriners.com
SUMMARY:Lorain County Shrine Club & Fire Brigade
DESCRIPTION:
URL:https://alkoranshriners.com/event/lorain-county-shrine-club-fire-brigade/2025-07-02/
END:VEVENT
BEGIN:VEVENT
DTSTART;TZID=America/New_York:20250707T130000
DTEND;TZID=America/New_York:20250707T150000
DTSTAMP:20260423T074823
CREATED:20250606T125835Z
LAST-MODIFIED:20251205T162511Z
UID:10001235-1751893200-1751900400@alkoranshriners.com
SUMMARY:Bourbon-Stogies
DESCRIPTION:
URL:https://alkoranshriners.com/event/bourbon-stogies/2025-07-07/
END:VEVENT
BEGIN:VEVENT
DTSTART;TZID=America/New_York:20250707T180000
DTEND;TZID=America/New_York:20250707T200000
DTSTAMP:20260423T074823
CREATED:20250512T192700Z
LAST-MODIFIED:20250606T124119Z
UID:10000135-1751911200-1751918400@alkoranshriners.com
SUMMARY:Mid-Ohio Shrine Club Meeting
DESCRIPTION:
URL:https://alkoranshriners.com/event/mid-ohio-shrine-club-meeting/2025-07-07/
LOCATION:Old Bag of Nails\, 625 Lexington Ave #7\, Mansfield\, OH\, 44907\, United States
END:VEVENT
BEGIN:VEVENT
DTSTART;TZID=America/New_York:20250709T173000
DTEND;TZID=America/New_York:20250709T210000
DTSTAMP:20260423T074823
CREATED:20250512T191711Z
LAST-MODIFIED:20250606T124632Z
UID:10000201-1752082200-1752094800@alkoranshriners.com
SUMMARY:Lakewood Shrine Club Meeting
DESCRIPTION:
URL:https://alkoranshriners.com/event/lakewood-shrine-club-meeting/2025-07-09/
LOCATION:Cleveland Yachting Club\, 200 Yacht Club Dr\, Rocky River\, OH\, 44116\, United States
END:VEVENT
BEGIN:VEVENT
DTSTART;TZID=America/New_York:20250714T180000
DTEND;TZID=America/New_York:20250714T190000
DTSTAMP:20260423T074823
CREATED:20250512T192758Z
LAST-MODIFIED:20250605T135856Z
UID:10000015-1752516000-1752519600@alkoranshriners.com
SUMMARY:Divan and Board of Directors Meeting
DESCRIPTION:
URL:https://alkoranshriners.com/event/divan-and-board-of-directors-meeting/2025-07-14/
LOCATION:Al Koran Office\, 6801 OH-291\, Suite B\, Middleburg Heights\, OH\, 44130\, United States
ORGANIZER;CN="Al Koran Shriners":MAILTO:clevelandshriners@gmail.com
END:VEVENT
BEGIN:VEVENT
DTSTART;TZID=America/New_York:20250714T190000
DTEND;TZID=America/New_York:20250714T200000
DTSTAMP:20260423T074823
CREATED:20250512T192840Z
LAST-MODIFIED:20250616T194145Z
UID:10000261-1752519600-1752523200@alkoranshriners.com
SUMMARY:Hunters Meeting
DESCRIPTION:
URL:https://alkoranshriners.com/event/hunters-meeting/2025-07-14/
LOCATION:Al Koran Office\, 6801 OH-291\, Suite B\, Middleburg Heights\, OH\, 44130\, United States
END:VEVENT
BEGIN:VEVENT
DTSTART;VALUE=DATE:20250715
DTEND;VALUE=DATE:20250716
DTSTAMP:20260423T074823
CREATED:20250512T193053Z
LAST-MODIFIED:20250606T125019Z
UID:10000381-1752537600-1752623999@alkoranshriners.com
SUMMARY:Mariners Meeting
DESCRIPTION:
URL:https://alkoranshriners.com/event/mariners-meeting/2025-07-15/
END:VEVENT
BEGIN:VEVENT
DTSTART;VALUE=DATE:20250717
DTEND;VALUE=DATE:20250718
DTSTAMP:20260423T074823
CREATED:20250722T124259Z
LAST-MODIFIED:20250722T124259Z
UID:10000974-1752710400-1752796799@alkoranshriners.com
SUMMARY:Al Koran Family Picnic
DESCRIPTION:
URL:https://alkoranshriners.com/event/al-koran-family-picnic/
ORGANIZER;CN="Al Koran Shriners":MAILTO:clevelandshriners@gmail.com
END:VEVENT
BEGIN:VEVENT
DTSTART;TZID=America/New_York:20250717T180000
DTEND;TZID=America/New_York:20250717T200000
DTSTAMP:20260423T074823
CREATED:20250512T192559Z
LAST-MODIFIED:20250606T123903Z
UID:10000075-1752775200-1752782400@alkoranshriners.com
SUMMARY:Youngstown Shrine Club Meeting
DESCRIPTION:
URL:https://alkoranshriners.com/event/youngstown-shrine-club-meeting/2025-07-17/
LOCATION:Youngstown Shrine Club\, 1735 S Range\, North Lima\, OH\, 44452\, United States
END:VEVENT
BEGIN:VEVENT
DTSTART;TZID=America/New_York:20250723T180000
DTEND;TZID=America/New_York:20250723T200000
DTSTAMP:20260423T074823
CREATED:20250606T130337Z
LAST-MODIFIED:20250930T190850Z
UID:10000980-1753293600-1753300800@alkoranshriners.com
SUMMARY:Hillbilly Crooked River Clan #16 Meeting
DESCRIPTION:
URL:https://alkoranshriners.com/event/hillbilly-crooked-river-clan-16/2025-07-23/
LOCATION:St. Matthew’s Episcopal Church\, 9549 Highland Dr\, Brecksville\, OH\, 44141\, United States
END:VEVENT
BEGIN:VEVENT
DTSTART;TZID=America/New_York:20250725T000000
DTEND;TZID=America/New_York:20250725T000000
DTSTAMP:20260423T074823
CREATED:20250722T124153Z
LAST-MODIFIED:20250722T125350Z
UID:10000976-1753401600-1753401600@alkoranshriners.com
SUMMARY:Krazy Kops Meeting
DESCRIPTION:
URL:https://alkoranshriners.com/event/krazy-kops-meeting-at-teamz/
LOCATION:Teamz Restaurant & Bar\, 6611 Eastland Rd\, Middleburg Heights\, OH\, 44130\, United States
ORGANIZER;CN="Al Koran Shriners":MAILTO:clevelandshriners@gmail.com
END:VEVENT
BEGIN:VEVENT
DTSTART;TZID=America/New_York:20250725T000000
DTEND;TZID=America/New_York:20250726T000000
DTSTAMP:20260423T074823
CREATED:20250722T124422Z
LAST-MODIFIED:20250722T125421Z
UID:10000969-1753401600-1753488000@alkoranshriners.com
SUMMARY:Mariner's IOBG Put-in-Bay Hatch Club
DESCRIPTION:
URL:https://alkoranshriners.com/event/mariners-iobg-put-in-bay-hatch-club/
ORGANIZER;CN="Al Koran Shriners":MAILTO:clevelandshriners@gmail.com
END:VEVENT
BEGIN:VEVENT
DTSTART;VALUE=DATE:20250726
DTEND;VALUE=DATE:20250727
DTSTAMP:20260423T074823
CREATED:20250722T124409Z
LAST-MODIFIED:20250722T124409Z
UID:10000970-1753488000-1753574399@alkoranshriners.com
SUMMARY:Mid-Ohio Shriners Summer Festival
DESCRIPTION:
URL:https://alkoranshriners.com/event/mid-ohio-shriners-summer-festival/
ORGANIZER;CN="Al Koran Shriners":MAILTO:clevelandshriners@gmail.com
END:VEVENT
BEGIN:VEVENT
DTSTART;TZID=America/New_York:20250728T180000
DTEND;TZID=America/New_York:20250728T200000
DTSTAMP:20260423T074823
CREATED:20250512T193459Z
LAST-MODIFIED:20250606T124855Z
UID:10000321-1753725600-1753732800@alkoranshriners.com
SUMMARY:Krazy Kops Meeting
DESCRIPTION:
URL:https://alkoranshriners.com/event/krazy-kops-meeting/2025-07-28/
LOCATION:Teamz Restaurant & Bar\, 6611 Eastland Rd\, Middleburg Heights\, OH\, 44130\, United States
END:VEVENT
BEGIN:VEVENT
DTSTART;TZID=America/New_York:20250728T180000
DTEND;TZID=America/New_York:20250728T200000
DTSTAMP:20260423T074823
CREATED:20250606T130759Z
LAST-MODIFIED:20250618T141551Z
UID:10000904-1753725600-1753732800@alkoranshriners.com
SUMMARY:Legion of Honor
DESCRIPTION:
URL:https://alkoranshriners.com/event/legion-of-honor/2025-07-28/
LOCATION:St. Matthew’s Episcopal Church\, 9549 Highland Dr\, Brecksville\, OH\, 44141\, United States
END:VEVENT
BEGIN:VEVENT
DTSTART;TZID=America/New_York:20250802T120000
DTEND;TZID=America/New_York:20250802T150000
DTSTAMP:20260423T074823
CREATED:20250722T124339Z
LAST-MODIFIED:20250729T193408Z
UID:10000972-1754136000-1754146800@alkoranshriners.com
SUMMARY:Krazy Kops at Home Days Parade
DESCRIPTION:108TH ANNUAL HOME DAYS PARADE \nStaging will occur at the Independence Fieldhouse and the parade will continue through Elmwood Park from south to north. \n2025 Home Days Parade Guidelines
URL:https://alkoranshriners.com/event/krazy-kops-at-home-days-parade/
LOCATION:Home Days Parade\, 6354 Selig Dr\, Independence\, OH\, 44131\, United States
END:VEVENT
BEGIN:VEVENT
DTSTART;TZID=America/New_York:20250802T160000
DTEND;TZID=America/New_York:20250802T210000
DTSTAMP:20260423T074823
CREATED:20250722T124356Z
LAST-MODIFIED:20250729T192800Z
UID:10000971-1754150400-1754168400@alkoranshriners.com
SUMMARY:Harmony & Horsepower
DESCRIPTION:Rev up your engines for Harmony and Horsepower! This exciting event on August 2nd from 4:00 PM to 9:00 PM is a must-attend for classic car enthusiasts and music lovers alike. Stroll through an impressive display of vintage and classic cars\, showcasing the beauty and power of automotive history. \nWhile you admire the cars\, enjoy live music by Poobah and indulge in mouth-watering BBQ from JW’s BBQ. This event offers the perfect blend of horsepower and harmony\, providing entertainment for the whole family. \nTickets: $10 each \nDon’t miss out on this unique event! Mark your calendars\, bring your friends and family\, and join us for an evening of classic cars\, great music\, and delicious food.
URL:https://alkoranshriners.com/event/harmony-horsepower/
LOCATION:Youngstown Shrine Club\, 1735 S Range\, North Lima\, OH\, 44452\, United States
END:VEVENT
BEGIN:VEVENT
DTSTART;TZID=America/New_York:20250804T180000
DTEND;TZID=America/New_York:20250804T200000
DTSTAMP:20260423T074823
CREATED:20250512T192700Z
LAST-MODIFIED:20250606T124119Z
UID:10000136-1754330400-1754337600@alkoranshriners.com
SUMMARY:Mid-Ohio Shrine Club Meeting
DESCRIPTION:
URL:https://alkoranshriners.com/event/mid-ohio-shrine-club-meeting/2025-08-04/
LOCATION:Old Bag of Nails\, 625 Lexington Ave #7\, Mansfield\, OH\, 44907\, United States
END:VEVENT
BEGIN:VEVENT
DTSTART;TZID=America/New_York:20250806T180000
DTEND;TZID=America/New_York:20250806T200000
DTSTAMP:20260423T074823
CREATED:20250606T130555Z
LAST-MODIFIED:20250930T191933Z
UID:10000764-1754503200-1754510400@alkoranshriners.com
SUMMARY:Lorain County Shrine Club & Fire Brigade
DESCRIPTION:
URL:https://alkoranshriners.com/event/lorain-county-shrine-club-fire-brigade/2025-08-06/
END:VEVENT
BEGIN:VEVENT
DTSTART;TZID=America/New_York:20250807T130000
DTEND;TZID=America/New_York:20250807T150000
DTSTAMP:20260423T074823
CREATED:20250606T125835Z
LAST-MODIFIED:20251205T162511Z
UID:10001236-1754571600-1754578800@alkoranshriners.com
SUMMARY:Bourbon-Stogies
DESCRIPTION:
URL:https://alkoranshriners.com/event/bourbon-stogies/2025-08-07/
END:VEVENT
BEGIN:VEVENT
DTSTART;VALUE=DATE:20250811
DTEND;VALUE=DATE:20250812
DTSTAMP:20260423T074823
CREATED:20250722T124211Z
LAST-MODIFIED:20250722T124211Z
UID:10000973-1754870400-1754956799@alkoranshriners.com
SUMMARY:Mid-Ohio Annual Golf Outing
DESCRIPTION:
URL:https://alkoranshriners.com/event/mid-ohio-annual-golf-outing/
ORGANIZER;CN="Al Koran Shriners":MAILTO:clevelandshriners@gmail.com
END:VEVENT
BEGIN:VEVENT
DTSTART;TZID=America/New_York:20250811T180000
DTEND;TZID=America/New_York:20250811T190000
DTSTAMP:20260423T074823
CREATED:20250512T192758Z
LAST-MODIFIED:20250605T135856Z
UID:10000016-1754935200-1754938800@alkoranshriners.com
SUMMARY:Divan and Board of Directors Meeting
DESCRIPTION:
URL:https://alkoranshriners.com/event/divan-and-board-of-directors-meeting/2025-08-11/
LOCATION:Al Koran Office\, 6801 OH-291\, Suite B\, Middleburg Heights\, OH\, 44130\, United States
ORGANIZER;CN="Al Koran Shriners":MAILTO:clevelandshriners@gmail.com
END:VEVENT
BEGIN:VEVENT
DTSTART;TZID=America/New_York:20250811T190000
DTEND;TZID=America/New_York:20250811T200000
DTSTAMP:20260423T074823
CREATED:20250512T192840Z
LAST-MODIFIED:20250616T194145Z
UID:10000262-1754938800-1754942400@alkoranshriners.com
SUMMARY:Hunters Meeting
DESCRIPTION:
URL:https://alkoranshriners.com/event/hunters-meeting/2025-08-11/
LOCATION:Al Koran Office\, 6801 OH-291\, Suite B\, Middleburg Heights\, OH\, 44130\, United States
END:VEVENT
BEGIN:VEVENT
DTSTART;TZID=America/New_York:20250813T173000
DTEND;TZID=America/New_York:20250813T210000
DTSTAMP:20260423T074823
CREATED:20250512T191711Z
LAST-MODIFIED:20250606T124632Z
UID:10000202-1755106200-1755118800@alkoranshriners.com
SUMMARY:Lakewood Shrine Club Meeting
DESCRIPTION:
URL:https://alkoranshriners.com/event/lakewood-shrine-club-meeting/2025-08-13/
LOCATION:Cleveland Yachting Club\, 200 Yacht Club Dr\, Rocky River\, OH\, 44116\, United States
END:VEVENT
BEGIN:VEVENT
DTSTART;VALUE=DATE:20250819
DTEND;VALUE=DATE:20250820
DTSTAMP:20260423T074823
CREATED:20250512T193053Z
LAST-MODIFIED:20250606T125019Z
UID:10000382-1755561600-1755647999@alkoranshriners.com
SUMMARY:Mariners Meeting
DESCRIPTION:
URL:https://alkoranshriners.com/event/mariners-meeting/2025-08-19/
END:VEVENT
END:VCALENDAR