BEGIN:VCALENDAR
VERSION:2.0
PRODID:-//Al Koran Shriners - ECPv6.15.20//NONSGML v1.0//EN
CALSCALE:GREGORIAN
METHOD:PUBLISH
X-ORIGINAL-URL:https://alkoranshriners.com
X-WR-CALDESC:Events for Al Koran Shriners
REFRESH-INTERVAL;VALUE=DURATION:PT1H
X-Robots-Tag:noindex
X-PUBLISHED-TTL:PT1H
BEGIN:VTIMEZONE
TZID:America/New_York
BEGIN:DAYLIGHT
TZOFFSETFROM:-0500
TZOFFSETTO:-0400
TZNAME:EDT
DTSTART:20260308T070000
END:DAYLIGHT
BEGIN:STANDARD
TZOFFSETFROM:-0400
TZOFFSETTO:-0500
TZNAME:EST
DTSTART:20261101T060000
END:STANDARD
BEGIN:DAYLIGHT
TZOFFSETFROM:-0500
TZOFFSETTO:-0400
TZNAME:EDT
DTSTART:20270314T070000
END:DAYLIGHT
BEGIN:STANDARD
TZOFFSETFROM:-0400
TZOFFSETTO:-0500
TZNAME:EST
DTSTART:20271107T060000
END:STANDARD
BEGIN:DAYLIGHT
TZOFFSETFROM:-0500
TZOFFSETTO:-0400
TZNAME:EDT
DTSTART:20280312T070000
END:DAYLIGHT
BEGIN:STANDARD
TZOFFSETFROM:-0400
TZOFFSETTO:-0500
TZNAME:EST
DTSTART:20281105T060000
END:STANDARD
END:VTIMEZONE
BEGIN:VEVENT
DTSTART;VALUE=DATE:20271021
DTEND;VALUE=DATE:20271022
DTSTAMP:20260424T093446
CREATED:20250722T124240Z
LAST-MODIFIED:20250930T191012Z
UID:10001068-1824076800-1824163199@alkoranshriners.com
SUMMARY:Youngstown Shrine Club Meeting
DESCRIPTION:
URL:https://alkoranshriners.com/event/youngstown-shrine-club-dinner-meeting/2027-10-21/
LOCATION:Youngstown Shrine Club\, 1735 S Range\, North Lima\, OH\, 44452\, United States
ORGANIZER;CN="Al Koran Shriners":MAILTO:clevelandshriners@gmail.com
END:VEVENT
BEGIN:VEVENT
DTSTART;TZID=America/New_York:20271021T180000
DTEND;TZID=America/New_York:20271021T200000
DTSTAMP:20260424T093446
CREATED:20250512T192559Z
LAST-MODIFIED:20250606T123903Z
UID:10000102-1824141600-1824148800@alkoranshriners.com
SUMMARY:Youngstown Shrine Club Meeting
DESCRIPTION:
URL:https://alkoranshriners.com/event/youngstown-shrine-club-meeting/2027-10-21/
LOCATION:Youngstown Shrine Club\, 1735 S Range\, North Lima\, OH\, 44452\, United States
END:VEVENT
BEGIN:VEVENT
DTSTART;TZID=America/New_York:20271025T180000
DTEND;TZID=America/New_York:20271025T200000
DTSTAMP:20260424T093446
CREATED:20250512T193459Z
LAST-MODIFIED:20250606T124855Z
UID:10000348-1824487200-1824494400@alkoranshriners.com
SUMMARY:Krazy Kops Meeting
DESCRIPTION:
URL:https://alkoranshriners.com/event/krazy-kops-meeting/2027-10-25/
LOCATION:Teamz Restaurant & Bar\, 6611 Eastland Rd\, Middleburg Heights\, OH\, 44130\, United States
END:VEVENT
BEGIN:VEVENT
DTSTART;TZID=America/New_York:20271025T180000
DTEND;TZID=America/New_York:20271025T200000
DTSTAMP:20260424T093446
CREATED:20250606T130759Z
LAST-MODIFIED:20250618T141551Z
UID:10000931-1824487200-1824494400@alkoranshriners.com
SUMMARY:Legion of Honor
DESCRIPTION:
URL:https://alkoranshriners.com/event/legion-of-honor/2027-10-25/
LOCATION:St. Matthew’s Episcopal Church\, 9549 Highland Dr\, Brecksville\, OH\, 44141\, United States
END:VEVENT
BEGIN:VEVENT
DTSTART;TZID=America/New_York:20271026T180000
DTEND;TZID=America/New_York:20271026T200000
DTSTAMP:20260424T093446
CREATED:20260408T145522Z
LAST-MODIFIED:20260408T145522Z
UID:10001316-1824573600-1824580800@alkoranshriners.com
SUMMARY:Mariner's Meeting
DESCRIPTION:
URL:https://alkoranshriners.com/event/mariners-meeting-2-2/2027-10-26/
ORGANIZER;CN="Al Koran Shriners":MAILTO:clevelandshriners@gmail.com
END:VEVENT
BEGIN:VEVENT
DTSTART;TZID=America/New_York:20271026T180000
DTEND;TZID=America/New_York:20271026T200000
DTSTAMP:20260424T093446
CREATED:20260408T173107Z
LAST-MODIFIED:20260408T173107Z
UID:10001433-1824573600-1824580800@alkoranshriners.com
SUMMARY:Mariners Meeting
DESCRIPTION:
URL:https://alkoranshriners.com/event/mariners-meeting-3/2027-10-26/
END:VEVENT
BEGIN:VEVENT
DTSTART;TZID=America/New_York:20271027T180000
DTEND;TZID=America/New_York:20271027T200000
DTSTAMP:20260424T093446
CREATED:20250606T130337Z
LAST-MODIFIED:20250930T190850Z
UID:10001007-1824660000-1824667200@alkoranshriners.com
SUMMARY:Hillbilly Crooked River Clan #16 Meeting
DESCRIPTION:
URL:https://alkoranshriners.com/event/hillbilly-crooked-river-clan-16/2027-10-27/
LOCATION:St. Matthew’s Episcopal Church\, 9549 Highland Dr\, Brecksville\, OH\, 44141\, United States
END:VEVENT
BEGIN:VEVENT
DTSTART;TZID=America/New_York:20271101T180000
DTEND;TZID=America/New_York:20271101T200000
DTSTAMP:20260424T093446
CREATED:20250512T192700Z
LAST-MODIFIED:20250606T124119Z
UID:10000163-1825092000-1825099200@alkoranshriners.com
SUMMARY:Mid-Ohio Shrine Club Meeting
DESCRIPTION:
URL:https://alkoranshriners.com/event/mid-ohio-shrine-club-meeting/2027-11-01/
LOCATION:Old Bag of Nails\, 625 Lexington Ave #7\, Mansfield\, OH\, 44907\, United States
END:VEVENT
BEGIN:VEVENT
DTSTART;TZID=America/New_York:20271108T180000
DTEND;TZID=America/New_York:20271108T190000
DTSTAMP:20260424T093446
CREATED:20250512T192758Z
LAST-MODIFIED:20250605T135856Z
UID:10000043-1825696800-1825700400@alkoranshriners.com
SUMMARY:Divan and Board of Directors Meeting
DESCRIPTION:
URL:https://alkoranshriners.com/event/divan-and-board-of-directors-meeting/2027-11-08/
LOCATION:Al Koran Office\, 6801 OH-291\, Suite B\, Middleburg Heights\, OH\, 44130\, United States
ORGANIZER;CN="Al Koran Shriners":MAILTO:clevelandshriners@gmail.com
END:VEVENT
BEGIN:VEVENT
DTSTART;TZID=America/New_York:20271108T190000
DTEND;TZID=America/New_York:20271108T200000
DTSTAMP:20260424T093446
CREATED:20250512T192840Z
LAST-MODIFIED:20250616T194145Z
UID:10000289-1825700400-1825704000@alkoranshriners.com
SUMMARY:Hunters Meeting
DESCRIPTION:
URL:https://alkoranshriners.com/event/hunters-meeting/2027-11-08/
LOCATION:Al Koran Office\, 6801 OH-291\, Suite B\, Middleburg Heights\, OH\, 44130\, United States
END:VEVENT
BEGIN:VEVENT
DTSTART;TZID=America/New_York:20271110T173000
DTEND;TZID=America/New_York:20271110T210000
DTSTAMP:20260424T093446
CREATED:20250512T191711Z
LAST-MODIFIED:20250606T124632Z
UID:10000229-1825867800-1825880400@alkoranshriners.com
SUMMARY:Lakewood Shrine Club Meeting
DESCRIPTION:
URL:https://alkoranshriners.com/event/lakewood-shrine-club-meeting/2027-11-10/
LOCATION:Cleveland Yachting Club\, 200 Yacht Club Dr\, Rocky River\, OH\, 44116\, United States
END:VEVENT
BEGIN:VEVENT
DTSTART;TZID=America/New_York:20271110T190000
DTEND;TZID=America/New_York:20271110T210000
DTSTAMP:20260424T093446
CREATED:20260408T172936Z
LAST-MODIFIED:20260408T172937Z
UID:10001375-1825873200-1825880400@alkoranshriners.com
SUMMARY:Lorain County Shrine Club & Fire Brigade
DESCRIPTION:
URL:https://alkoranshriners.com/event/lorain-county-shrine-club-fire-brigade-2/2027-11-10/
END:VEVENT
BEGIN:VEVENT
DTSTART;TZID=America/New_York:20271117T180000
DTEND;TZID=America/New_York:20271117T200000
DTSTAMP:20260424T093446
CREATED:20250930T191631Z
LAST-MODIFIED:20250930T191631Z
UID:10001189-1826474400-1826481600@alkoranshriners.com
SUMMARY:Massillon Shrine Club
DESCRIPTION:
URL:https://alkoranshriners.com/event/massillon-shrine-club-2/2027-11-17/
LOCATION:Massillon Masonic Temple (Clinton Lodge #47)\, 22nd St SW\, Massillon\, OH\, 44647
END:VEVENT
BEGIN:VEVENT
DTSTART;VALUE=DATE:20271118
DTEND;VALUE=DATE:20271119
DTSTAMP:20260424T093446
CREATED:20250722T124240Z
LAST-MODIFIED:20250930T191012Z
UID:10001069-1826496000-1826582399@alkoranshriners.com
SUMMARY:Youngstown Shrine Club Meeting
DESCRIPTION:
URL:https://alkoranshriners.com/event/youngstown-shrine-club-dinner-meeting/2027-11-18/
LOCATION:Youngstown Shrine Club\, 1735 S Range\, North Lima\, OH\, 44452\, United States
ORGANIZER;CN="Al Koran Shriners":MAILTO:clevelandshriners@gmail.com
END:VEVENT
BEGIN:VEVENT
DTSTART;TZID=America/New_York:20271118T180000
DTEND;TZID=America/New_York:20271118T200000
DTSTAMP:20260424T093446
CREATED:20250512T192559Z
LAST-MODIFIED:20250606T123903Z
UID:10000103-1826560800-1826568000@alkoranshriners.com
SUMMARY:Youngstown Shrine Club Meeting
DESCRIPTION:
URL:https://alkoranshriners.com/event/youngstown-shrine-club-meeting/2027-11-18/
LOCATION:Youngstown Shrine Club\, 1735 S Range\, North Lima\, OH\, 44452\, United States
END:VEVENT
BEGIN:VEVENT
DTSTART;TZID=America/New_York:20271122T180000
DTEND;TZID=America/New_York:20271122T200000
DTSTAMP:20260424T093446
CREATED:20250512T193459Z
LAST-MODIFIED:20250606T124855Z
UID:10000349-1826906400-1826913600@alkoranshriners.com
SUMMARY:Krazy Kops Meeting
DESCRIPTION:
URL:https://alkoranshriners.com/event/krazy-kops-meeting/2027-11-22/
LOCATION:Teamz Restaurant & Bar\, 6611 Eastland Rd\, Middleburg Heights\, OH\, 44130\, United States
END:VEVENT
BEGIN:VEVENT
DTSTART;TZID=America/New_York:20271122T180000
DTEND;TZID=America/New_York:20271122T200000
DTSTAMP:20260424T093446
CREATED:20250606T130759Z
LAST-MODIFIED:20250618T141551Z
UID:10000932-1826906400-1826913600@alkoranshriners.com
SUMMARY:Legion of Honor
DESCRIPTION:
URL:https://alkoranshriners.com/event/legion-of-honor/2027-11-22/
LOCATION:St. Matthew’s Episcopal Church\, 9549 Highland Dr\, Brecksville\, OH\, 44141\, United States
END:VEVENT
BEGIN:VEVENT
DTSTART;TZID=America/New_York:20271123T180000
DTEND;TZID=America/New_York:20271123T200000
DTSTAMP:20260424T093446
CREATED:20260408T145522Z
LAST-MODIFIED:20260408T145522Z
UID:10001317-1826992800-1827000000@alkoranshriners.com
SUMMARY:Mariner's Meeting
DESCRIPTION:
URL:https://alkoranshriners.com/event/mariners-meeting-2-2/2027-11-23/
ORGANIZER;CN="Al Koran Shriners":MAILTO:clevelandshriners@gmail.com
END:VEVENT
BEGIN:VEVENT
DTSTART;TZID=America/New_York:20271123T180000
DTEND;TZID=America/New_York:20271123T200000
DTSTAMP:20260424T093446
CREATED:20260408T173107Z
LAST-MODIFIED:20260408T173107Z
UID:10001434-1826992800-1827000000@alkoranshriners.com
SUMMARY:Mariners Meeting
DESCRIPTION:
URL:https://alkoranshriners.com/event/mariners-meeting-3/2027-11-23/
END:VEVENT
BEGIN:VEVENT
DTSTART;TZID=America/New_York:20271124T180000
DTEND;TZID=America/New_York:20271124T200000
DTSTAMP:20260424T093446
CREATED:20250606T130337Z
LAST-MODIFIED:20250930T190850Z
UID:10001008-1827079200-1827086400@alkoranshriners.com
SUMMARY:Hillbilly Crooked River Clan #16 Meeting
DESCRIPTION:
URL:https://alkoranshriners.com/event/hillbilly-crooked-river-clan-16/2027-11-24/
LOCATION:St. Matthew’s Episcopal Church\, 9549 Highland Dr\, Brecksville\, OH\, 44141\, United States
END:VEVENT
BEGIN:VEVENT
DTSTART;TZID=America/New_York:20271203T080000
DTEND;TZID=America/New_York:20271203T170000
DTSTAMP:20260424T093446
CREATED:20250930T191518Z
LAST-MODIFIED:20250930T191518Z
UID:10000834-1827820800-1827853200@alkoranshriners.com
SUMMARY:Mansfield Shrine Club
DESCRIPTION:
URL:https://alkoranshriners.com/event/mansfield-shrine-club-2/2027-12-03/
LOCATION:Baku Grotto\, 747 S Main St\, Mansfield\, OH\, 44907\, United States
END:VEVENT
BEGIN:VEVENT
DTSTART;TZID=America/New_York:20271206T180000
DTEND;TZID=America/New_York:20271206T200000
DTSTAMP:20260424T093446
CREATED:20250512T192700Z
LAST-MODIFIED:20250606T124119Z
UID:10000164-1828116000-1828123200@alkoranshriners.com
SUMMARY:Mid-Ohio Shrine Club Meeting
DESCRIPTION:
URL:https://alkoranshriners.com/event/mid-ohio-shrine-club-meeting/2027-12-06/
LOCATION:Old Bag of Nails\, 625 Lexington Ave #7\, Mansfield\, OH\, 44907\, United States
END:VEVENT
BEGIN:VEVENT
DTSTART;TZID=America/New_York:20271208T173000
DTEND;TZID=America/New_York:20271208T210000
DTSTAMP:20260424T093446
CREATED:20250512T191711Z
LAST-MODIFIED:20250606T124632Z
UID:10000230-1828287000-1828299600@alkoranshriners.com
SUMMARY:Lakewood Shrine Club Meeting
DESCRIPTION:
URL:https://alkoranshriners.com/event/lakewood-shrine-club-meeting/2027-12-08/
LOCATION:Cleveland Yachting Club\, 200 Yacht Club Dr\, Rocky River\, OH\, 44116\, United States
END:VEVENT
BEGIN:VEVENT
DTSTART;TZID=America/New_York:20271208T190000
DTEND;TZID=America/New_York:20271208T210000
DTSTAMP:20260424T093446
CREATED:20260408T172936Z
LAST-MODIFIED:20260408T172937Z
UID:10001376-1828292400-1828299600@alkoranshriners.com
SUMMARY:Lorain County Shrine Club & Fire Brigade
DESCRIPTION:
URL:https://alkoranshriners.com/event/lorain-county-shrine-club-fire-brigade-2/2027-12-08/
END:VEVENT
BEGIN:VEVENT
DTSTART;TZID=America/New_York:20271213T180000
DTEND;TZID=America/New_York:20271213T190000
DTSTAMP:20260424T093446
CREATED:20250512T192758Z
LAST-MODIFIED:20250605T135856Z
UID:10000044-1828720800-1828724400@alkoranshriners.com
SUMMARY:Divan and Board of Directors Meeting
DESCRIPTION:
URL:https://alkoranshriners.com/event/divan-and-board-of-directors-meeting/2027-12-13/
LOCATION:Al Koran Office\, 6801 OH-291\, Suite B\, Middleburg Heights\, OH\, 44130\, United States
ORGANIZER;CN="Al Koran Shriners":MAILTO:clevelandshriners@gmail.com
END:VEVENT
BEGIN:VEVENT
DTSTART;TZID=America/New_York:20271213T190000
DTEND;TZID=America/New_York:20271213T200000
DTSTAMP:20260424T093446
CREATED:20250512T192840Z
LAST-MODIFIED:20250616T194145Z
UID:10000290-1828724400-1828728000@alkoranshriners.com
SUMMARY:Hunters Meeting
DESCRIPTION:
URL:https://alkoranshriners.com/event/hunters-meeting/2027-12-13/
LOCATION:Al Koran Office\, 6801 OH-291\, Suite B\, Middleburg Heights\, OH\, 44130\, United States
END:VEVENT
BEGIN:VEVENT
DTSTART;TZID=America/New_York:20271215T180000
DTEND;TZID=America/New_York:20271215T200000
DTSTAMP:20260424T093446
CREATED:20250930T191631Z
LAST-MODIFIED:20250930T191631Z
UID:10001190-1828893600-1828900800@alkoranshriners.com
SUMMARY:Massillon Shrine Club
DESCRIPTION:
URL:https://alkoranshriners.com/event/massillon-shrine-club-2/2027-12-15/
LOCATION:Massillon Masonic Temple (Clinton Lodge #47)\, 22nd St SW\, Massillon\, OH\, 44647
END:VEVENT
BEGIN:VEVENT
DTSTART;VALUE=DATE:20271216
DTEND;VALUE=DATE:20271217
DTSTAMP:20260424T093446
CREATED:20250722T124240Z
LAST-MODIFIED:20250930T191012Z
UID:10001070-1828915200-1829001599@alkoranshriners.com
SUMMARY:Youngstown Shrine Club Meeting
DESCRIPTION:
URL:https://alkoranshriners.com/event/youngstown-shrine-club-dinner-meeting/2027-12-16/
LOCATION:Youngstown Shrine Club\, 1735 S Range\, North Lima\, OH\, 44452\, United States
ORGANIZER;CN="Al Koran Shriners":MAILTO:clevelandshriners@gmail.com
END:VEVENT
BEGIN:VEVENT
DTSTART;TZID=America/New_York:20271216T180000
DTEND;TZID=America/New_York:20271216T200000
DTSTAMP:20260424T093446
CREATED:20250512T192559Z
LAST-MODIFIED:20250606T123903Z
UID:10000104-1828980000-1828987200@alkoranshriners.com
SUMMARY:Youngstown Shrine Club Meeting
DESCRIPTION:
URL:https://alkoranshriners.com/event/youngstown-shrine-club-meeting/2027-12-16/
LOCATION:Youngstown Shrine Club\, 1735 S Range\, North Lima\, OH\, 44452\, United States
END:VEVENT
BEGIN:VEVENT
DTSTART;TZID=America/New_York:20271222T180000
DTEND;TZID=America/New_York:20271222T200000
DTSTAMP:20260424T093446
CREATED:20250606T130337Z
LAST-MODIFIED:20250930T190850Z
UID:10001009-1829498400-1829505600@alkoranshriners.com
SUMMARY:Hillbilly Crooked River Clan #16 Meeting
DESCRIPTION:
URL:https://alkoranshriners.com/event/hillbilly-crooked-river-clan-16/2027-12-22/
LOCATION:St. Matthew’s Episcopal Church\, 9549 Highland Dr\, Brecksville\, OH\, 44141\, United States
END:VEVENT
END:VCALENDAR