BEGIN:VCALENDAR
VERSION:2.0
PRODID:-//Al Koran Shriners - ECPv6.15.20//NONSGML v1.0//EN
CALSCALE:GREGORIAN
METHOD:PUBLISH
X-ORIGINAL-URL:https://alkoranshriners.com
X-WR-CALDESC:Events for Al Koran Shriners
REFRESH-INTERVAL;VALUE=DURATION:PT1H
X-Robots-Tag:noindex
X-PUBLISHED-TTL:PT1H
BEGIN:VTIMEZONE
TZID:America/New_York
BEGIN:DAYLIGHT
TZOFFSETFROM:-0500
TZOFFSETTO:-0400
TZNAME:EDT
DTSTART:20260308T070000
END:DAYLIGHT
BEGIN:STANDARD
TZOFFSETFROM:-0400
TZOFFSETTO:-0500
TZNAME:EST
DTSTART:20261101T060000
END:STANDARD
BEGIN:DAYLIGHT
TZOFFSETFROM:-0500
TZOFFSETTO:-0400
TZNAME:EDT
DTSTART:20270314T070000
END:DAYLIGHT
BEGIN:STANDARD
TZOFFSETFROM:-0400
TZOFFSETTO:-0500
TZNAME:EST
DTSTART:20271107T060000
END:STANDARD
BEGIN:DAYLIGHT
TZOFFSETFROM:-0500
TZOFFSETTO:-0400
TZNAME:EDT
DTSTART:20280312T070000
END:DAYLIGHT
BEGIN:STANDARD
TZOFFSETFROM:-0400
TZOFFSETTO:-0500
TZNAME:EST
DTSTART:20281105T060000
END:STANDARD
END:VTIMEZONE
BEGIN:VEVENT
DTSTART;TZID=America/New_York:20270426T180000
DTEND;TZID=America/New_York:20270426T200000
DTSTAMP:20260423T193420
CREATED:20250512T193459Z
LAST-MODIFIED:20250606T124855Z
UID:10000342-1808762400-1808769600@alkoranshriners.com
SUMMARY:Krazy Kops Meeting
DESCRIPTION:
URL:https://alkoranshriners.com/event/krazy-kops-meeting/2027-04-26/
LOCATION:Teamz Restaurant & Bar\, 6611 Eastland Rd\, Middleburg Heights\, OH\, 44130\, United States
END:VEVENT
BEGIN:VEVENT
DTSTART;TZID=America/New_York:20270426T180000
DTEND;TZID=America/New_York:20270426T200000
DTSTAMP:20260423T193420
CREATED:20250606T130759Z
LAST-MODIFIED:20250618T141551Z
UID:10000925-1808762400-1808769600@alkoranshriners.com
SUMMARY:Legion of Honor
DESCRIPTION:
URL:https://alkoranshriners.com/event/legion-of-honor/2027-04-26/
LOCATION:St. Matthew’s Episcopal Church\, 9549 Highland Dr\, Brecksville\, OH\, 44141\, United States
END:VEVENT
BEGIN:VEVENT
DTSTART;TZID=America/New_York:20270427T180000
DTEND;TZID=America/New_York:20270427T200000
DTSTAMP:20260423T193420
CREATED:20260408T145522Z
LAST-MODIFIED:20260408T145522Z
UID:10001310-1808848800-1808856000@alkoranshriners.com
SUMMARY:Mariner's Meeting
DESCRIPTION:
URL:https://alkoranshriners.com/event/mariners-meeting-2-2/2027-04-27/
ORGANIZER;CN="Al Koran Shriners":MAILTO:clevelandshriners@gmail.com
END:VEVENT
BEGIN:VEVENT
DTSTART;TZID=America/New_York:20270427T180000
DTEND;TZID=America/New_York:20270427T200000
DTSTAMP:20260423T193420
CREATED:20260408T173107Z
LAST-MODIFIED:20260408T173107Z
UID:10001427-1808848800-1808856000@alkoranshriners.com
SUMMARY:Mariners Meeting
DESCRIPTION:
URL:https://alkoranshriners.com/event/mariners-meeting-3/2027-04-27/
END:VEVENT
BEGIN:VEVENT
DTSTART;TZID=America/New_York:20270428T180000
DTEND;TZID=America/New_York:20270428T200000
DTSTAMP:20260423T193420
CREATED:20250606T130337Z
LAST-MODIFIED:20250930T190850Z
UID:10001001-1808935200-1808942400@alkoranshriners.com
SUMMARY:Hillbilly Crooked River Clan #16 Meeting
DESCRIPTION:
URL:https://alkoranshriners.com/event/hillbilly-crooked-river-clan-16/2027-04-28/
LOCATION:St. Matthew’s Episcopal Church\, 9549 Highland Dr\, Brecksville\, OH\, 44141\, United States
END:VEVENT
BEGIN:VEVENT
DTSTART;TZID=America/New_York:20270503T180000
DTEND;TZID=America/New_York:20270503T200000
DTSTAMP:20260423T193420
CREATED:20250512T192700Z
LAST-MODIFIED:20250606T124119Z
UID:10000157-1809367200-1809374400@alkoranshriners.com
SUMMARY:Mid-Ohio Shrine Club Meeting
DESCRIPTION:
URL:https://alkoranshriners.com/event/mid-ohio-shrine-club-meeting/2027-05-03/
LOCATION:Old Bag of Nails\, 625 Lexington Ave #7\, Mansfield\, OH\, 44907\, United States
END:VEVENT
BEGIN:VEVENT
DTSTART;TZID=America/New_York:20270510T180000
DTEND;TZID=America/New_York:20270510T190000
DTSTAMP:20260423T193420
CREATED:20250512T192758Z
LAST-MODIFIED:20250605T135856Z
UID:10000037-1809972000-1809975600@alkoranshriners.com
SUMMARY:Divan and Board of Directors Meeting
DESCRIPTION:
URL:https://alkoranshriners.com/event/divan-and-board-of-directors-meeting/2027-05-10/
LOCATION:Al Koran Office\, 6801 OH-291\, Suite B\, Middleburg Heights\, OH\, 44130\, United States
ORGANIZER;CN="Al Koran Shriners":MAILTO:clevelandshriners@gmail.com
END:VEVENT
BEGIN:VEVENT
DTSTART;TZID=America/New_York:20270510T190000
DTEND;TZID=America/New_York:20270510T200000
DTSTAMP:20260423T193420
CREATED:20250512T192840Z
LAST-MODIFIED:20250616T194145Z
UID:10000283-1809975600-1809979200@alkoranshriners.com
SUMMARY:Hunters Meeting
DESCRIPTION:
URL:https://alkoranshriners.com/event/hunters-meeting/2027-05-10/
LOCATION:Al Koran Office\, 6801 OH-291\, Suite B\, Middleburg Heights\, OH\, 44130\, United States
END:VEVENT
BEGIN:VEVENT
DTSTART;TZID=America/New_York:20270512T173000
DTEND;TZID=America/New_York:20270512T210000
DTSTAMP:20260423T193420
CREATED:20250512T191711Z
LAST-MODIFIED:20250606T124632Z
UID:10000223-1810143000-1810155600@alkoranshriners.com
SUMMARY:Lakewood Shrine Club Meeting
DESCRIPTION:
URL:https://alkoranshriners.com/event/lakewood-shrine-club-meeting/2027-05-12/
LOCATION:Cleveland Yachting Club\, 200 Yacht Club Dr\, Rocky River\, OH\, 44116\, United States
END:VEVENT
BEGIN:VEVENT
DTSTART;TZID=America/New_York:20270512T190000
DTEND;TZID=America/New_York:20270512T210000
DTSTAMP:20260423T193420
CREATED:20260408T172936Z
LAST-MODIFIED:20260408T172937Z
UID:10001369-1810148400-1810155600@alkoranshriners.com
SUMMARY:Lorain County Shrine Club & Fire Brigade
DESCRIPTION:
URL:https://alkoranshriners.com/event/lorain-county-shrine-club-fire-brigade-2/2027-05-12/
END:VEVENT
BEGIN:VEVENT
DTSTART;TZID=America/New_York:20270519T180000
DTEND;TZID=America/New_York:20270519T200000
DTSTAMP:20260423T193420
CREATED:20250930T191631Z
LAST-MODIFIED:20250930T191631Z
UID:10001183-1810749600-1810756800@alkoranshriners.com
SUMMARY:Massillon Shrine Club
DESCRIPTION:
URL:https://alkoranshriners.com/event/massillon-shrine-club-2/2027-05-19/
LOCATION:Massillon Masonic Temple (Clinton Lodge #47)\, 22nd St SW\, Massillon\, OH\, 44647
END:VEVENT
BEGIN:VEVENT
DTSTART;VALUE=DATE:20270520
DTEND;VALUE=DATE:20270521
DTSTAMP:20260423T193420
CREATED:20250722T124240Z
LAST-MODIFIED:20250930T191012Z
UID:10001063-1810771200-1810857599@alkoranshriners.com
SUMMARY:Youngstown Shrine Club Meeting
DESCRIPTION:
URL:https://alkoranshriners.com/event/youngstown-shrine-club-dinner-meeting/2027-05-20/
LOCATION:Youngstown Shrine Club\, 1735 S Range\, North Lima\, OH\, 44452\, United States
ORGANIZER;CN="Al Koran Shriners":MAILTO:clevelandshriners@gmail.com
END:VEVENT
BEGIN:VEVENT
DTSTART;TZID=America/New_York:20270520T180000
DTEND;TZID=America/New_York:20270520T200000
DTSTAMP:20260423T193420
CREATED:20250512T192559Z
LAST-MODIFIED:20250606T123903Z
UID:10000097-1810836000-1810843200@alkoranshriners.com
SUMMARY:Youngstown Shrine Club Meeting
DESCRIPTION:
URL:https://alkoranshriners.com/event/youngstown-shrine-club-meeting/2027-05-20/
LOCATION:Youngstown Shrine Club\, 1735 S Range\, North Lima\, OH\, 44452\, United States
END:VEVENT
BEGIN:VEVENT
DTSTART;TZID=America/New_York:20270524T180000
DTEND;TZID=America/New_York:20270524T200000
DTSTAMP:20260423T193420
CREATED:20250512T193459Z
LAST-MODIFIED:20250606T124855Z
UID:10000343-1811181600-1811188800@alkoranshriners.com
SUMMARY:Krazy Kops Meeting
DESCRIPTION:
URL:https://alkoranshriners.com/event/krazy-kops-meeting/2027-05-24/
LOCATION:Teamz Restaurant & Bar\, 6611 Eastland Rd\, Middleburg Heights\, OH\, 44130\, United States
END:VEVENT
BEGIN:VEVENT
DTSTART;TZID=America/New_York:20270524T180000
DTEND;TZID=America/New_York:20270524T200000
DTSTAMP:20260423T193420
CREATED:20250606T130759Z
LAST-MODIFIED:20250618T141551Z
UID:10000926-1811181600-1811188800@alkoranshriners.com
SUMMARY:Legion of Honor
DESCRIPTION:
URL:https://alkoranshriners.com/event/legion-of-honor/2027-05-24/
LOCATION:St. Matthew’s Episcopal Church\, 9549 Highland Dr\, Brecksville\, OH\, 44141\, United States
END:VEVENT
BEGIN:VEVENT
DTSTART;TZID=America/New_York:20270525T180000
DTEND;TZID=America/New_York:20270525T200000
DTSTAMP:20260423T193420
CREATED:20260408T145522Z
LAST-MODIFIED:20260408T145522Z
UID:10001311-1811268000-1811275200@alkoranshriners.com
SUMMARY:Mariner's Meeting
DESCRIPTION:
URL:https://alkoranshriners.com/event/mariners-meeting-2-2/2027-05-25/
ORGANIZER;CN="Al Koran Shriners":MAILTO:clevelandshriners@gmail.com
END:VEVENT
BEGIN:VEVENT
DTSTART;TZID=America/New_York:20270525T180000
DTEND;TZID=America/New_York:20270525T200000
DTSTAMP:20260423T193420
CREATED:20260408T173107Z
LAST-MODIFIED:20260408T173107Z
UID:10001428-1811268000-1811275200@alkoranshriners.com
SUMMARY:Mariners Meeting
DESCRIPTION:
URL:https://alkoranshriners.com/event/mariners-meeting-3/2027-05-25/
END:VEVENT
BEGIN:VEVENT
DTSTART;TZID=America/New_York:20270526T180000
DTEND;TZID=America/New_York:20270526T200000
DTSTAMP:20260423T193420
CREATED:20250606T130337Z
LAST-MODIFIED:20250930T190850Z
UID:10001002-1811354400-1811361600@alkoranshriners.com
SUMMARY:Hillbilly Crooked River Clan #16 Meeting
DESCRIPTION:
URL:https://alkoranshriners.com/event/hillbilly-crooked-river-clan-16/2027-05-26/
LOCATION:St. Matthew’s Episcopal Church\, 9549 Highland Dr\, Brecksville\, OH\, 44141\, United States
END:VEVENT
BEGIN:VEVENT
DTSTART;TZID=America/New_York:20270604T080000
DTEND;TZID=America/New_York:20270604T170000
DTSTAMP:20260423T193420
CREATED:20250930T191518Z
LAST-MODIFIED:20250930T191518Z
UID:10000832-1812096000-1812128400@alkoranshriners.com
SUMMARY:Mansfield Shrine Club
DESCRIPTION:
URL:https://alkoranshriners.com/event/mansfield-shrine-club-2/2027-06-04/
LOCATION:Baku Grotto\, 747 S Main St\, Mansfield\, OH\, 44907\, United States
END:VEVENT
BEGIN:VEVENT
DTSTART;VALUE=DATE:20270606
DTEND;VALUE=DATE:20270607
DTSTAMP:20260423T193420
CREATED:20250513T195055Z
LAST-MODIFIED:20250618T143527Z
UID:10000196-1812240000-1812326399@alkoranshriners.com
SUMMARY:Shriners Awareness Day
DESCRIPTION:
URL:https://alkoranshriners.com/event/shriners-awareness-day/2027-06-06/
CATEGORIES:Special Events
ATTACH;FMTTYPE=image/jpeg:https://alkoranshriners.com/wp-content/uploads/2025/05/ShrinersInternationalAwarenessDay.jpg
END:VEVENT
BEGIN:VEVENT
DTSTART;TZID=America/New_York:20270607T180000
DTEND;TZID=America/New_York:20270607T200000
DTSTAMP:20260423T193420
CREATED:20250512T192700Z
LAST-MODIFIED:20250606T124119Z
UID:10000158-1812391200-1812398400@alkoranshriners.com
SUMMARY:Mid-Ohio Shrine Club Meeting
DESCRIPTION:
URL:https://alkoranshriners.com/event/mid-ohio-shrine-club-meeting/2027-06-07/
LOCATION:Old Bag of Nails\, 625 Lexington Ave #7\, Mansfield\, OH\, 44907\, United States
END:VEVENT
BEGIN:VEVENT
DTSTART;TZID=America/New_York:20270609T173000
DTEND;TZID=America/New_York:20270609T210000
DTSTAMP:20260423T193420
CREATED:20250512T191711Z
LAST-MODIFIED:20250606T124632Z
UID:10000224-1812562200-1812574800@alkoranshriners.com
SUMMARY:Lakewood Shrine Club Meeting
DESCRIPTION:
URL:https://alkoranshriners.com/event/lakewood-shrine-club-meeting/2027-06-09/
LOCATION:Cleveland Yachting Club\, 200 Yacht Club Dr\, Rocky River\, OH\, 44116\, United States
END:VEVENT
BEGIN:VEVENT
DTSTART;TZID=America/New_York:20270609T190000
DTEND;TZID=America/New_York:20270609T210000
DTSTAMP:20260423T193420
CREATED:20260408T172936Z
LAST-MODIFIED:20260408T172937Z
UID:10001370-1812567600-1812574800@alkoranshriners.com
SUMMARY:Lorain County Shrine Club & Fire Brigade
DESCRIPTION:
URL:https://alkoranshriners.com/event/lorain-county-shrine-club-fire-brigade-2/2027-06-09/
END:VEVENT
BEGIN:VEVENT
DTSTART;TZID=America/New_York:20270614T180000
DTEND;TZID=America/New_York:20270614T190000
DTSTAMP:20260423T193420
CREATED:20250512T192758Z
LAST-MODIFIED:20250605T135856Z
UID:10000038-1812996000-1812999600@alkoranshriners.com
SUMMARY:Divan and Board of Directors Meeting
DESCRIPTION:
URL:https://alkoranshriners.com/event/divan-and-board-of-directors-meeting/2027-06-14/
LOCATION:Al Koran Office\, 6801 OH-291\, Suite B\, Middleburg Heights\, OH\, 44130\, United States
ORGANIZER;CN="Al Koran Shriners":MAILTO:clevelandshriners@gmail.com
END:VEVENT
BEGIN:VEVENT
DTSTART;TZID=America/New_York:20270614T190000
DTEND;TZID=America/New_York:20270614T200000
DTSTAMP:20260423T193420
CREATED:20250512T192840Z
LAST-MODIFIED:20250616T194145Z
UID:10000284-1812999600-1813003200@alkoranshriners.com
SUMMARY:Hunters Meeting
DESCRIPTION:
URL:https://alkoranshriners.com/event/hunters-meeting/2027-06-14/
LOCATION:Al Koran Office\, 6801 OH-291\, Suite B\, Middleburg Heights\, OH\, 44130\, United States
END:VEVENT
BEGIN:VEVENT
DTSTART;TZID=America/New_York:20270616T180000
DTEND;TZID=America/New_York:20270616T200000
DTSTAMP:20260423T193420
CREATED:20250930T191631Z
LAST-MODIFIED:20250930T191631Z
UID:10001184-1813168800-1813176000@alkoranshriners.com
SUMMARY:Massillon Shrine Club
DESCRIPTION:
URL:https://alkoranshriners.com/event/massillon-shrine-club-2/2027-06-16/
LOCATION:Massillon Masonic Temple (Clinton Lodge #47)\, 22nd St SW\, Massillon\, OH\, 44647
END:VEVENT
BEGIN:VEVENT
DTSTART;VALUE=DATE:20270617
DTEND;VALUE=DATE:20270618
DTSTAMP:20260423T193420
CREATED:20250722T124240Z
LAST-MODIFIED:20250930T191012Z
UID:10001064-1813190400-1813276799@alkoranshriners.com
SUMMARY:Youngstown Shrine Club Meeting
DESCRIPTION:
URL:https://alkoranshriners.com/event/youngstown-shrine-club-dinner-meeting/2027-06-17/
LOCATION:Youngstown Shrine Club\, 1735 S Range\, North Lima\, OH\, 44452\, United States
ORGANIZER;CN="Al Koran Shriners":MAILTO:clevelandshriners@gmail.com
END:VEVENT
BEGIN:VEVENT
DTSTART;TZID=America/New_York:20270617T180000
DTEND;TZID=America/New_York:20270617T200000
DTSTAMP:20260423T193420
CREATED:20250512T192559Z
LAST-MODIFIED:20250606T123903Z
UID:10000098-1813255200-1813262400@alkoranshriners.com
SUMMARY:Youngstown Shrine Club Meeting
DESCRIPTION:
URL:https://alkoranshriners.com/event/youngstown-shrine-club-meeting/2027-06-17/
LOCATION:Youngstown Shrine Club\, 1735 S Range\, North Lima\, OH\, 44452\, United States
END:VEVENT
BEGIN:VEVENT
DTSTART;TZID=America/New_York:20270622T180000
DTEND;TZID=America/New_York:20270622T200000
DTSTAMP:20260423T193420
CREATED:20260408T145522Z
LAST-MODIFIED:20260408T145522Z
UID:10001312-1813687200-1813694400@alkoranshriners.com
SUMMARY:Mariner's Meeting
DESCRIPTION:
URL:https://alkoranshriners.com/event/mariners-meeting-2-2/2027-06-22/
ORGANIZER;CN="Al Koran Shriners":MAILTO:clevelandshriners@gmail.com
END:VEVENT
BEGIN:VEVENT
DTSTART;TZID=America/New_York:20270622T180000
DTEND;TZID=America/New_York:20270622T200000
DTSTAMP:20260423T193420
CREATED:20260408T173107Z
LAST-MODIFIED:20260408T173107Z
UID:10001429-1813687200-1813694400@alkoranshriners.com
SUMMARY:Mariners Meeting
DESCRIPTION:
URL:https://alkoranshriners.com/event/mariners-meeting-3/2027-06-22/
END:VEVENT
END:VCALENDAR