BEGIN:VCALENDAR
VERSION:2.0
PRODID:-//Al Koran Shriners - ECPv6.15.20//NONSGML v1.0//EN
CALSCALE:GREGORIAN
METHOD:PUBLISH
X-ORIGINAL-URL:https://alkoranshriners.com
X-WR-CALDESC:Events for Al Koran Shriners
REFRESH-INTERVAL;VALUE=DURATION:PT1H
X-Robots-Tag:noindex
X-PUBLISHED-TTL:PT1H
BEGIN:VTIMEZONE
TZID:America/New_York
BEGIN:DAYLIGHT
TZOFFSETFROM:-0500
TZOFFSETTO:-0400
TZNAME:EDT
DTSTART:20260308T070000
END:DAYLIGHT
BEGIN:STANDARD
TZOFFSETFROM:-0400
TZOFFSETTO:-0500
TZNAME:EST
DTSTART:20261101T060000
END:STANDARD
BEGIN:DAYLIGHT
TZOFFSETFROM:-0500
TZOFFSETTO:-0400
TZNAME:EDT
DTSTART:20270314T070000
END:DAYLIGHT
BEGIN:STANDARD
TZOFFSETFROM:-0400
TZOFFSETTO:-0500
TZNAME:EST
DTSTART:20271107T060000
END:STANDARD
BEGIN:DAYLIGHT
TZOFFSETFROM:-0500
TZOFFSETTO:-0400
TZNAME:EDT
DTSTART:20280312T070000
END:DAYLIGHT
BEGIN:STANDARD
TZOFFSETFROM:-0400
TZOFFSETTO:-0500
TZNAME:EST
DTSTART:20281105T060000
END:STANDARD
END:VTIMEZONE
BEGIN:VEVENT
DTSTART;TZID=America/New_York:20270715T180000
DTEND;TZID=America/New_York:20270715T200000
DTSTAMP:20260422T174706
CREATED:20250512T192559Z
LAST-MODIFIED:20250606T123903Z
UID:10000099-1815674400-1815681600@alkoranshriners.com
SUMMARY:Youngstown Shrine Club Meeting
DESCRIPTION:
URL:https://alkoranshriners.com/event/youngstown-shrine-club-meeting/2027-07-15/
LOCATION:Youngstown Shrine Club\, 1735 S Range\, North Lima\, OH\, 44452\, United States
END:VEVENT
BEGIN:VEVENT
DTSTART;TZID=America/New_York:20270721T180000
DTEND;TZID=America/New_York:20270721T200000
DTSTAMP:20260422T174706
CREATED:20250930T191631Z
LAST-MODIFIED:20250930T191631Z
UID:10001185-1816192800-1816200000@alkoranshriners.com
SUMMARY:Massillon Shrine Club
DESCRIPTION:
URL:https://alkoranshriners.com/event/massillon-shrine-club-2/2027-07-21/
LOCATION:Massillon Masonic Temple (Clinton Lodge #47)\, 22nd St SW\, Massillon\, OH\, 44647
END:VEVENT
BEGIN:VEVENT
DTSTART;TZID=America/New_York:20270726T180000
DTEND;TZID=America/New_York:20270726T200000
DTSTAMP:20260422T174706
CREATED:20250512T193459Z
LAST-MODIFIED:20250606T124855Z
UID:10000345-1816624800-1816632000@alkoranshriners.com
SUMMARY:Krazy Kops Meeting
DESCRIPTION:
URL:https://alkoranshriners.com/event/krazy-kops-meeting/2027-07-26/
LOCATION:Teamz Restaurant & Bar\, 6611 Eastland Rd\, Middleburg Heights\, OH\, 44130\, United States
END:VEVENT
BEGIN:VEVENT
DTSTART;TZID=America/New_York:20270726T180000
DTEND;TZID=America/New_York:20270726T200000
DTSTAMP:20260422T174706
CREATED:20250606T130759Z
LAST-MODIFIED:20250618T141551Z
UID:10000928-1816624800-1816632000@alkoranshriners.com
SUMMARY:Legion of Honor
DESCRIPTION:
URL:https://alkoranshriners.com/event/legion-of-honor/2027-07-26/
LOCATION:St. Matthew’s Episcopal Church\, 9549 Highland Dr\, Brecksville\, OH\, 44141\, United States
END:VEVENT
BEGIN:VEVENT
DTSTART;TZID=America/New_York:20270727T180000
DTEND;TZID=America/New_York:20270727T200000
DTSTAMP:20260422T174706
CREATED:20260408T145522Z
LAST-MODIFIED:20260408T145522Z
UID:10001313-1816711200-1816718400@alkoranshriners.com
SUMMARY:Mariner's Meeting
DESCRIPTION:
URL:https://alkoranshriners.com/event/mariners-meeting-2-2/2027-07-27/
LOCATION:OH
ORGANIZER;CN="Al Koran Shriners":MAILTO:clevelandshriners@gmail.com
END:VEVENT
BEGIN:VEVENT
DTSTART;TZID=America/New_York:20270727T180000
DTEND;TZID=America/New_York:20270727T200000
DTSTAMP:20260422T174706
CREATED:20260408T173107Z
LAST-MODIFIED:20260408T173107Z
UID:10001430-1816711200-1816718400@alkoranshriners.com
SUMMARY:Mariners Meeting
DESCRIPTION:
URL:https://alkoranshriners.com/event/mariners-meeting-3/2027-07-27/
LOCATION:OH
END:VEVENT
BEGIN:VEVENT
DTSTART;TZID=America/New_York:20270728T180000
DTEND;TZID=America/New_York:20270728T200000
DTSTAMP:20260422T174706
CREATED:20250606T130337Z
LAST-MODIFIED:20250930T190850Z
UID:10001004-1816797600-1816804800@alkoranshriners.com
SUMMARY:Hillbilly Crooked River Clan #16 Meeting
DESCRIPTION:
URL:https://alkoranshriners.com/event/hillbilly-crooked-river-clan-16/2027-07-28/
LOCATION:St. Matthew’s Episcopal Church\, 9549 Highland Dr\, Brecksville\, OH\, 44141\, United States
END:VEVENT
BEGIN:VEVENT
DTSTART;TZID=America/New_York:20270802T180000
DTEND;TZID=America/New_York:20270802T200000
DTSTAMP:20260422T174706
CREATED:20250512T192700Z
LAST-MODIFIED:20250606T124119Z
UID:10000160-1817229600-1817236800@alkoranshriners.com
SUMMARY:Mid-Ohio Shrine Club Meeting
DESCRIPTION:
URL:https://alkoranshriners.com/event/mid-ohio-shrine-club-meeting/2027-08-02/
LOCATION:Old Bag of Nails\, 625 Lexington Ave #7\, Mansfield\, OH\, 44907\, United States
END:VEVENT
BEGIN:VEVENT
DTSTART;TZID=America/New_York:20270809T180000
DTEND;TZID=America/New_York:20270809T190000
DTSTAMP:20260422T174706
CREATED:20250512T192758Z
LAST-MODIFIED:20250605T135856Z
UID:10000040-1817834400-1817838000@alkoranshriners.com
SUMMARY:Divan and Board of Directors Meeting
DESCRIPTION:
URL:https://alkoranshriners.com/event/divan-and-board-of-directors-meeting/2027-08-09/
LOCATION:Al Koran Office\, 6801 OH-291\, Suite B\, Middleburg Heights\, OH\, 44130\, United States
ORGANIZER;CN="Al Koran Shriners":MAILTO:clevelandshriners@gmail.com
END:VEVENT
BEGIN:VEVENT
DTSTART;TZID=America/New_York:20270809T190000
DTEND;TZID=America/New_York:20270809T200000
DTSTAMP:20260422T174706
CREATED:20250512T192840Z
LAST-MODIFIED:20250616T194145Z
UID:10000286-1817838000-1817841600@alkoranshriners.com
SUMMARY:Hunters Meeting
DESCRIPTION:
URL:https://alkoranshriners.com/event/hunters-meeting/2027-08-09/
LOCATION:Al Koran Office\, 6801 OH-291\, Suite B\, Middleburg Heights\, OH\, 44130\, United States
END:VEVENT
BEGIN:VEVENT
DTSTART;TZID=America/New_York:20270811T173000
DTEND;TZID=America/New_York:20270811T210000
DTSTAMP:20260422T174706
CREATED:20250512T191711Z
LAST-MODIFIED:20250606T124632Z
UID:10000226-1818005400-1818018000@alkoranshriners.com
SUMMARY:Lakewood Shrine Club Meeting
DESCRIPTION:
URL:https://alkoranshriners.com/event/lakewood-shrine-club-meeting/2027-08-11/
LOCATION:Cleveland Yachting Club\, 200 Yacht Club Dr\, Rocky River\, OH\, 44116\, United States
END:VEVENT
BEGIN:VEVENT
DTSTART;TZID=America/New_York:20270811T190000
DTEND;TZID=America/New_York:20270811T210000
DTSTAMP:20260422T174706
CREATED:20260408T172936Z
LAST-MODIFIED:20260408T172937Z
UID:10001372-1818010800-1818018000@alkoranshriners.com
SUMMARY:Lorain County Shrine Club & Fire Brigade
DESCRIPTION:
URL:https://alkoranshriners.com/event/lorain-county-shrine-club-fire-brigade-2/2027-08-11/
LOCATION:OH
END:VEVENT
BEGIN:VEVENT
DTSTART;TZID=America/New_York:20270818T180000
DTEND;TZID=America/New_York:20270818T200000
DTSTAMP:20260422T174706
CREATED:20250930T191631Z
LAST-MODIFIED:20250930T191631Z
UID:10001186-1818612000-1818619200@alkoranshriners.com
SUMMARY:Massillon Shrine Club
DESCRIPTION:
URL:https://alkoranshriners.com/event/massillon-shrine-club-2/2027-08-18/
LOCATION:Massillon Masonic Temple (Clinton Lodge #47)\, 22nd St SW\, Massillon\, OH\, 44647
END:VEVENT
BEGIN:VEVENT
DTSTART;VALUE=DATE:20270819
DTEND;VALUE=DATE:20270820
DTSTAMP:20260422T174706
CREATED:20250722T124240Z
LAST-MODIFIED:20250930T191012Z
UID:10001066-1818633600-1818719999@alkoranshriners.com
SUMMARY:Youngstown Shrine Club Meeting
DESCRIPTION:
URL:https://alkoranshriners.com/event/youngstown-shrine-club-dinner-meeting/2027-08-19/
LOCATION:Youngstown Shrine Club\, 1735 S Range\, North Lima\, OH\, 44452\, United States
ORGANIZER;CN="Al Koran Shriners":MAILTO:clevelandshriners@gmail.com
END:VEVENT
BEGIN:VEVENT
DTSTART;TZID=America/New_York:20270819T180000
DTEND;TZID=America/New_York:20270819T200000
DTSTAMP:20260422T174706
CREATED:20250512T192559Z
LAST-MODIFIED:20250606T123903Z
UID:10000100-1818698400-1818705600@alkoranshriners.com
SUMMARY:Youngstown Shrine Club Meeting
DESCRIPTION:
URL:https://alkoranshriners.com/event/youngstown-shrine-club-meeting/2027-08-19/
LOCATION:Youngstown Shrine Club\, 1735 S Range\, North Lima\, OH\, 44452\, United States
END:VEVENT
BEGIN:VEVENT
DTSTART;TZID=America/New_York:20270823T180000
DTEND;TZID=America/New_York:20270823T200000
DTSTAMP:20260422T174706
CREATED:20250512T193459Z
LAST-MODIFIED:20250606T124855Z
UID:10000346-1819044000-1819051200@alkoranshriners.com
SUMMARY:Krazy Kops Meeting
DESCRIPTION:
URL:https://alkoranshriners.com/event/krazy-kops-meeting/2027-08-23/
LOCATION:Teamz Restaurant & Bar\, 6611 Eastland Rd\, Middleburg Heights\, OH\, 44130\, United States
END:VEVENT
BEGIN:VEVENT
DTSTART;TZID=America/New_York:20270823T180000
DTEND;TZID=America/New_York:20270823T200000
DTSTAMP:20260422T174706
CREATED:20250606T130759Z
LAST-MODIFIED:20250618T141551Z
UID:10000929-1819044000-1819051200@alkoranshriners.com
SUMMARY:Legion of Honor
DESCRIPTION:
URL:https://alkoranshriners.com/event/legion-of-honor/2027-08-23/
LOCATION:St. Matthew’s Episcopal Church\, 9549 Highland Dr\, Brecksville\, OH\, 44141\, United States
END:VEVENT
BEGIN:VEVENT
DTSTART;TZID=America/New_York:20270824T180000
DTEND;TZID=America/New_York:20270824T200000
DTSTAMP:20260422T174706
CREATED:20260408T145522Z
LAST-MODIFIED:20260408T145522Z
UID:10001314-1819130400-1819137600@alkoranshriners.com
SUMMARY:Mariner's Meeting
DESCRIPTION:
URL:https://alkoranshriners.com/event/mariners-meeting-2-2/2027-08-24/
LOCATION:OH
ORGANIZER;CN="Al Koran Shriners":MAILTO:clevelandshriners@gmail.com
END:VEVENT
BEGIN:VEVENT
DTSTART;TZID=America/New_York:20270824T180000
DTEND;TZID=America/New_York:20270824T200000
DTSTAMP:20260422T174706
CREATED:20260408T173107Z
LAST-MODIFIED:20260408T173107Z
UID:10001431-1819130400-1819137600@alkoranshriners.com
SUMMARY:Mariners Meeting
DESCRIPTION:
URL:https://alkoranshriners.com/event/mariners-meeting-3/2027-08-24/
LOCATION:OH
END:VEVENT
BEGIN:VEVENT
DTSTART;TZID=America/New_York:20270825T180000
DTEND;TZID=America/New_York:20270825T200000
DTSTAMP:20260422T174706
CREATED:20250606T130337Z
LAST-MODIFIED:20250930T190850Z
UID:10001005-1819216800-1819224000@alkoranshriners.com
SUMMARY:Hillbilly Crooked River Clan #16 Meeting
DESCRIPTION:
URL:https://alkoranshriners.com/event/hillbilly-crooked-river-clan-16/2027-08-25/
LOCATION:St. Matthew’s Episcopal Church\, 9549 Highland Dr\, Brecksville\, OH\, 44141\, United States
END:VEVENT
BEGIN:VEVENT
DTSTART;TZID=America/New_York:20270903T080000
DTEND;TZID=America/New_York:20270903T170000
DTSTAMP:20260422T174706
CREATED:20250930T191518Z
LAST-MODIFIED:20250930T191518Z
UID:10000833-1819958400-1819990800@alkoranshriners.com
SUMMARY:Mansfield Shrine Club
DESCRIPTION:
URL:https://alkoranshriners.com/event/mansfield-shrine-club-2/2027-09-03/
LOCATION:Baku Grotto\, 747 S Main St\, Mansfield\, OH\, 44907\, United States
END:VEVENT
BEGIN:VEVENT
DTSTART;TZID=America/New_York:20270906T180000
DTEND;TZID=America/New_York:20270906T200000
DTSTAMP:20260422T174706
CREATED:20250512T192700Z
LAST-MODIFIED:20250606T124119Z
UID:10000161-1820253600-1820260800@alkoranshriners.com
SUMMARY:Mid-Ohio Shrine Club Meeting
DESCRIPTION:
URL:https://alkoranshriners.com/event/mid-ohio-shrine-club-meeting/2027-09-06/
LOCATION:Old Bag of Nails\, 625 Lexington Ave #7\, Mansfield\, OH\, 44907\, United States
END:VEVENT
BEGIN:VEVENT
DTSTART;TZID=America/New_York:20270908T173000
DTEND;TZID=America/New_York:20270908T210000
DTSTAMP:20260422T174706
CREATED:20250512T191711Z
LAST-MODIFIED:20250606T124632Z
UID:10000227-1820424600-1820437200@alkoranshriners.com
SUMMARY:Lakewood Shrine Club Meeting
DESCRIPTION:
URL:https://alkoranshriners.com/event/lakewood-shrine-club-meeting/2027-09-08/
LOCATION:Cleveland Yachting Club\, 200 Yacht Club Dr\, Rocky River\, OH\, 44116\, United States
END:VEVENT
BEGIN:VEVENT
DTSTART;TZID=America/New_York:20270908T190000
DTEND;TZID=America/New_York:20270908T210000
DTSTAMP:20260422T174706
CREATED:20260408T172936Z
LAST-MODIFIED:20260408T172937Z
UID:10001373-1820430000-1820437200@alkoranshriners.com
SUMMARY:Lorain County Shrine Club & Fire Brigade
DESCRIPTION:
URL:https://alkoranshriners.com/event/lorain-county-shrine-club-fire-brigade-2/2027-09-08/
LOCATION:OH
END:VEVENT
BEGIN:VEVENT
DTSTART;TZID=America/New_York:20270913T180000
DTEND;TZID=America/New_York:20270913T190000
DTSTAMP:20260422T174706
CREATED:20250512T192758Z
LAST-MODIFIED:20250605T135856Z
UID:10000041-1820858400-1820862000@alkoranshriners.com
SUMMARY:Divan and Board of Directors Meeting
DESCRIPTION:
URL:https://alkoranshriners.com/event/divan-and-board-of-directors-meeting/2027-09-13/
LOCATION:Al Koran Office\, 6801 OH-291\, Suite B\, Middleburg Heights\, OH\, 44130\, United States
ORGANIZER;CN="Al Koran Shriners":MAILTO:clevelandshriners@gmail.com
END:VEVENT
BEGIN:VEVENT
DTSTART;TZID=America/New_York:20270913T190000
DTEND;TZID=America/New_York:20270913T200000
DTSTAMP:20260422T174706
CREATED:20250512T192840Z
LAST-MODIFIED:20250616T194145Z
UID:10000287-1820862000-1820865600@alkoranshriners.com
SUMMARY:Hunters Meeting
DESCRIPTION:
URL:https://alkoranshriners.com/event/hunters-meeting/2027-09-13/
LOCATION:Al Koran Office\, 6801 OH-291\, Suite B\, Middleburg Heights\, OH\, 44130\, United States
END:VEVENT
BEGIN:VEVENT
DTSTART;TZID=America/New_York:20270915T180000
DTEND;TZID=America/New_York:20270915T200000
DTSTAMP:20260422T174706
CREATED:20250930T191631Z
LAST-MODIFIED:20250930T191631Z
UID:10001187-1821031200-1821038400@alkoranshriners.com
SUMMARY:Massillon Shrine Club
DESCRIPTION:
URL:https://alkoranshriners.com/event/massillon-shrine-club-2/2027-09-15/
LOCATION:Massillon Masonic Temple (Clinton Lodge #47)\, 22nd St SW\, Massillon\, OH\, 44647
END:VEVENT
BEGIN:VEVENT
DTSTART;VALUE=DATE:20270916
DTEND;VALUE=DATE:20270917
DTSTAMP:20260422T174706
CREATED:20250722T124240Z
LAST-MODIFIED:20250930T191012Z
UID:10001067-1821052800-1821139199@alkoranshriners.com
SUMMARY:Youngstown Shrine Club Meeting
DESCRIPTION:
URL:https://alkoranshriners.com/event/youngstown-shrine-club-dinner-meeting/2027-09-16/
LOCATION:Youngstown Shrine Club\, 1735 S Range\, North Lima\, OH\, 44452\, United States
ORGANIZER;CN="Al Koran Shriners":MAILTO:clevelandshriners@gmail.com
END:VEVENT
BEGIN:VEVENT
DTSTART;TZID=America/New_York:20270916T180000
DTEND;TZID=America/New_York:20270916T200000
DTSTAMP:20260422T174706
CREATED:20250512T192559Z
LAST-MODIFIED:20250606T123903Z
UID:10000101-1821117600-1821124800@alkoranshriners.com
SUMMARY:Youngstown Shrine Club Meeting
DESCRIPTION:
URL:https://alkoranshriners.com/event/youngstown-shrine-club-meeting/2027-09-16/
LOCATION:Youngstown Shrine Club\, 1735 S Range\, North Lima\, OH\, 44452\, United States
END:VEVENT
BEGIN:VEVENT
DTSTART;TZID=America/New_York:20270922T180000
DTEND;TZID=America/New_York:20270922T200000
DTSTAMP:20260422T174706
CREATED:20250606T130337Z
LAST-MODIFIED:20250930T190850Z
UID:10001006-1821636000-1821643200@alkoranshriners.com
SUMMARY:Hillbilly Crooked River Clan #16 Meeting
DESCRIPTION:
URL:https://alkoranshriners.com/event/hillbilly-crooked-river-clan-16/2027-09-22/
LOCATION:St. Matthew’s Episcopal Church\, 9549 Highland Dr\, Brecksville\, OH\, 44141\, United States
END:VEVENT
END:VCALENDAR