BEGIN:VCALENDAR
VERSION:2.0
PRODID:-//Al Koran Shriners - ECPv6.15.20//NONSGML v1.0//EN
CALSCALE:GREGORIAN
METHOD:PUBLISH
X-ORIGINAL-URL:https://alkoranshriners.com
X-WR-CALDESC:Events for Al Koran Shriners
REFRESH-INTERVAL;VALUE=DURATION:PT1H
X-Robots-Tag:noindex
X-PUBLISHED-TTL:PT1H
BEGIN:VTIMEZONE
TZID:America/New_York
BEGIN:DAYLIGHT
TZOFFSETFROM:-0500
TZOFFSETTO:-0400
TZNAME:EDT
DTSTART:20280312T070000
END:DAYLIGHT
BEGIN:STANDARD
TZOFFSETFROM:-0400
TZOFFSETTO:-0500
TZNAME:EST
DTSTART:20281105T060000
END:STANDARD
BEGIN:DAYLIGHT
TZOFFSETFROM:-0500
TZOFFSETTO:-0400
TZNAME:EDT
DTSTART:20290311T070000
END:DAYLIGHT
BEGIN:STANDARD
TZOFFSETFROM:-0400
TZOFFSETTO:-0500
TZNAME:EST
DTSTART:20291104T060000
END:STANDARD
BEGIN:DAYLIGHT
TZOFFSETFROM:-0500
TZOFFSETTO:-0400
TZNAME:EDT
DTSTART:20300310T070000
END:DAYLIGHT
BEGIN:STANDARD
TZOFFSETFROM:-0400
TZOFFSETTO:-0500
TZNAME:EST
DTSTART:20301103T060000
END:STANDARD
END:VTIMEZONE
BEGIN:VEVENT
DTSTART;TZID=America/New_York:20290423T180000
DTEND;TZID=America/New_York:20290423T200000
DTSTAMP:20260425T120539
CREATED:20250512T193459Z
LAST-MODIFIED:20250606T124855Z
UID:10000366-1871661600-1871668800@alkoranshriners.com
SUMMARY:Krazy Kops Meeting
DESCRIPTION:
URL:https://alkoranshriners.com/event/krazy-kops-meeting/2029-04-23/
LOCATION:Teamz Restaurant & Bar\, 6611 Eastland Rd\, Middleburg Heights\, OH\, 44130\, United States
END:VEVENT
BEGIN:VEVENT
DTSTART;TZID=America/New_York:20290423T180000
DTEND;TZID=America/New_York:20290423T200000
DTSTAMP:20260425T120539
CREATED:20250606T130759Z
LAST-MODIFIED:20250618T141551Z
UID:10000949-1871661600-1871668800@alkoranshriners.com
SUMMARY:Legion of Honor
DESCRIPTION:
URL:https://alkoranshriners.com/event/legion-of-honor/2029-04-23/
LOCATION:St. Matthew’s Episcopal Church\, 9549 Highland Dr\, Brecksville\, OH\, 44141\, United States
END:VEVENT
BEGIN:VEVENT
DTSTART;TZID=America/New_York:20290424T180000
DTEND;TZID=America/New_York:20290424T200000
DTSTAMP:20260425T120539
CREATED:20260408T145522Z
LAST-MODIFIED:20260408T145522Z
UID:10001334-1871748000-1871755200@alkoranshriners.com
SUMMARY:Mariner's Meeting
DESCRIPTION:
URL:https://alkoranshriners.com/event/mariners-meeting-2-2/2029-04-24/
LOCATION:OH
ORGANIZER;CN="Al Koran Shriners":MAILTO:clevelandshriners@gmail.com
END:VEVENT
BEGIN:VEVENT
DTSTART;TZID=America/New_York:20290424T180000
DTEND;TZID=America/New_York:20290424T200000
DTSTAMP:20260425T120539
CREATED:20260408T173107Z
LAST-MODIFIED:20260408T173107Z
UID:10001451-1871748000-1871755200@alkoranshriners.com
SUMMARY:Mariners Meeting
DESCRIPTION:
URL:https://alkoranshriners.com/event/mariners-meeting-3/2029-04-24/
LOCATION:OH
END:VEVENT
BEGIN:VEVENT
DTSTART;TZID=America/New_York:20290425T180000
DTEND;TZID=America/New_York:20290425T200000
DTSTAMP:20260425T120539
CREATED:20250606T130337Z
LAST-MODIFIED:20250930T190850Z
UID:10001025-1871834400-1871841600@alkoranshriners.com
SUMMARY:Hillbilly Crooked River Clan #16 Meeting
DESCRIPTION:
URL:https://alkoranshriners.com/event/hillbilly-crooked-river-clan-16/2029-04-25/
LOCATION:St. Matthew’s Episcopal Church\, 9549 Highland Dr\, Brecksville\, OH\, 44141\, United States
END:VEVENT
BEGIN:VEVENT
DTSTART;TZID=America/New_York:20290507T180000
DTEND;TZID=America/New_York:20290507T200000
DTSTAMP:20260425T120539
CREATED:20250512T192700Z
LAST-MODIFIED:20250606T124119Z
UID:10000181-1872871200-1872878400@alkoranshriners.com
SUMMARY:Mid-Ohio Shrine Club Meeting
DESCRIPTION:
URL:https://alkoranshriners.com/event/mid-ohio-shrine-club-meeting/2029-05-07/
LOCATION:Old Bag of Nails\, 625 Lexington Ave #7\, Mansfield\, OH\, 44907\, United States
END:VEVENT
BEGIN:VEVENT
DTSTART;TZID=America/New_York:20290509T173000
DTEND;TZID=America/New_York:20290509T210000
DTSTAMP:20260425T120539
CREATED:20250512T191711Z
LAST-MODIFIED:20250606T124632Z
UID:10000247-1873042200-1873054800@alkoranshriners.com
SUMMARY:Lakewood Shrine Club Meeting
DESCRIPTION:
URL:https://alkoranshriners.com/event/lakewood-shrine-club-meeting/2029-05-09/
LOCATION:Cleveland Yachting Club\, 200 Yacht Club Dr\, Rocky River\, OH\, 44116\, United States
END:VEVENT
BEGIN:VEVENT
DTSTART;TZID=America/New_York:20290509T190000
DTEND;TZID=America/New_York:20290509T210000
DTSTAMP:20260425T120539
CREATED:20260408T172936Z
LAST-MODIFIED:20260408T172937Z
UID:10001393-1873047600-1873054800@alkoranshriners.com
SUMMARY:Lorain County Shrine Club & Fire Brigade
DESCRIPTION:
URL:https://alkoranshriners.com/event/lorain-county-shrine-club-fire-brigade-2/2029-05-09/
LOCATION:OH
END:VEVENT
BEGIN:VEVENT
DTSTART;TZID=America/New_York:20290514T180000
DTEND;TZID=America/New_York:20290514T190000
DTSTAMP:20260425T120539
CREATED:20250512T192758Z
LAST-MODIFIED:20250605T135856Z
UID:10000061-1873476000-1873479600@alkoranshriners.com
SUMMARY:Divan and Board of Directors Meeting
DESCRIPTION:
URL:https://alkoranshriners.com/event/divan-and-board-of-directors-meeting/2029-05-14/
LOCATION:Al Koran Office\, 6801 OH-291\, Suite B\, Middleburg Heights\, OH\, 44130\, United States
ORGANIZER;CN="Al Koran Shriners":MAILTO:clevelandshriners@gmail.com
END:VEVENT
BEGIN:VEVENT
DTSTART;TZID=America/New_York:20290514T190000
DTEND;TZID=America/New_York:20290514T200000
DTSTAMP:20260425T120539
CREATED:20250512T192840Z
LAST-MODIFIED:20250616T194145Z
UID:10000307-1873479600-1873483200@alkoranshriners.com
SUMMARY:Hunters Meeting
DESCRIPTION:
URL:https://alkoranshriners.com/event/hunters-meeting/2029-05-14/
LOCATION:Al Koran Office\, 6801 OH-291\, Suite B\, Middleburg Heights\, OH\, 44130\, United States
END:VEVENT
BEGIN:VEVENT
DTSTART;TZID=America/New_York:20290516T180000
DTEND;TZID=America/New_York:20290516T200000
DTSTAMP:20260425T120539
CREATED:20250930T191631Z
LAST-MODIFIED:20250930T191631Z
UID:10001207-1873648800-1873656000@alkoranshriners.com
SUMMARY:Massillon Shrine Club
DESCRIPTION:
URL:https://alkoranshriners.com/event/massillon-shrine-club-2/2029-05-16/
LOCATION:Massillon Masonic Temple (Clinton Lodge #47)\, 22nd St SW\, Massillon\, OH\, 44647
END:VEVENT
BEGIN:VEVENT
DTSTART;VALUE=DATE:20290517
DTEND;VALUE=DATE:20290518
DTSTAMP:20260425T120539
CREATED:20250722T124240Z
LAST-MODIFIED:20250930T191012Z
UID:10001087-1873670400-1873756799@alkoranshriners.com
SUMMARY:Youngstown Shrine Club Meeting
DESCRIPTION:
URL:https://alkoranshriners.com/event/youngstown-shrine-club-dinner-meeting/2029-05-17/
LOCATION:Youngstown Shrine Club\, 1735 S Range\, North Lima\, OH\, 44452\, United States
ORGANIZER;CN="Al Koran Shriners":MAILTO:clevelandshriners@gmail.com
END:VEVENT
BEGIN:VEVENT
DTSTART;TZID=America/New_York:20290517T180000
DTEND;TZID=America/New_York:20290517T200000
DTSTAMP:20260425T120539
CREATED:20250512T192559Z
LAST-MODIFIED:20250606T123903Z
UID:10000121-1873735200-1873742400@alkoranshriners.com
SUMMARY:Youngstown Shrine Club Meeting
DESCRIPTION:
URL:https://alkoranshriners.com/event/youngstown-shrine-club-meeting/2029-05-17/
LOCATION:Youngstown Shrine Club\, 1735 S Range\, North Lima\, OH\, 44452\, United States
END:VEVENT
BEGIN:VEVENT
DTSTART;TZID=America/New_York:20290522T180000
DTEND;TZID=America/New_York:20290522T200000
DTSTAMP:20260425T120539
CREATED:20260408T145522Z
LAST-MODIFIED:20260408T145522Z
UID:10001335-1874167200-1874174400@alkoranshriners.com
SUMMARY:Mariner's Meeting
DESCRIPTION:
URL:https://alkoranshriners.com/event/mariners-meeting-2-2/2029-05-22/
LOCATION:OH
ORGANIZER;CN="Al Koran Shriners":MAILTO:clevelandshriners@gmail.com
END:VEVENT
BEGIN:VEVENT
DTSTART;TZID=America/New_York:20290522T180000
DTEND;TZID=America/New_York:20290522T200000
DTSTAMP:20260425T120539
CREATED:20260408T173107Z
LAST-MODIFIED:20260408T173107Z
UID:10001452-1874167200-1874174400@alkoranshriners.com
SUMMARY:Mariners Meeting
DESCRIPTION:
URL:https://alkoranshriners.com/event/mariners-meeting-3/2029-05-22/
LOCATION:OH
END:VEVENT
BEGIN:VEVENT
DTSTART;TZID=America/New_York:20290523T180000
DTEND;TZID=America/New_York:20290523T200000
DTSTAMP:20260425T120539
CREATED:20250606T130337Z
LAST-MODIFIED:20250930T190850Z
UID:10001026-1874253600-1874260800@alkoranshriners.com
SUMMARY:Hillbilly Crooked River Clan #16 Meeting
DESCRIPTION:
URL:https://alkoranshriners.com/event/hillbilly-crooked-river-clan-16/2029-05-23/
LOCATION:St. Matthew’s Episcopal Church\, 9549 Highland Dr\, Brecksville\, OH\, 44141\, United States
END:VEVENT
BEGIN:VEVENT
DTSTART;TZID=America/New_York:20290528T180000
DTEND;TZID=America/New_York:20290528T200000
DTSTAMP:20260425T120539
CREATED:20250512T193459Z
LAST-MODIFIED:20250606T124855Z
UID:10000367-1874685600-1874692800@alkoranshriners.com
SUMMARY:Krazy Kops Meeting
DESCRIPTION:
URL:https://alkoranshriners.com/event/krazy-kops-meeting/2029-05-28/
LOCATION:Teamz Restaurant & Bar\, 6611 Eastland Rd\, Middleburg Heights\, OH\, 44130\, United States
END:VEVENT
BEGIN:VEVENT
DTSTART;TZID=America/New_York:20290528T180000
DTEND;TZID=America/New_York:20290528T200000
DTSTAMP:20260425T120539
CREATED:20250606T130759Z
LAST-MODIFIED:20250618T141551Z
UID:10000950-1874685600-1874692800@alkoranshriners.com
SUMMARY:Legion of Honor
DESCRIPTION:
URL:https://alkoranshriners.com/event/legion-of-honor/2029-05-28/
LOCATION:St. Matthew’s Episcopal Church\, 9549 Highland Dr\, Brecksville\, OH\, 44141\, United States
END:VEVENT
BEGIN:VEVENT
DTSTART;TZID=America/New_York:20290601T080000
DTEND;TZID=America/New_York:20290601T170000
DTSTAMP:20260425T120539
CREATED:20250930T191518Z
LAST-MODIFIED:20250930T191518Z
UID:10000840-1874995200-1875027600@alkoranshriners.com
SUMMARY:Mansfield Shrine Club
DESCRIPTION:
URL:https://alkoranshriners.com/event/mansfield-shrine-club-2/2029-06-01/
LOCATION:Baku Grotto\, 747 S Main St\, Mansfield\, OH\, 44907\, United States
END:VEVENT
BEGIN:VEVENT
DTSTART;TZID=America/New_York:20290604T180000
DTEND;TZID=America/New_York:20290604T200000
DTSTAMP:20260425T120539
CREATED:20250512T192700Z
LAST-MODIFIED:20250606T124119Z
UID:10000182-1875290400-1875297600@alkoranshriners.com
SUMMARY:Mid-Ohio Shrine Club Meeting
DESCRIPTION:
URL:https://alkoranshriners.com/event/mid-ohio-shrine-club-meeting/2029-06-04/
LOCATION:Old Bag of Nails\, 625 Lexington Ave #7\, Mansfield\, OH\, 44907\, United States
END:VEVENT
BEGIN:VEVENT
DTSTART;VALUE=DATE:20290606
DTEND;VALUE=DATE:20290607
DTSTAMP:20260425T120539
CREATED:20250513T195055Z
LAST-MODIFIED:20250618T143527Z
UID:10000198-1875398400-1875484799@alkoranshriners.com
SUMMARY:Shriners Awareness Day
DESCRIPTION:
URL:https://alkoranshriners.com/event/shriners-awareness-day/2029-06-06/
LOCATION:OH
CATEGORIES:Special Events
ATTACH;FMTTYPE=image/jpeg:https://alkoranshriners.com/wp-content/uploads/2025/05/ShrinersInternationalAwarenessDay.jpg
END:VEVENT
BEGIN:VEVENT
DTSTART;TZID=America/New_York:20290611T180000
DTEND;TZID=America/New_York:20290611T190000
DTSTAMP:20260425T120539
CREATED:20250512T192758Z
LAST-MODIFIED:20250605T135856Z
UID:10000062-1875895200-1875898800@alkoranshriners.com
SUMMARY:Divan and Board of Directors Meeting
DESCRIPTION:
URL:https://alkoranshriners.com/event/divan-and-board-of-directors-meeting/2029-06-11/
LOCATION:Al Koran Office\, 6801 OH-291\, Suite B\, Middleburg Heights\, OH\, 44130\, United States
ORGANIZER;CN="Al Koran Shriners":MAILTO:clevelandshriners@gmail.com
END:VEVENT
BEGIN:VEVENT
DTSTART;TZID=America/New_York:20290611T190000
DTEND;TZID=America/New_York:20290611T200000
DTSTAMP:20260425T120539
CREATED:20250512T192840Z
LAST-MODIFIED:20250616T194145Z
UID:10000308-1875898800-1875902400@alkoranshriners.com
SUMMARY:Hunters Meeting
DESCRIPTION:
URL:https://alkoranshriners.com/event/hunters-meeting/2029-06-11/
LOCATION:Al Koran Office\, 6801 OH-291\, Suite B\, Middleburg Heights\, OH\, 44130\, United States
END:VEVENT
BEGIN:VEVENT
DTSTART;TZID=America/New_York:20290613T173000
DTEND;TZID=America/New_York:20290613T210000
DTSTAMP:20260425T120539
CREATED:20250512T191711Z
LAST-MODIFIED:20250606T124632Z
UID:10000248-1876066200-1876078800@alkoranshriners.com
SUMMARY:Lakewood Shrine Club Meeting
DESCRIPTION:
URL:https://alkoranshriners.com/event/lakewood-shrine-club-meeting/2029-06-13/
LOCATION:Cleveland Yachting Club\, 200 Yacht Club Dr\, Rocky River\, OH\, 44116\, United States
END:VEVENT
BEGIN:VEVENT
DTSTART;TZID=America/New_York:20290613T190000
DTEND;TZID=America/New_York:20290613T210000
DTSTAMP:20260425T120539
CREATED:20260408T172936Z
LAST-MODIFIED:20260408T172937Z
UID:10001394-1876071600-1876078800@alkoranshriners.com
SUMMARY:Lorain County Shrine Club & Fire Brigade
DESCRIPTION:
URL:https://alkoranshriners.com/event/lorain-county-shrine-club-fire-brigade-2/2029-06-13/
LOCATION:OH
END:VEVENT
BEGIN:VEVENT
DTSTART;TZID=America/New_York:20290620T180000
DTEND;TZID=America/New_York:20290620T200000
DTSTAMP:20260425T120539
CREATED:20250930T191631Z
LAST-MODIFIED:20250930T191631Z
UID:10001208-1876672800-1876680000@alkoranshriners.com
SUMMARY:Massillon Shrine Club
DESCRIPTION:
URL:https://alkoranshriners.com/event/massillon-shrine-club-2/2029-06-20/
LOCATION:Massillon Masonic Temple (Clinton Lodge #47)\, 22nd St SW\, Massillon\, OH\, 44647
END:VEVENT
BEGIN:VEVENT
DTSTART;VALUE=DATE:20290621
DTEND;VALUE=DATE:20290622
DTSTAMP:20260425T120539
CREATED:20250722T124240Z
LAST-MODIFIED:20250930T191012Z
UID:10001088-1876694400-1876780799@alkoranshriners.com
SUMMARY:Youngstown Shrine Club Meeting
DESCRIPTION:
URL:https://alkoranshriners.com/event/youngstown-shrine-club-dinner-meeting/2029-06-21/
LOCATION:Youngstown Shrine Club\, 1735 S Range\, North Lima\, OH\, 44452\, United States
ORGANIZER;CN="Al Koran Shriners":MAILTO:clevelandshriners@gmail.com
END:VEVENT
BEGIN:VEVENT
DTSTART;TZID=America/New_York:20290621T180000
DTEND;TZID=America/New_York:20290621T200000
DTSTAMP:20260425T120539
CREATED:20250512T192559Z
LAST-MODIFIED:20250606T123903Z
UID:10000122-1876759200-1876766400@alkoranshriners.com
SUMMARY:Youngstown Shrine Club Meeting
DESCRIPTION:
URL:https://alkoranshriners.com/event/youngstown-shrine-club-meeting/2029-06-21/
LOCATION:Youngstown Shrine Club\, 1735 S Range\, North Lima\, OH\, 44452\, United States
END:VEVENT
BEGIN:VEVENT
DTSTART;TZID=America/New_York:20290625T180000
DTEND;TZID=America/New_York:20290625T200000
DTSTAMP:20260425T120539
CREATED:20250512T193459Z
LAST-MODIFIED:20250606T124855Z
UID:10000368-1877104800-1877112000@alkoranshriners.com
SUMMARY:Krazy Kops Meeting
DESCRIPTION:
URL:https://alkoranshriners.com/event/krazy-kops-meeting/2029-06-25/
LOCATION:Teamz Restaurant & Bar\, 6611 Eastland Rd\, Middleburg Heights\, OH\, 44130\, United States
END:VEVENT
BEGIN:VEVENT
DTSTART;TZID=America/New_York:20290625T180000
DTEND;TZID=America/New_York:20290625T200000
DTSTAMP:20260425T120539
CREATED:20250606T130759Z
LAST-MODIFIED:20250618T141551Z
UID:10000951-1877104800-1877112000@alkoranshriners.com
SUMMARY:Legion of Honor
DESCRIPTION:
URL:https://alkoranshriners.com/event/legion-of-honor/2029-06-25/
LOCATION:St. Matthew’s Episcopal Church\, 9549 Highland Dr\, Brecksville\, OH\, 44141\, United States
END:VEVENT
END:VCALENDAR