BEGIN:VCALENDAR
VERSION:2.0
PRODID:-//Al Koran Shriners - ECPv6.15.20//NONSGML v1.0//EN
CALSCALE:GREGORIAN
METHOD:PUBLISH
X-ORIGINAL-URL:https://alkoranshriners.com
X-WR-CALDESC:Events for Al Koran Shriners
REFRESH-INTERVAL;VALUE=DURATION:PT1H
X-Robots-Tag:noindex
X-PUBLISHED-TTL:PT1H
BEGIN:VTIMEZONE
TZID:America/New_York
BEGIN:DAYLIGHT
TZOFFSETFROM:-0500
TZOFFSETTO:-0400
TZNAME:EDT
DTSTART:20270314T070000
END:DAYLIGHT
BEGIN:STANDARD
TZOFFSETFROM:-0400
TZOFFSETTO:-0500
TZNAME:EST
DTSTART:20271107T060000
END:STANDARD
BEGIN:DAYLIGHT
TZOFFSETFROM:-0500
TZOFFSETTO:-0400
TZNAME:EDT
DTSTART:20280312T070000
END:DAYLIGHT
BEGIN:STANDARD
TZOFFSETFROM:-0400
TZOFFSETTO:-0500
TZNAME:EST
DTSTART:20281105T060000
END:STANDARD
BEGIN:DAYLIGHT
TZOFFSETFROM:-0500
TZOFFSETTO:-0400
TZNAME:EDT
DTSTART:20290311T070000
END:DAYLIGHT
BEGIN:STANDARD
TZOFFSETFROM:-0400
TZOFFSETTO:-0500
TZNAME:EST
DTSTART:20291104T060000
END:STANDARD
BEGIN:DAYLIGHT
TZOFFSETFROM:-0500
TZOFFSETTO:-0400
TZNAME:EDT
DTSTART:20300310T070000
END:DAYLIGHT
BEGIN:STANDARD
TZOFFSETFROM:-0400
TZOFFSETTO:-0500
TZNAME:EST
DTSTART:20301103T060000
END:STANDARD
END:VTIMEZONE
BEGIN:VEVENT
DTSTART;TZID=America/New_York:20281201T080000
DTEND;TZID=America/New_York:20281201T170000
DTSTAMP:20260425T085040
CREATED:20250930T191518Z
LAST-MODIFIED:20250930T191518Z
UID:10000838-1859270400-1859302800@alkoranshriners.com
SUMMARY:Mansfield Shrine Club
DESCRIPTION:
URL:https://alkoranshriners.com/event/mansfield-shrine-club-2/2028-12-01/
LOCATION:Baku Grotto\, 747 S Main St\, Mansfield\, OH\, 44907\, United States
END:VEVENT
BEGIN:VEVENT
DTSTART;TZID=America/New_York:20281204T180000
DTEND;TZID=America/New_York:20281204T200000
DTSTAMP:20260425T085040
CREATED:20250512T192700Z
LAST-MODIFIED:20250606T124119Z
UID:10000176-1859565600-1859572800@alkoranshriners.com
SUMMARY:Mid-Ohio Shrine Club Meeting
DESCRIPTION:
URL:https://alkoranshriners.com/event/mid-ohio-shrine-club-meeting/2028-12-04/
LOCATION:Old Bag of Nails\, 625 Lexington Ave #7\, Mansfield\, OH\, 44907\, United States
END:VEVENT
BEGIN:VEVENT
DTSTART;TZID=America/New_York:20281211T180000
DTEND;TZID=America/New_York:20281211T190000
DTSTAMP:20260425T085040
CREATED:20250512T192758Z
LAST-MODIFIED:20250605T135856Z
UID:10000056-1860170400-1860174000@alkoranshriners.com
SUMMARY:Divan and Board of Directors Meeting
DESCRIPTION:
URL:https://alkoranshriners.com/event/divan-and-board-of-directors-meeting/2028-12-11/
LOCATION:Al Koran Office\, 6801 OH-291\, Suite B\, Middleburg Heights\, OH\, 44130\, United States
ORGANIZER;CN="Al Koran Shriners":MAILTO:clevelandshriners@gmail.com
END:VEVENT
BEGIN:VEVENT
DTSTART;TZID=America/New_York:20281211T190000
DTEND;TZID=America/New_York:20281211T200000
DTSTAMP:20260425T085040
CREATED:20250512T192840Z
LAST-MODIFIED:20250616T194145Z
UID:10000302-1860174000-1860177600@alkoranshriners.com
SUMMARY:Hunters Meeting
DESCRIPTION:
URL:https://alkoranshriners.com/event/hunters-meeting/2028-12-11/
LOCATION:Al Koran Office\, 6801 OH-291\, Suite B\, Middleburg Heights\, OH\, 44130\, United States
END:VEVENT
BEGIN:VEVENT
DTSTART;TZID=America/New_York:20281213T173000
DTEND;TZID=America/New_York:20281213T210000
DTSTAMP:20260425T085040
CREATED:20250512T191711Z
LAST-MODIFIED:20250606T124632Z
UID:10000242-1860341400-1860354000@alkoranshriners.com
SUMMARY:Lakewood Shrine Club Meeting
DESCRIPTION:
URL:https://alkoranshriners.com/event/lakewood-shrine-club-meeting/2028-12-13/
LOCATION:Cleveland Yachting Club\, 200 Yacht Club Dr\, Rocky River\, OH\, 44116\, United States
END:VEVENT
BEGIN:VEVENT
DTSTART;TZID=America/New_York:20281213T190000
DTEND;TZID=America/New_York:20281213T210000
DTSTAMP:20260425T085040
CREATED:20260408T172936Z
LAST-MODIFIED:20260408T172937Z
UID:10001388-1860346800-1860354000@alkoranshriners.com
SUMMARY:Lorain County Shrine Club & Fire Brigade
DESCRIPTION:
URL:https://alkoranshriners.com/event/lorain-county-shrine-club-fire-brigade-2/2028-12-13/
LOCATION:OH
END:VEVENT
BEGIN:VEVENT
DTSTART;TZID=America/New_York:20281220T180000
DTEND;TZID=America/New_York:20281220T200000
DTSTAMP:20260425T085040
CREATED:20250930T191631Z
LAST-MODIFIED:20250930T191631Z
UID:10001202-1860948000-1860955200@alkoranshriners.com
SUMMARY:Massillon Shrine Club
DESCRIPTION:
URL:https://alkoranshriners.com/event/massillon-shrine-club-2/2028-12-20/
LOCATION:Massillon Masonic Temple (Clinton Lodge #47)\, 22nd St SW\, Massillon\, OH\, 44647
END:VEVENT
BEGIN:VEVENT
DTSTART;VALUE=DATE:20281221
DTEND;VALUE=DATE:20281222
DTSTAMP:20260425T085040
CREATED:20250722T124240Z
LAST-MODIFIED:20250930T191012Z
UID:10001082-1860969600-1861055999@alkoranshriners.com
SUMMARY:Youngstown Shrine Club Meeting
DESCRIPTION:
URL:https://alkoranshriners.com/event/youngstown-shrine-club-dinner-meeting/2028-12-21/
LOCATION:Youngstown Shrine Club\, 1735 S Range\, North Lima\, OH\, 44452\, United States
ORGANIZER;CN="Al Koran Shriners":MAILTO:clevelandshriners@gmail.com
END:VEVENT
BEGIN:VEVENT
DTSTART;TZID=America/New_York:20281221T180000
DTEND;TZID=America/New_York:20281221T200000
DTSTAMP:20260425T085040
CREATED:20250512T192559Z
LAST-MODIFIED:20250606T123903Z
UID:10000116-1861034400-1861041600@alkoranshriners.com
SUMMARY:Youngstown Shrine Club Meeting
DESCRIPTION:
URL:https://alkoranshriners.com/event/youngstown-shrine-club-meeting/2028-12-21/
LOCATION:Youngstown Shrine Club\, 1735 S Range\, North Lima\, OH\, 44452\, United States
END:VEVENT
BEGIN:VEVENT
DTSTART;TZID=America/New_York:20281225T180000
DTEND;TZID=America/New_York:20281225T200000
DTSTAMP:20260425T085040
CREATED:20250512T193459Z
LAST-MODIFIED:20250606T124855Z
UID:10000362-1861380000-1861387200@alkoranshriners.com
SUMMARY:Krazy Kops Meeting
DESCRIPTION:
URL:https://alkoranshriners.com/event/krazy-kops-meeting/2028-12-25/
LOCATION:Teamz Restaurant & Bar\, 6611 Eastland Rd\, Middleburg Heights\, OH\, 44130\, United States
END:VEVENT
BEGIN:VEVENT
DTSTART;TZID=America/New_York:20281225T180000
DTEND;TZID=America/New_York:20281225T200000
DTSTAMP:20260425T085040
CREATED:20250606T130759Z
LAST-MODIFIED:20250618T141551Z
UID:10000945-1861380000-1861387200@alkoranshriners.com
SUMMARY:Legion of Honor
DESCRIPTION:
URL:https://alkoranshriners.com/event/legion-of-honor/2028-12-25/
LOCATION:St. Matthew’s Episcopal Church\, 9549 Highland Dr\, Brecksville\, OH\, 44141\, United States
END:VEVENT
BEGIN:VEVENT
DTSTART;TZID=America/New_York:20281226T180000
DTEND;TZID=America/New_York:20281226T200000
DTSTAMP:20260425T085040
CREATED:20260408T145522Z
LAST-MODIFIED:20260408T145522Z
UID:10001330-1861466400-1861473600@alkoranshriners.com
SUMMARY:Mariner's Meeting
DESCRIPTION:
URL:https://alkoranshriners.com/event/mariners-meeting-2-2/2028-12-26/
LOCATION:OH
ORGANIZER;CN="Al Koran Shriners":MAILTO:clevelandshriners@gmail.com
END:VEVENT
BEGIN:VEVENT
DTSTART;TZID=America/New_York:20281226T180000
DTEND;TZID=America/New_York:20281226T200000
DTSTAMP:20260425T085040
CREATED:20260408T173107Z
LAST-MODIFIED:20260408T173107Z
UID:10001447-1861466400-1861473600@alkoranshriners.com
SUMMARY:Mariners Meeting
DESCRIPTION:
URL:https://alkoranshriners.com/event/mariners-meeting-3/2028-12-26/
LOCATION:OH
END:VEVENT
BEGIN:VEVENT
DTSTART;TZID=America/New_York:20281227T180000
DTEND;TZID=America/New_York:20281227T200000
DTSTAMP:20260425T085040
CREATED:20250606T130337Z
LAST-MODIFIED:20250930T190850Z
UID:10001021-1861552800-1861560000@alkoranshriners.com
SUMMARY:Hillbilly Crooked River Clan #16 Meeting
DESCRIPTION:
URL:https://alkoranshriners.com/event/hillbilly-crooked-river-clan-16/2028-12-27/
LOCATION:St. Matthew’s Episcopal Church\, 9549 Highland Dr\, Brecksville\, OH\, 44141\, United States
END:VEVENT
BEGIN:VEVENT
DTSTART;TZID=America/New_York:20290101T180000
DTEND;TZID=America/New_York:20290101T200000
DTSTAMP:20260425T085040
CREATED:20250512T192700Z
LAST-MODIFIED:20250606T124119Z
UID:10000177-1861984800-1861992000@alkoranshriners.com
SUMMARY:Mid-Ohio Shrine Club Meeting
DESCRIPTION:
URL:https://alkoranshriners.com/event/mid-ohio-shrine-club-meeting/2029-01-01/
LOCATION:Old Bag of Nails\, 625 Lexington Ave #7\, Mansfield\, OH\, 44907\, United States
END:VEVENT
BEGIN:VEVENT
DTSTART;TZID=America/New_York:20290108T180000
DTEND;TZID=America/New_York:20290108T190000
DTSTAMP:20260425T085040
CREATED:20250512T192758Z
LAST-MODIFIED:20250605T135856Z
UID:10000057-1862589600-1862593200@alkoranshriners.com
SUMMARY:Divan and Board of Directors Meeting
DESCRIPTION:
URL:https://alkoranshriners.com/event/divan-and-board-of-directors-meeting/2029-01-08/
LOCATION:Al Koran Office\, 6801 OH-291\, Suite B\, Middleburg Heights\, OH\, 44130\, United States
ORGANIZER;CN="Al Koran Shriners":MAILTO:clevelandshriners@gmail.com
END:VEVENT
BEGIN:VEVENT
DTSTART;TZID=America/New_York:20290108T190000
DTEND;TZID=America/New_York:20290108T200000
DTSTAMP:20260425T085040
CREATED:20250512T192840Z
LAST-MODIFIED:20250616T194145Z
UID:10000303-1862593200-1862596800@alkoranshriners.com
SUMMARY:Hunters Meeting
DESCRIPTION:
URL:https://alkoranshriners.com/event/hunters-meeting/2029-01-08/
LOCATION:Al Koran Office\, 6801 OH-291\, Suite B\, Middleburg Heights\, OH\, 44130\, United States
END:VEVENT
BEGIN:VEVENT
DTSTART;TZID=America/New_York:20290110T173000
DTEND;TZID=America/New_York:20290110T210000
DTSTAMP:20260425T085040
CREATED:20250512T191711Z
LAST-MODIFIED:20250606T124632Z
UID:10000243-1862760600-1862773200@alkoranshriners.com
SUMMARY:Lakewood Shrine Club Meeting
DESCRIPTION:
URL:https://alkoranshriners.com/event/lakewood-shrine-club-meeting/2029-01-10/
LOCATION:Cleveland Yachting Club\, 200 Yacht Club Dr\, Rocky River\, OH\, 44116\, United States
END:VEVENT
BEGIN:VEVENT
DTSTART;TZID=America/New_York:20290110T190000
DTEND;TZID=America/New_York:20290110T210000
DTSTAMP:20260425T085040
CREATED:20260408T172936Z
LAST-MODIFIED:20260408T172937Z
UID:10001389-1862766000-1862773200@alkoranshriners.com
SUMMARY:Lorain County Shrine Club & Fire Brigade
DESCRIPTION:
URL:https://alkoranshriners.com/event/lorain-county-shrine-club-fire-brigade-2/2029-01-10/
LOCATION:OH
END:VEVENT
BEGIN:VEVENT
DTSTART;TZID=America/New_York:20290117T180000
DTEND;TZID=America/New_York:20290117T200000
DTSTAMP:20260425T085040
CREATED:20250930T191631Z
LAST-MODIFIED:20250930T191631Z
UID:10001203-1863367200-1863374400@alkoranshriners.com
SUMMARY:Massillon Shrine Club
DESCRIPTION:
URL:https://alkoranshriners.com/event/massillon-shrine-club-2/2029-01-17/
LOCATION:Massillon Masonic Temple (Clinton Lodge #47)\, 22nd St SW\, Massillon\, OH\, 44647
END:VEVENT
BEGIN:VEVENT
DTSTART;VALUE=DATE:20290118
DTEND;VALUE=DATE:20290119
DTSTAMP:20260425T085040
CREATED:20250722T124240Z
LAST-MODIFIED:20250930T191012Z
UID:10001083-1863388800-1863475199@alkoranshriners.com
SUMMARY:Youngstown Shrine Club Meeting
DESCRIPTION:
URL:https://alkoranshriners.com/event/youngstown-shrine-club-dinner-meeting/2029-01-18/
LOCATION:Youngstown Shrine Club\, 1735 S Range\, North Lima\, OH\, 44452\, United States
ORGANIZER;CN="Al Koran Shriners":MAILTO:clevelandshriners@gmail.com
END:VEVENT
BEGIN:VEVENT
DTSTART;TZID=America/New_York:20290118T180000
DTEND;TZID=America/New_York:20290118T200000
DTSTAMP:20260425T085040
CREATED:20250512T192559Z
LAST-MODIFIED:20250606T123903Z
UID:10000117-1863453600-1863460800@alkoranshriners.com
SUMMARY:Youngstown Shrine Club Meeting
DESCRIPTION:
URL:https://alkoranshriners.com/event/youngstown-shrine-club-meeting/2029-01-18/
LOCATION:Youngstown Shrine Club\, 1735 S Range\, North Lima\, OH\, 44452\, United States
END:VEVENT
BEGIN:VEVENT
DTSTART;TZID=America/New_York:20290122T180000
DTEND;TZID=America/New_York:20290122T200000
DTSTAMP:20260425T085040
CREATED:20250512T193459Z
LAST-MODIFIED:20250606T124855Z
UID:10000363-1863799200-1863806400@alkoranshriners.com
SUMMARY:Krazy Kops Meeting
DESCRIPTION:
URL:https://alkoranshriners.com/event/krazy-kops-meeting/2029-01-22/
LOCATION:Teamz Restaurant & Bar\, 6611 Eastland Rd\, Middleburg Heights\, OH\, 44130\, United States
END:VEVENT
BEGIN:VEVENT
DTSTART;TZID=America/New_York:20290122T180000
DTEND;TZID=America/New_York:20290122T200000
DTSTAMP:20260425T085040
CREATED:20250606T130759Z
LAST-MODIFIED:20250618T141551Z
UID:10000946-1863799200-1863806400@alkoranshriners.com
SUMMARY:Legion of Honor
DESCRIPTION:
URL:https://alkoranshriners.com/event/legion-of-honor/2029-01-22/
LOCATION:St. Matthew’s Episcopal Church\, 9549 Highland Dr\, Brecksville\, OH\, 44141\, United States
END:VEVENT
BEGIN:VEVENT
DTSTART;TZID=America/New_York:20290123T180000
DTEND;TZID=America/New_York:20290123T200000
DTSTAMP:20260425T085040
CREATED:20260408T145522Z
LAST-MODIFIED:20260408T145522Z
UID:10001331-1863885600-1863892800@alkoranshriners.com
SUMMARY:Mariner's Meeting
DESCRIPTION:
URL:https://alkoranshriners.com/event/mariners-meeting-2-2/2029-01-23/
LOCATION:OH
ORGANIZER;CN="Al Koran Shriners":MAILTO:clevelandshriners@gmail.com
END:VEVENT
BEGIN:VEVENT
DTSTART;TZID=America/New_York:20290123T180000
DTEND;TZID=America/New_York:20290123T200000
DTSTAMP:20260425T085040
CREATED:20260408T173107Z
LAST-MODIFIED:20260408T173107Z
UID:10001448-1863885600-1863892800@alkoranshriners.com
SUMMARY:Mariners Meeting
DESCRIPTION:
URL:https://alkoranshriners.com/event/mariners-meeting-3/2029-01-23/
LOCATION:OH
END:VEVENT
BEGIN:VEVENT
DTSTART;TZID=America/New_York:20290124T180000
DTEND;TZID=America/New_York:20290124T200000
DTSTAMP:20260425T085040
CREATED:20250606T130337Z
LAST-MODIFIED:20250930T190850Z
UID:10001022-1863972000-1863979200@alkoranshriners.com
SUMMARY:Hillbilly Crooked River Clan #16 Meeting
DESCRIPTION:
URL:https://alkoranshriners.com/event/hillbilly-crooked-river-clan-16/2029-01-24/
LOCATION:St. Matthew’s Episcopal Church\, 9549 Highland Dr\, Brecksville\, OH\, 44141\, United States
END:VEVENT
BEGIN:VEVENT
DTSTART;TZID=America/New_York:20290205T180000
DTEND;TZID=America/New_York:20290205T200000
DTSTAMP:20260425T085040
CREATED:20250512T192700Z
LAST-MODIFIED:20250606T124119Z
UID:10000178-1865008800-1865016000@alkoranshriners.com
SUMMARY:Mid-Ohio Shrine Club Meeting
DESCRIPTION:
URL:https://alkoranshriners.com/event/mid-ohio-shrine-club-meeting/2029-02-05/
LOCATION:Old Bag of Nails\, 625 Lexington Ave #7\, Mansfield\, OH\, 44907\, United States
END:VEVENT
BEGIN:VEVENT
DTSTART;TZID=America/New_York:20290212T180000
DTEND;TZID=America/New_York:20290212T190000
DTSTAMP:20260425T085040
CREATED:20250512T192758Z
LAST-MODIFIED:20250605T135856Z
UID:10000058-1865613600-1865617200@alkoranshriners.com
SUMMARY:Divan and Board of Directors Meeting
DESCRIPTION:
URL:https://alkoranshriners.com/event/divan-and-board-of-directors-meeting/2029-02-12/
LOCATION:Al Koran Office\, 6801 OH-291\, Suite B\, Middleburg Heights\, OH\, 44130\, United States
ORGANIZER;CN="Al Koran Shriners":MAILTO:clevelandshriners@gmail.com
END:VEVENT
BEGIN:VEVENT
DTSTART;TZID=America/New_York:20290212T190000
DTEND;TZID=America/New_York:20290212T200000
DTSTAMP:20260425T085040
CREATED:20250512T192840Z
LAST-MODIFIED:20250616T194145Z
UID:10000304-1865617200-1865620800@alkoranshriners.com
SUMMARY:Hunters Meeting
DESCRIPTION:
URL:https://alkoranshriners.com/event/hunters-meeting/2029-02-12/
LOCATION:Al Koran Office\, 6801 OH-291\, Suite B\, Middleburg Heights\, OH\, 44130\, United States
END:VEVENT
END:VCALENDAR