BEGIN:VCALENDAR
VERSION:2.0
PRODID:-//Al Koran Shriners - ECPv6.15.20//NONSGML v1.0//EN
CALSCALE:GREGORIAN
METHOD:PUBLISH
X-ORIGINAL-URL:https://alkoranshriners.com
X-WR-CALDESC:Events for Al Koran Shriners
REFRESH-INTERVAL;VALUE=DURATION:PT1H
X-Robots-Tag:noindex
X-PUBLISHED-TTL:PT1H
BEGIN:VTIMEZONE
TZID:America/New_York
BEGIN:DAYLIGHT
TZOFFSETFROM:-0500
TZOFFSETTO:-0400
TZNAME:EDT
DTSTART:20280312T070000
END:DAYLIGHT
BEGIN:STANDARD
TZOFFSETFROM:-0400
TZOFFSETTO:-0500
TZNAME:EST
DTSTART:20281105T060000
END:STANDARD
BEGIN:DAYLIGHT
TZOFFSETFROM:-0500
TZOFFSETTO:-0400
TZNAME:EDT
DTSTART:20290311T070000
END:DAYLIGHT
BEGIN:STANDARD
TZOFFSETFROM:-0400
TZOFFSETTO:-0500
TZNAME:EST
DTSTART:20291104T060000
END:STANDARD
BEGIN:DAYLIGHT
TZOFFSETFROM:-0500
TZOFFSETTO:-0400
TZNAME:EDT
DTSTART:20300310T070000
END:DAYLIGHT
BEGIN:STANDARD
TZOFFSETFROM:-0400
TZOFFSETTO:-0500
TZNAME:EST
DTSTART:20301103T060000
END:STANDARD
BEGIN:DAYLIGHT
TZOFFSETFROM:-0500
TZOFFSETTO:-0400
TZNAME:EDT
DTSTART:20310309T070000
END:DAYLIGHT
BEGIN:STANDARD
TZOFFSETFROM:-0400
TZOFFSETTO:-0500
TZNAME:EST
DTSTART:20311102T060000
END:STANDARD
END:VTIMEZONE
BEGIN:VEVENT
DTSTART;TZID=America/New_York:20291114T190000
DTEND;TZID=America/New_York:20291114T210000
DTSTAMP:20260426T001318
CREATED:20260408T172936Z
LAST-MODIFIED:20260408T172937Z
UID:10001399-1889377200-1889384400@alkoranshriners.com
SUMMARY:Lorain County Shrine Club & Fire Brigade
DESCRIPTION:
URL:https://alkoranshriners.com/event/lorain-county-shrine-club-fire-brigade-2/2029-11-14/
LOCATION:OH
END:VEVENT
BEGIN:VEVENT
DTSTART;VALUE=DATE:20291115
DTEND;VALUE=DATE:20291116
DTSTAMP:20260426T001318
CREATED:20250722T124240Z
LAST-MODIFIED:20250930T191012Z
UID:10001093-1889395200-1889481599@alkoranshriners.com
SUMMARY:Youngstown Shrine Club Meeting
DESCRIPTION:
URL:https://alkoranshriners.com/event/youngstown-shrine-club-dinner-meeting/2029-11-15/
LOCATION:Youngstown Shrine Club\, 1735 S Range\, North Lima\, OH\, 44452\, United States
ORGANIZER;CN="Al Koran Shriners":MAILTO:clevelandshriners@gmail.com
END:VEVENT
BEGIN:VEVENT
DTSTART;TZID=America/New_York:20291115T180000
DTEND;TZID=America/New_York:20291115T200000
DTSTAMP:20260426T001318
CREATED:20250512T192559Z
LAST-MODIFIED:20250606T123903Z
UID:10000127-1889460000-1889467200@alkoranshriners.com
SUMMARY:Youngstown Shrine Club Meeting
DESCRIPTION:
URL:https://alkoranshriners.com/event/youngstown-shrine-club-meeting/2029-11-15/
LOCATION:Youngstown Shrine Club\, 1735 S Range\, North Lima\, OH\, 44452\, United States
END:VEVENT
BEGIN:VEVENT
DTSTART;TZID=America/New_York:20291121T180000
DTEND;TZID=America/New_York:20291121T200000
DTSTAMP:20260426T001318
CREATED:20250930T191631Z
LAST-MODIFIED:20250930T191631Z
UID:10001213-1889978400-1889985600@alkoranshriners.com
SUMMARY:Massillon Shrine Club
DESCRIPTION:
URL:https://alkoranshriners.com/event/massillon-shrine-club-2/2029-11-21/
LOCATION:Massillon Masonic Temple (Clinton Lodge #47)\, 22nd St SW\, Massillon\, OH\, 44647
END:VEVENT
BEGIN:VEVENT
DTSTART;TZID=America/New_York:20291126T180000
DTEND;TZID=America/New_York:20291126T200000
DTSTAMP:20260426T001318
CREATED:20250512T193459Z
LAST-MODIFIED:20250606T124855Z
UID:10000373-1890410400-1890417600@alkoranshriners.com
SUMMARY:Krazy Kops Meeting
DESCRIPTION:
URL:https://alkoranshriners.com/event/krazy-kops-meeting/2029-11-26/
LOCATION:Teamz Restaurant & Bar\, 6611 Eastland Rd\, Middleburg Heights\, OH\, 44130\, United States
END:VEVENT
BEGIN:VEVENT
DTSTART;TZID=America/New_York:20291126T180000
DTEND;TZID=America/New_York:20291126T200000
DTSTAMP:20260426T001318
CREATED:20250606T130759Z
LAST-MODIFIED:20250618T141551Z
UID:10000956-1890410400-1890417600@alkoranshriners.com
SUMMARY:Legion of Honor
DESCRIPTION:
URL:https://alkoranshriners.com/event/legion-of-honor/2029-11-26/
LOCATION:St. Matthew’s Episcopal Church\, 9549 Highland Dr\, Brecksville\, OH\, 44141\, United States
END:VEVENT
BEGIN:VEVENT
DTSTART;TZID=America/New_York:20291127T180000
DTEND;TZID=America/New_York:20291127T200000
DTSTAMP:20260426T001318
CREATED:20260408T145522Z
LAST-MODIFIED:20260408T145522Z
UID:10001341-1890496800-1890504000@alkoranshriners.com
SUMMARY:Mariner's Meeting
DESCRIPTION:
URL:https://alkoranshriners.com/event/mariners-meeting-2-2/2029-11-27/
LOCATION:OH
ORGANIZER;CN="Al Koran Shriners":MAILTO:clevelandshriners@gmail.com
END:VEVENT
BEGIN:VEVENT
DTSTART;TZID=America/New_York:20291127T180000
DTEND;TZID=America/New_York:20291127T200000
DTSTAMP:20260426T001318
CREATED:20260408T173107Z
LAST-MODIFIED:20260408T173107Z
UID:10001458-1890496800-1890504000@alkoranshriners.com
SUMMARY:Mariners Meeting
DESCRIPTION:
URL:https://alkoranshriners.com/event/mariners-meeting-3/2029-11-27/
LOCATION:OH
END:VEVENT
BEGIN:VEVENT
DTSTART;TZID=America/New_York:20291128T180000
DTEND;TZID=America/New_York:20291128T200000
DTSTAMP:20260426T001318
CREATED:20250606T130337Z
LAST-MODIFIED:20250930T190850Z
UID:10001032-1890583200-1890590400@alkoranshriners.com
SUMMARY:Hillbilly Crooked River Clan #16 Meeting
DESCRIPTION:
URL:https://alkoranshriners.com/event/hillbilly-crooked-river-clan-16/2029-11-28/
LOCATION:St. Matthew’s Episcopal Church\, 9549 Highland Dr\, Brecksville\, OH\, 44141\, United States
END:VEVENT
BEGIN:VEVENT
DTSTART;TZID=America/New_York:20291203T180000
DTEND;TZID=America/New_York:20291203T200000
DTSTAMP:20260426T001318
CREATED:20250512T192700Z
LAST-MODIFIED:20250606T124119Z
UID:10000188-1891015200-1891022400@alkoranshriners.com
SUMMARY:Mid-Ohio Shrine Club Meeting
DESCRIPTION:
URL:https://alkoranshriners.com/event/mid-ohio-shrine-club-meeting/2029-12-03/
LOCATION:Old Bag of Nails\, 625 Lexington Ave #7\, Mansfield\, OH\, 44907\, United States
END:VEVENT
BEGIN:VEVENT
DTSTART;TZID=America/New_York:20291207T080000
DTEND;TZID=America/New_York:20291207T170000
DTSTAMP:20260426T001318
CREATED:20250930T191518Z
LAST-MODIFIED:20250930T191518Z
UID:10000842-1891324800-1891357200@alkoranshriners.com
SUMMARY:Mansfield Shrine Club
DESCRIPTION:
URL:https://alkoranshriners.com/event/mansfield-shrine-club-2/2029-12-07/
LOCATION:Baku Grotto\, 747 S Main St\, Mansfield\, OH\, 44907\, United States
END:VEVENT
BEGIN:VEVENT
DTSTART;TZID=America/New_York:20291210T180000
DTEND;TZID=America/New_York:20291210T190000
DTSTAMP:20260426T001318
CREATED:20250512T192758Z
LAST-MODIFIED:20250605T135856Z
UID:10000068-1891620000-1891623600@alkoranshriners.com
SUMMARY:Divan and Board of Directors Meeting
DESCRIPTION:
URL:https://alkoranshriners.com/event/divan-and-board-of-directors-meeting/2029-12-10/
LOCATION:Al Koran Office\, 6801 OH-291\, Suite B\, Middleburg Heights\, OH\, 44130\, United States
ORGANIZER;CN="Al Koran Shriners":MAILTO:clevelandshriners@gmail.com
END:VEVENT
BEGIN:VEVENT
DTSTART;TZID=America/New_York:20291210T190000
DTEND;TZID=America/New_York:20291210T200000
DTSTAMP:20260426T001318
CREATED:20250512T192840Z
LAST-MODIFIED:20250616T194145Z
UID:10000314-1891623600-1891627200@alkoranshriners.com
SUMMARY:Hunters Meeting
DESCRIPTION:
URL:https://alkoranshriners.com/event/hunters-meeting/2029-12-10/
LOCATION:Al Koran Office\, 6801 OH-291\, Suite B\, Middleburg Heights\, OH\, 44130\, United States
END:VEVENT
BEGIN:VEVENT
DTSTART;TZID=America/New_York:20291212T173000
DTEND;TZID=America/New_York:20291212T210000
DTSTAMP:20260426T001318
CREATED:20250512T191711Z
LAST-MODIFIED:20250606T124632Z
UID:10000254-1891791000-1891803600@alkoranshriners.com
SUMMARY:Lakewood Shrine Club Meeting
DESCRIPTION:
URL:https://alkoranshriners.com/event/lakewood-shrine-club-meeting/2029-12-12/
LOCATION:Cleveland Yachting Club\, 200 Yacht Club Dr\, Rocky River\, OH\, 44116\, United States
END:VEVENT
BEGIN:VEVENT
DTSTART;TZID=America/New_York:20291212T190000
DTEND;TZID=America/New_York:20291212T210000
DTSTAMP:20260426T001318
CREATED:20260408T172936Z
LAST-MODIFIED:20260408T172937Z
UID:10001400-1891796400-1891803600@alkoranshriners.com
SUMMARY:Lorain County Shrine Club & Fire Brigade
DESCRIPTION:
URL:https://alkoranshriners.com/event/lorain-county-shrine-club-fire-brigade-2/2029-12-12/
LOCATION:OH
END:VEVENT
BEGIN:VEVENT
DTSTART;TZID=America/New_York:20291219T180000
DTEND;TZID=America/New_York:20291219T200000
DTSTAMP:20260426T001318
CREATED:20250930T191631Z
LAST-MODIFIED:20250930T191631Z
UID:10001214-1892397600-1892404800@alkoranshriners.com
SUMMARY:Massillon Shrine Club
DESCRIPTION:
URL:https://alkoranshriners.com/event/massillon-shrine-club-2/2029-12-19/
LOCATION:Massillon Masonic Temple (Clinton Lodge #47)\, 22nd St SW\, Massillon\, OH\, 44647
END:VEVENT
BEGIN:VEVENT
DTSTART;VALUE=DATE:20291220
DTEND;VALUE=DATE:20291221
DTSTAMP:20260426T001318
CREATED:20250722T124240Z
LAST-MODIFIED:20250930T191012Z
UID:10001094-1892419200-1892505599@alkoranshriners.com
SUMMARY:Youngstown Shrine Club Meeting
DESCRIPTION:
URL:https://alkoranshriners.com/event/youngstown-shrine-club-dinner-meeting/2029-12-20/
LOCATION:Youngstown Shrine Club\, 1735 S Range\, North Lima\, OH\, 44452\, United States
ORGANIZER;CN="Al Koran Shriners":MAILTO:clevelandshriners@gmail.com
END:VEVENT
BEGIN:VEVENT
DTSTART;TZID=America/New_York:20291220T180000
DTEND;TZID=America/New_York:20291220T200000
DTSTAMP:20260426T001318
CREATED:20250512T192559Z
LAST-MODIFIED:20250606T123903Z
UID:10000128-1892484000-1892491200@alkoranshriners.com
SUMMARY:Youngstown Shrine Club Meeting
DESCRIPTION:
URL:https://alkoranshriners.com/event/youngstown-shrine-club-meeting/2029-12-20/
LOCATION:Youngstown Shrine Club\, 1735 S Range\, North Lima\, OH\, 44452\, United States
END:VEVENT
BEGIN:VEVENT
DTSTART;TZID=America/New_York:20291224T180000
DTEND;TZID=America/New_York:20291224T200000
DTSTAMP:20260426T001318
CREATED:20250512T193459Z
LAST-MODIFIED:20250606T124855Z
UID:10000374-1892829600-1892836800@alkoranshriners.com
SUMMARY:Krazy Kops Meeting
DESCRIPTION:
URL:https://alkoranshriners.com/event/krazy-kops-meeting/2029-12-24/
LOCATION:Teamz Restaurant & Bar\, 6611 Eastland Rd\, Middleburg Heights\, OH\, 44130\, United States
END:VEVENT
BEGIN:VEVENT
DTSTART;TZID=America/New_York:20291224T180000
DTEND;TZID=America/New_York:20291224T200000
DTSTAMP:20260426T001318
CREATED:20250606T130759Z
LAST-MODIFIED:20250618T141551Z
UID:10000957-1892829600-1892836800@alkoranshriners.com
SUMMARY:Legion of Honor
DESCRIPTION:
URL:https://alkoranshriners.com/event/legion-of-honor/2029-12-24/
LOCATION:St. Matthew’s Episcopal Church\, 9549 Highland Dr\, Brecksville\, OH\, 44141\, United States
END:VEVENT
BEGIN:VEVENT
DTSTART;TZID=America/New_York:20291225T180000
DTEND;TZID=America/New_York:20291225T200000
DTSTAMP:20260426T001318
CREATED:20260408T145522Z
LAST-MODIFIED:20260408T145522Z
UID:10001342-1892916000-1892923200@alkoranshriners.com
SUMMARY:Mariner's Meeting
DESCRIPTION:
URL:https://alkoranshriners.com/event/mariners-meeting-2-2/2029-12-25/
LOCATION:OH
ORGANIZER;CN="Al Koran Shriners":MAILTO:clevelandshriners@gmail.com
END:VEVENT
BEGIN:VEVENT
DTSTART;TZID=America/New_York:20291225T180000
DTEND;TZID=America/New_York:20291225T200000
DTSTAMP:20260426T001318
CREATED:20260408T173107Z
LAST-MODIFIED:20260408T173107Z
UID:10001459-1892916000-1892923200@alkoranshriners.com
SUMMARY:Mariners Meeting
DESCRIPTION:
URL:https://alkoranshriners.com/event/mariners-meeting-3/2029-12-25/
LOCATION:OH
END:VEVENT
BEGIN:VEVENT
DTSTART;TZID=America/New_York:20291226T180000
DTEND;TZID=America/New_York:20291226T200000
DTSTAMP:20260426T001318
CREATED:20250606T130337Z
LAST-MODIFIED:20250930T190850Z
UID:10001033-1893002400-1893009600@alkoranshriners.com
SUMMARY:Hillbilly Crooked River Clan #16 Meeting
DESCRIPTION:
URL:https://alkoranshriners.com/event/hillbilly-crooked-river-clan-16/2029-12-26/
LOCATION:St. Matthew’s Episcopal Church\, 9549 Highland Dr\, Brecksville\, OH\, 44141\, United States
END:VEVENT
BEGIN:VEVENT
DTSTART;TZID=America/New_York:20300107T180000
DTEND;TZID=America/New_York:20300107T200000
DTSTAMP:20260426T001318
CREATED:20250512T192700Z
LAST-MODIFIED:20250606T124119Z
UID:10000189-1894039200-1894046400@alkoranshriners.com
SUMMARY:Mid-Ohio Shrine Club Meeting
DESCRIPTION:
URL:https://alkoranshriners.com/event/mid-ohio-shrine-club-meeting/2030-01-07/
LOCATION:Old Bag of Nails\, 625 Lexington Ave #7\, Mansfield\, OH\, 44907\, United States
END:VEVENT
BEGIN:VEVENT
DTSTART;TZID=America/New_York:20300109T173000
DTEND;TZID=America/New_York:20300109T210000
DTSTAMP:20260426T001318
CREATED:20250512T191711Z
LAST-MODIFIED:20250606T124632Z
UID:10000255-1894210200-1894222800@alkoranshriners.com
SUMMARY:Lakewood Shrine Club Meeting
DESCRIPTION:
URL:https://alkoranshriners.com/event/lakewood-shrine-club-meeting/2030-01-09/
LOCATION:Cleveland Yachting Club\, 200 Yacht Club Dr\, Rocky River\, OH\, 44116\, United States
END:VEVENT
BEGIN:VEVENT
DTSTART;TZID=America/New_York:20300109T190000
DTEND;TZID=America/New_York:20300109T210000
DTSTAMP:20260426T001318
CREATED:20260408T172936Z
LAST-MODIFIED:20260408T172937Z
UID:10001401-1894215600-1894222800@alkoranshriners.com
SUMMARY:Lorain County Shrine Club & Fire Brigade
DESCRIPTION:
URL:https://alkoranshriners.com/event/lorain-county-shrine-club-fire-brigade-2/2030-01-09/
LOCATION:OH
END:VEVENT
BEGIN:VEVENT
DTSTART;TZID=America/New_York:20300114T180000
DTEND;TZID=America/New_York:20300114T190000
DTSTAMP:20260426T001318
CREATED:20250512T192758Z
LAST-MODIFIED:20250605T135856Z
UID:10000069-1894644000-1894647600@alkoranshriners.com
SUMMARY:Divan and Board of Directors Meeting
DESCRIPTION:
URL:https://alkoranshriners.com/event/divan-and-board-of-directors-meeting/2030-01-14/
LOCATION:Al Koran Office\, 6801 OH-291\, Suite B\, Middleburg Heights\, OH\, 44130\, United States
ORGANIZER;CN="Al Koran Shriners":MAILTO:clevelandshriners@gmail.com
END:VEVENT
BEGIN:VEVENT
DTSTART;TZID=America/New_York:20300114T190000
DTEND;TZID=America/New_York:20300114T200000
DTSTAMP:20260426T001318
CREATED:20250512T192840Z
LAST-MODIFIED:20250616T194145Z
UID:10000315-1894647600-1894651200@alkoranshriners.com
SUMMARY:Hunters Meeting
DESCRIPTION:
URL:https://alkoranshriners.com/event/hunters-meeting/2030-01-14/
LOCATION:Al Koran Office\, 6801 OH-291\, Suite B\, Middleburg Heights\, OH\, 44130\, United States
END:VEVENT
BEGIN:VEVENT
DTSTART;TZID=America/New_York:20300116T180000
DTEND;TZID=America/New_York:20300116T200000
DTSTAMP:20260426T001318
CREATED:20250930T191631Z
LAST-MODIFIED:20250930T191631Z
UID:10001215-1894816800-1894824000@alkoranshriners.com
SUMMARY:Massillon Shrine Club
DESCRIPTION:
URL:https://alkoranshriners.com/event/massillon-shrine-club-2/2030-01-16/
LOCATION:Massillon Masonic Temple (Clinton Lodge #47)\, 22nd St SW\, Massillon\, OH\, 44647
END:VEVENT
BEGIN:VEVENT
DTSTART;VALUE=DATE:20300117
DTEND;VALUE=DATE:20300118
DTSTAMP:20260426T001318
CREATED:20250722T124240Z
LAST-MODIFIED:20250930T191012Z
UID:10001095-1894838400-1894924799@alkoranshriners.com
SUMMARY:Youngstown Shrine Club Meeting
DESCRIPTION:
URL:https://alkoranshriners.com/event/youngstown-shrine-club-dinner-meeting/2030-01-17/
LOCATION:Youngstown Shrine Club\, 1735 S Range\, North Lima\, OH\, 44452\, United States
ORGANIZER;CN="Al Koran Shriners":MAILTO:clevelandshriners@gmail.com
END:VEVENT
END:VCALENDAR