BEGIN:VCALENDAR
VERSION:2.0
PRODID:-//Al Koran Shriners - ECPv6.15.20//NONSGML v1.0//EN
CALSCALE:GREGORIAN
METHOD:PUBLISH
X-WR-CALNAME:Al Koran Shriners
X-ORIGINAL-URL:https://alkoranshriners.com
X-WR-CALDESC:Events for Al Koran Shriners
REFRESH-INTERVAL;VALUE=DURATION:PT1H
X-Robots-Tag:noindex
X-PUBLISHED-TTL:PT1H
BEGIN:VTIMEZONE
TZID:America/New_York
BEGIN:DAYLIGHT
TZOFFSETFROM:-0500
TZOFFSETTO:-0400
TZNAME:EDT
DTSTART:20270314T070000
END:DAYLIGHT
BEGIN:STANDARD
TZOFFSETFROM:-0400
TZOFFSETTO:-0500
TZNAME:EST
DTSTART:20271107T060000
END:STANDARD
BEGIN:DAYLIGHT
TZOFFSETFROM:-0500
TZOFFSETTO:-0400
TZNAME:EDT
DTSTART:20280312T070000
END:DAYLIGHT
BEGIN:STANDARD
TZOFFSETFROM:-0400
TZOFFSETTO:-0500
TZNAME:EST
DTSTART:20281105T060000
END:STANDARD
BEGIN:DAYLIGHT
TZOFFSETFROM:-0500
TZOFFSETTO:-0400
TZNAME:EDT
DTSTART:20290311T070000
END:DAYLIGHT
BEGIN:STANDARD
TZOFFSETFROM:-0400
TZOFFSETTO:-0500
TZNAME:EST
DTSTART:20291104T060000
END:STANDARD
END:VTIMEZONE
BEGIN:VEVENT
DTSTART;TZID=America/New_York:20280712T190000
DTEND;TZID=America/New_York:20280712T210000
DTSTAMP:20260425T112920
CREATED:20260408T172936Z
LAST-MODIFIED:20260408T172937Z
UID:10001383-1847041200-1847048400@alkoranshriners.com
SUMMARY:Lorain County Shrine Club & Fire Brigade
DESCRIPTION:
URL:https://alkoranshriners.com/event/lorain-county-shrine-club-fire-brigade-2/2028-07-12/
LOCATION:OH
END:VEVENT
BEGIN:VEVENT
DTSTART;TZID=America/New_York:20280719T180000
DTEND;TZID=America/New_York:20280719T200000
DTSTAMP:20260425T112920
CREATED:20250930T191631Z
LAST-MODIFIED:20250930T191631Z
UID:10001197-1847642400-1847649600@alkoranshriners.com
SUMMARY:Massillon Shrine Club
DESCRIPTION:
URL:https://alkoranshriners.com/event/massillon-shrine-club-2/2028-07-19/
LOCATION:Massillon Masonic Temple (Clinton Lodge #47)\, 22nd St SW\, Massillon\, OH\, 44647
END:VEVENT
BEGIN:VEVENT
DTSTART;VALUE=DATE:20280720
DTEND;VALUE=DATE:20280721
DTSTAMP:20260425T112920
CREATED:20250722T124240Z
LAST-MODIFIED:20250930T191012Z
UID:10001077-1847664000-1847750399@alkoranshriners.com
SUMMARY:Youngstown Shrine Club Meeting
DESCRIPTION:
URL:https://alkoranshriners.com/event/youngstown-shrine-club-dinner-meeting/2028-07-20/
LOCATION:Youngstown Shrine Club\, 1735 S Range\, North Lima\, OH\, 44452\, United States
ORGANIZER;CN="Al Koran Shriners":MAILTO:clevelandshriners@gmail.com
END:VEVENT
BEGIN:VEVENT
DTSTART;TZID=America/New_York:20280720T180000
DTEND;TZID=America/New_York:20280720T200000
DTSTAMP:20260425T112920
CREATED:20250512T192559Z
LAST-MODIFIED:20250606T123903Z
UID:10000111-1847728800-1847736000@alkoranshriners.com
SUMMARY:Youngstown Shrine Club Meeting
DESCRIPTION:
URL:https://alkoranshriners.com/event/youngstown-shrine-club-meeting/2028-07-20/
LOCATION:Youngstown Shrine Club\, 1735 S Range\, North Lima\, OH\, 44452\, United States
END:VEVENT
BEGIN:VEVENT
DTSTART;TZID=America/New_York:20280724T180000
DTEND;TZID=America/New_York:20280724T200000
DTSTAMP:20260425T112920
CREATED:20250512T193459Z
LAST-MODIFIED:20250606T124855Z
UID:10000357-1848074400-1848081600@alkoranshriners.com
SUMMARY:Krazy Kops Meeting
DESCRIPTION:
URL:https://alkoranshriners.com/event/krazy-kops-meeting/2028-07-24/
LOCATION:Teamz Restaurant & Bar\, 6611 Eastland Rd\, Middleburg Heights\, OH\, 44130\, United States
END:VEVENT
BEGIN:VEVENT
DTSTART;TZID=America/New_York:20280724T180000
DTEND;TZID=America/New_York:20280724T200000
DTSTAMP:20260425T112920
CREATED:20250606T130759Z
LAST-MODIFIED:20250618T141551Z
UID:10000940-1848074400-1848081600@alkoranshriners.com
SUMMARY:Legion of Honor
DESCRIPTION:
URL:https://alkoranshriners.com/event/legion-of-honor/2028-07-24/
LOCATION:St. Matthew’s Episcopal Church\, 9549 Highland Dr\, Brecksville\, OH\, 44141\, United States
END:VEVENT
BEGIN:VEVENT
DTSTART;TZID=America/New_York:20280725T180000
DTEND;TZID=America/New_York:20280725T200000
DTSTAMP:20260425T112920
CREATED:20260408T145522Z
LAST-MODIFIED:20260408T145522Z
UID:10001325-1848160800-1848168000@alkoranshriners.com
SUMMARY:Mariner's Meeting
DESCRIPTION:
URL:https://alkoranshriners.com/event/mariners-meeting-2-2/2028-07-25/
LOCATION:OH
ORGANIZER;CN="Al Koran Shriners":MAILTO:clevelandshriners@gmail.com
END:VEVENT
BEGIN:VEVENT
DTSTART;TZID=America/New_York:20280725T180000
DTEND;TZID=America/New_York:20280725T200000
DTSTAMP:20260425T112920
CREATED:20260408T173107Z
LAST-MODIFIED:20260408T173107Z
UID:10001442-1848160800-1848168000@alkoranshriners.com
SUMMARY:Mariners Meeting
DESCRIPTION:
URL:https://alkoranshriners.com/event/mariners-meeting-3/2028-07-25/
LOCATION:OH
END:VEVENT
BEGIN:VEVENT
DTSTART;TZID=America/New_York:20280726T180000
DTEND;TZID=America/New_York:20280726T200000
DTSTAMP:20260425T112920
CREATED:20250606T130337Z
LAST-MODIFIED:20250930T190850Z
UID:10001016-1848247200-1848254400@alkoranshriners.com
SUMMARY:Hillbilly Crooked River Clan #16 Meeting
DESCRIPTION:
URL:https://alkoranshriners.com/event/hillbilly-crooked-river-clan-16/2028-07-26/
LOCATION:St. Matthew’s Episcopal Church\, 9549 Highland Dr\, Brecksville\, OH\, 44141\, United States
END:VEVENT
BEGIN:VEVENT
DTSTART;TZID=America/New_York:20280807T180000
DTEND;TZID=America/New_York:20280807T200000
DTSTAMP:20260425T112920
CREATED:20250512T192700Z
LAST-MODIFIED:20250606T124119Z
UID:10000172-1849284000-1849291200@alkoranshriners.com
SUMMARY:Mid-Ohio Shrine Club Meeting
DESCRIPTION:
URL:https://alkoranshriners.com/event/mid-ohio-shrine-club-meeting/2028-08-07/
LOCATION:Old Bag of Nails\, 625 Lexington Ave #7\, Mansfield\, OH\, 44907\, United States
END:VEVENT
BEGIN:VEVENT
DTSTART;TZID=America/New_York:20280809T173000
DTEND;TZID=America/New_York:20280809T210000
DTSTAMP:20260425T112920
CREATED:20250512T191711Z
LAST-MODIFIED:20250606T124632Z
UID:10000238-1849455000-1849467600@alkoranshriners.com
SUMMARY:Lakewood Shrine Club Meeting
DESCRIPTION:
URL:https://alkoranshriners.com/event/lakewood-shrine-club-meeting/2028-08-09/
LOCATION:Cleveland Yachting Club\, 200 Yacht Club Dr\, Rocky River\, OH\, 44116\, United States
END:VEVENT
BEGIN:VEVENT
DTSTART;TZID=America/New_York:20280809T190000
DTEND;TZID=America/New_York:20280809T210000
DTSTAMP:20260425T112920
CREATED:20260408T172936Z
LAST-MODIFIED:20260408T172937Z
UID:10001384-1849460400-1849467600@alkoranshriners.com
SUMMARY:Lorain County Shrine Club & Fire Brigade
DESCRIPTION:
URL:https://alkoranshriners.com/event/lorain-county-shrine-club-fire-brigade-2/2028-08-09/
LOCATION:OH
END:VEVENT
BEGIN:VEVENT
DTSTART;TZID=America/New_York:20280814T180000
DTEND;TZID=America/New_York:20280814T190000
DTSTAMP:20260425T112920
CREATED:20250512T192758Z
LAST-MODIFIED:20250605T135856Z
UID:10000052-1849888800-1849892400@alkoranshriners.com
SUMMARY:Divan and Board of Directors Meeting
DESCRIPTION:
URL:https://alkoranshriners.com/event/divan-and-board-of-directors-meeting/2028-08-14/
LOCATION:Al Koran Office\, 6801 OH-291\, Suite B\, Middleburg Heights\, OH\, 44130\, United States
ORGANIZER;CN="Al Koran Shriners":MAILTO:clevelandshriners@gmail.com
END:VEVENT
BEGIN:VEVENT
DTSTART;TZID=America/New_York:20280814T190000
DTEND;TZID=America/New_York:20280814T200000
DTSTAMP:20260425T112920
CREATED:20250512T192840Z
LAST-MODIFIED:20250616T194145Z
UID:10000298-1849892400-1849896000@alkoranshriners.com
SUMMARY:Hunters Meeting
DESCRIPTION:
URL:https://alkoranshriners.com/event/hunters-meeting/2028-08-14/
LOCATION:Al Koran Office\, 6801 OH-291\, Suite B\, Middleburg Heights\, OH\, 44130\, United States
END:VEVENT
BEGIN:VEVENT
DTSTART;TZID=America/New_York:20280816T180000
DTEND;TZID=America/New_York:20280816T200000
DTSTAMP:20260425T112920
CREATED:20250930T191631Z
LAST-MODIFIED:20250930T191631Z
UID:10001198-1850061600-1850068800@alkoranshriners.com
SUMMARY:Massillon Shrine Club
DESCRIPTION:
URL:https://alkoranshriners.com/event/massillon-shrine-club-2/2028-08-16/
LOCATION:Massillon Masonic Temple (Clinton Lodge #47)\, 22nd St SW\, Massillon\, OH\, 44647
END:VEVENT
BEGIN:VEVENT
DTSTART;VALUE=DATE:20280817
DTEND;VALUE=DATE:20280818
DTSTAMP:20260425T112920
CREATED:20250722T124240Z
LAST-MODIFIED:20250930T191012Z
UID:10001078-1850083200-1850169599@alkoranshriners.com
SUMMARY:Youngstown Shrine Club Meeting
DESCRIPTION:
URL:https://alkoranshriners.com/event/youngstown-shrine-club-dinner-meeting/2028-08-17/
LOCATION:Youngstown Shrine Club\, 1735 S Range\, North Lima\, OH\, 44452\, United States
ORGANIZER;CN="Al Koran Shriners":MAILTO:clevelandshriners@gmail.com
END:VEVENT
BEGIN:VEVENT
DTSTART;TZID=America/New_York:20280817T180000
DTEND;TZID=America/New_York:20280817T200000
DTSTAMP:20260425T112920
CREATED:20250512T192559Z
LAST-MODIFIED:20250606T123903Z
UID:10000112-1850148000-1850155200@alkoranshriners.com
SUMMARY:Youngstown Shrine Club Meeting
DESCRIPTION:
URL:https://alkoranshriners.com/event/youngstown-shrine-club-meeting/2028-08-17/
LOCATION:Youngstown Shrine Club\, 1735 S Range\, North Lima\, OH\, 44452\, United States
END:VEVENT
BEGIN:VEVENT
DTSTART;TZID=America/New_York:20280822T180000
DTEND;TZID=America/New_York:20280822T200000
DTSTAMP:20260425T112920
CREATED:20260408T145522Z
LAST-MODIFIED:20260408T145522Z
UID:10001326-1850580000-1850587200@alkoranshriners.com
SUMMARY:Mariner's Meeting
DESCRIPTION:
URL:https://alkoranshriners.com/event/mariners-meeting-2-2/2028-08-22/
LOCATION:OH
ORGANIZER;CN="Al Koran Shriners":MAILTO:clevelandshriners@gmail.com
END:VEVENT
BEGIN:VEVENT
DTSTART;TZID=America/New_York:20280822T180000
DTEND;TZID=America/New_York:20280822T200000
DTSTAMP:20260425T112920
CREATED:20260408T173107Z
LAST-MODIFIED:20260408T173107Z
UID:10001443-1850580000-1850587200@alkoranshriners.com
SUMMARY:Mariners Meeting
DESCRIPTION:
URL:https://alkoranshriners.com/event/mariners-meeting-3/2028-08-22/
LOCATION:OH
END:VEVENT
BEGIN:VEVENT
DTSTART;TZID=America/New_York:20280823T180000
DTEND;TZID=America/New_York:20280823T200000
DTSTAMP:20260425T112920
CREATED:20250606T130337Z
LAST-MODIFIED:20250930T190850Z
UID:10001017-1850666400-1850673600@alkoranshriners.com
SUMMARY:Hillbilly Crooked River Clan #16 Meeting
DESCRIPTION:
URL:https://alkoranshriners.com/event/hillbilly-crooked-river-clan-16/2028-08-23/
LOCATION:St. Matthew’s Episcopal Church\, 9549 Highland Dr\, Brecksville\, OH\, 44141\, United States
END:VEVENT
BEGIN:VEVENT
DTSTART;TZID=America/New_York:20280828T180000
DTEND;TZID=America/New_York:20280828T200000
DTSTAMP:20260425T112920
CREATED:20250512T193459Z
LAST-MODIFIED:20250606T124855Z
UID:10000358-1851098400-1851105600@alkoranshriners.com
SUMMARY:Krazy Kops Meeting
DESCRIPTION:
URL:https://alkoranshriners.com/event/krazy-kops-meeting/2028-08-28/
LOCATION:Teamz Restaurant & Bar\, 6611 Eastland Rd\, Middleburg Heights\, OH\, 44130\, United States
END:VEVENT
BEGIN:VEVENT
DTSTART;TZID=America/New_York:20280828T180000
DTEND;TZID=America/New_York:20280828T200000
DTSTAMP:20260425T112920
CREATED:20250606T130759Z
LAST-MODIFIED:20250618T141551Z
UID:10000941-1851098400-1851105600@alkoranshriners.com
SUMMARY:Legion of Honor
DESCRIPTION:
URL:https://alkoranshriners.com/event/legion-of-honor/2028-08-28/
LOCATION:St. Matthew’s Episcopal Church\, 9549 Highland Dr\, Brecksville\, OH\, 44141\, United States
END:VEVENT
BEGIN:VEVENT
DTSTART;TZID=America/New_York:20280901T080000
DTEND;TZID=America/New_York:20280901T170000
DTSTAMP:20260425T112920
CREATED:20250930T191518Z
LAST-MODIFIED:20250930T191518Z
UID:10000837-1851408000-1851440400@alkoranshriners.com
SUMMARY:Mansfield Shrine Club
DESCRIPTION:
URL:https://alkoranshriners.com/event/mansfield-shrine-club-2/2028-09-01/
LOCATION:Baku Grotto\, 747 S Main St\, Mansfield\, OH\, 44907\, United States
END:VEVENT
BEGIN:VEVENT
DTSTART;TZID=America/New_York:20280904T180000
DTEND;TZID=America/New_York:20280904T200000
DTSTAMP:20260425T112920
CREATED:20250512T192700Z
LAST-MODIFIED:20250606T124119Z
UID:10000173-1851703200-1851710400@alkoranshriners.com
SUMMARY:Mid-Ohio Shrine Club Meeting
DESCRIPTION:
URL:https://alkoranshriners.com/event/mid-ohio-shrine-club-meeting/2028-09-04/
LOCATION:Old Bag of Nails\, 625 Lexington Ave #7\, Mansfield\, OH\, 44907\, United States
END:VEVENT
BEGIN:VEVENT
DTSTART;TZID=America/New_York:20280911T180000
DTEND;TZID=America/New_York:20280911T190000
DTSTAMP:20260425T112920
CREATED:20250512T192758Z
LAST-MODIFIED:20250605T135856Z
UID:10000053-1852308000-1852311600@alkoranshriners.com
SUMMARY:Divan and Board of Directors Meeting
DESCRIPTION:
URL:https://alkoranshriners.com/event/divan-and-board-of-directors-meeting/2028-09-11/
LOCATION:Al Koran Office\, 6801 OH-291\, Suite B\, Middleburg Heights\, OH\, 44130\, United States
ORGANIZER;CN="Al Koran Shriners":MAILTO:clevelandshriners@gmail.com
END:VEVENT
BEGIN:VEVENT
DTSTART;TZID=America/New_York:20280911T190000
DTEND;TZID=America/New_York:20280911T200000
DTSTAMP:20260425T112920
CREATED:20250512T192840Z
LAST-MODIFIED:20250616T194145Z
UID:10000299-1852311600-1852315200@alkoranshriners.com
SUMMARY:Hunters Meeting
DESCRIPTION:
URL:https://alkoranshriners.com/event/hunters-meeting/2028-09-11/
LOCATION:Al Koran Office\, 6801 OH-291\, Suite B\, Middleburg Heights\, OH\, 44130\, United States
END:VEVENT
BEGIN:VEVENT
DTSTART;TZID=America/New_York:20280913T173000
DTEND;TZID=America/New_York:20280913T210000
DTSTAMP:20260425T112920
CREATED:20250512T191711Z
LAST-MODIFIED:20250606T124632Z
UID:10000239-1852479000-1852491600@alkoranshriners.com
SUMMARY:Lakewood Shrine Club Meeting
DESCRIPTION:
URL:https://alkoranshriners.com/event/lakewood-shrine-club-meeting/2028-09-13/
LOCATION:Cleveland Yachting Club\, 200 Yacht Club Dr\, Rocky River\, OH\, 44116\, United States
END:VEVENT
BEGIN:VEVENT
DTSTART;TZID=America/New_York:20280913T190000
DTEND;TZID=America/New_York:20280913T210000
DTSTAMP:20260425T112920
CREATED:20260408T172936Z
LAST-MODIFIED:20260408T172937Z
UID:10001385-1852484400-1852491600@alkoranshriners.com
SUMMARY:Lorain County Shrine Club & Fire Brigade
DESCRIPTION:
URL:https://alkoranshriners.com/event/lorain-county-shrine-club-fire-brigade-2/2028-09-13/
LOCATION:OH
END:VEVENT
BEGIN:VEVENT
DTSTART;TZID=America/New_York:20280920T180000
DTEND;TZID=America/New_York:20280920T200000
DTSTAMP:20260425T112920
CREATED:20250930T191631Z
LAST-MODIFIED:20250930T191631Z
UID:10001199-1853085600-1853092800@alkoranshriners.com
SUMMARY:Massillon Shrine Club
DESCRIPTION:
URL:https://alkoranshriners.com/event/massillon-shrine-club-2/2028-09-20/
LOCATION:Massillon Masonic Temple (Clinton Lodge #47)\, 22nd St SW\, Massillon\, OH\, 44647
END:VEVENT
BEGIN:VEVENT
DTSTART;VALUE=DATE:20280921
DTEND;VALUE=DATE:20280922
DTSTAMP:20260425T112920
CREATED:20250722T124240Z
LAST-MODIFIED:20250930T191012Z
UID:10001079-1853107200-1853193599@alkoranshriners.com
SUMMARY:Youngstown Shrine Club Meeting
DESCRIPTION:
URL:https://alkoranshriners.com/event/youngstown-shrine-club-dinner-meeting/2028-09-21/
LOCATION:Youngstown Shrine Club\, 1735 S Range\, North Lima\, OH\, 44452\, United States
ORGANIZER;CN="Al Koran Shriners":MAILTO:clevelandshriners@gmail.com
END:VEVENT
END:VCALENDAR