BEGIN:VCALENDAR
VERSION:2.0
PRODID:-//Al Koran Shriners - ECPv6.15.20//NONSGML v1.0//EN
CALSCALE:GREGORIAN
METHOD:PUBLISH
X-WR-CALNAME:Al Koran Shriners
X-ORIGINAL-URL:https://alkoranshriners.com
X-WR-CALDESC:Events for Al Koran Shriners
REFRESH-INTERVAL;VALUE=DURATION:PT1H
X-Robots-Tag:noindex
X-PUBLISHED-TTL:PT1H
BEGIN:VTIMEZONE
TZID:America/New_York
BEGIN:DAYLIGHT
TZOFFSETFROM:-0500
TZOFFSETTO:-0400
TZNAME:EDT
DTSTART:20250309T070000
END:DAYLIGHT
BEGIN:STANDARD
TZOFFSETFROM:-0400
TZOFFSETTO:-0500
TZNAME:EST
DTSTART:20251102T060000
END:STANDARD
BEGIN:DAYLIGHT
TZOFFSETFROM:-0500
TZOFFSETTO:-0400
TZNAME:EDT
DTSTART:20260308T070000
END:DAYLIGHT
BEGIN:STANDARD
TZOFFSETFROM:-0400
TZOFFSETTO:-0500
TZNAME:EST
DTSTART:20261101T060000
END:STANDARD
BEGIN:DAYLIGHT
TZOFFSETFROM:-0500
TZOFFSETTO:-0400
TZNAME:EDT
DTSTART:20270314T070000
END:DAYLIGHT
BEGIN:STANDARD
TZOFFSETFROM:-0400
TZOFFSETTO:-0500
TZNAME:EST
DTSTART:20271107T060000
END:STANDARD
END:VTIMEZONE
BEGIN:VEVENT
DTSTART;VALUE=DATE:20260521
DTEND;VALUE=DATE:20260522
DTSTAMP:20260421T182152
CREATED:20250722T124240Z
LAST-MODIFIED:20250930T191012Z
UID:10001051-1779321600-1779407999@alkoranshriners.com
SUMMARY:Youngstown Shrine Club Meeting
DESCRIPTION:
URL:https://alkoranshriners.com/event/youngstown-shrine-club-dinner-meeting/2026-05-21/
LOCATION:Youngstown Shrine Club\, 1735 S Range\, North Lima\, OH\, 44452\, United States
ORGANIZER;CN="Al Koran Shriners":MAILTO:clevelandshriners@gmail.com
END:VEVENT
BEGIN:VEVENT
DTSTART;TZID=America/New_York:20260521T180000
DTEND;TZID=America/New_York:20260521T200000
DTSTAMP:20260421T182152
CREATED:20250512T192559Z
LAST-MODIFIED:20250606T123903Z
UID:10000085-1779386400-1779393600@alkoranshriners.com
SUMMARY:Youngstown Shrine Club Meeting
DESCRIPTION:
URL:https://alkoranshriners.com/event/youngstown-shrine-club-meeting/2026-05-21/
LOCATION:Youngstown Shrine Club\, 1735 S Range\, North Lima\, OH\, 44452\, United States
END:VEVENT
BEGIN:VEVENT
DTSTART;TZID=America/New_York:20260525T180000
DTEND;TZID=America/New_York:20260525T200000
DTSTAMP:20260421T182152
CREATED:20250512T193459Z
LAST-MODIFIED:20250606T124855Z
UID:10000331-1779732000-1779739200@alkoranshriners.com
SUMMARY:Krazy Kops Meeting
DESCRIPTION:
URL:https://alkoranshriners.com/event/krazy-kops-meeting/2026-05-25/
LOCATION:Teamz Restaurant & Bar\, 6611 Eastland Rd\, Middleburg Heights\, OH\, 44130\, United States
END:VEVENT
BEGIN:VEVENT
DTSTART;TZID=America/New_York:20260525T180000
DTEND;TZID=America/New_York:20260525T200000
DTSTAMP:20260421T182152
CREATED:20250606T130759Z
LAST-MODIFIED:20250618T141551Z
UID:10000914-1779732000-1779739200@alkoranshriners.com
SUMMARY:Legion of Honor
DESCRIPTION:
URL:https://alkoranshriners.com/event/legion-of-honor/2026-05-25/
LOCATION:St. Matthew’s Episcopal Church\, 9549 Highland Dr\, Brecksville\, OH\, 44141\, United States
END:VEVENT
BEGIN:VEVENT
DTSTART;TZID=America/New_York:20260526T180000
DTEND;TZID=America/New_York:20260526T200000
DTSTAMP:20260421T182152
CREATED:20260408T145522Z
LAST-MODIFIED:20260408T145522Z
UID:10001299-1779818400-1779825600@alkoranshriners.com
SUMMARY:Mariner's Meeting
DESCRIPTION:
URL:https://alkoranshriners.com/event/mariners-meeting-2-2/2026-05-26/
ORGANIZER;CN="Al Koran Shriners":MAILTO:clevelandshriners@gmail.com
END:VEVENT
BEGIN:VEVENT
DTSTART;TZID=America/New_York:20260526T180000
DTEND;TZID=America/New_York:20260526T200000
DTSTAMP:20260421T182152
CREATED:20260408T173107Z
LAST-MODIFIED:20260408T173107Z
UID:10001416-1779818400-1779825600@alkoranshriners.com
SUMMARY:Mariners Meeting
DESCRIPTION:
URL:https://alkoranshriners.com/event/mariners-meeting-3/2026-05-26/
END:VEVENT
BEGIN:VEVENT
DTSTART;TZID=America/New_York:20260527T180000
DTEND;TZID=America/New_York:20260527T200000
DTSTAMP:20260421T182152
CREATED:20250606T130337Z
LAST-MODIFIED:20250930T190850Z
UID:10000990-1779904800-1779912000@alkoranshriners.com
SUMMARY:Hillbilly Crooked River Clan #16 Meeting
DESCRIPTION:
URL:https://alkoranshriners.com/event/hillbilly-crooked-river-clan-16/2026-05-27/
LOCATION:St. Matthew’s Episcopal Church\, 9549 Highland Dr\, Brecksville\, OH\, 44141\, United States
END:VEVENT
BEGIN:VEVENT
DTSTART;TZID=America/New_York:20260530T140000
DTEND;TZID=America/New_York:20260530T160000
DTSTAMP:20260421T182152
CREATED:20260416T131304Z
LAST-MODIFIED:20260416T131304Z
UID:10001475-1780149600-1780156800@alkoranshriners.com
SUMMARY:Al Koran Prospect Day
DESCRIPTION:This free event is open to all Master Masons and their families.  Come join us to learn about Shriners Hospitals for Children.  Meet with members of our various Clubs and Units to see if you might be interested in what they do.
URL:https://alkoranshriners.com/event/al-koran-prospect-day/
LOCATION:Berea Masonic Temple\, 366 Eastland\, Berea\, OH\, 44017\, United States
ORGANIZER;CN="Al Koran Shriners":MAILTO:clevelandshriners@gmail.com
END:VEVENT
BEGIN:VEVENT
DTSTART;TZID=America/New_York:20260601T180000
DTEND;TZID=America/New_York:20260601T200000
DTSTAMP:20260421T182152
CREATED:20250512T192700Z
LAST-MODIFIED:20250606T124119Z
UID:10000146-1780336800-1780344000@alkoranshriners.com
SUMMARY:Mid-Ohio Shrine Club Meeting
DESCRIPTION:
URL:https://alkoranshriners.com/event/mid-ohio-shrine-club-meeting/2026-06-01/
LOCATION:Old Bag of Nails\, 625 Lexington Ave #7\, Mansfield\, OH\, 44907\, United States
END:VEVENT
BEGIN:VEVENT
DTSTART;TZID=America/New_York:20260605T080000
DTEND;TZID=America/New_York:20260605T170000
DTSTAMP:20260421T182152
CREATED:20250930T191518Z
LAST-MODIFIED:20250930T191518Z
UID:10000828-1780646400-1780678800@alkoranshriners.com
SUMMARY:Mansfield Shrine Club
DESCRIPTION:
URL:https://alkoranshriners.com/event/mansfield-shrine-club-2/2026-06-05/
LOCATION:Baku Grotto\, 747 S Main St\, Mansfield\, OH\, 44907\, United States
END:VEVENT
BEGIN:VEVENT
DTSTART;VALUE=DATE:20260606
DTEND;VALUE=DATE:20260607
DTSTAMP:20260421T182152
CREATED:20250513T195055Z
LAST-MODIFIED:20250618T143527Z
UID:10000195-1780704000-1780790399@alkoranshriners.com
SUMMARY:Shriners Awareness Day
DESCRIPTION:
URL:https://alkoranshriners.com/event/shriners-awareness-day/2026-06-06/
CATEGORIES:Special Events
ATTACH;FMTTYPE=image/jpeg:https://alkoranshriners.com/wp-content/uploads/2025/05/ShrinersInternationalAwarenessDay.jpg
END:VEVENT
BEGIN:VEVENT
DTSTART;TZID=America/New_York:20260607T110000
DTEND;TZID=America/New_York:20260607T140000
DTSTAMP:20260421T182152
CREATED:20260417T122444Z
LAST-MODIFIED:20260417T122444Z
UID:10001476-1780830000-1780840800@alkoranshriners.com
SUMMARY:Shriners Day 2026
DESCRIPTION:Shriners Day 2026
URL:https://alkoranshriners.com/event/shriners-day-2026/
END:VEVENT
BEGIN:VEVENT
DTSTART;TZID=America/New_York:20260608T180000
DTEND;TZID=America/New_York:20260608T190000
DTSTAMP:20260421T182152
CREATED:20250512T192758Z
LAST-MODIFIED:20250605T135856Z
UID:10000026-1780941600-1780945200@alkoranshriners.com
SUMMARY:Divan and Board of Directors Meeting
DESCRIPTION:
URL:https://alkoranshriners.com/event/divan-and-board-of-directors-meeting/2026-06-08/
LOCATION:Al Koran Office\, 6801 OH-291\, Suite B\, Middleburg Heights\, OH\, 44130\, United States
ORGANIZER;CN="Al Koran Shriners":MAILTO:clevelandshriners@gmail.com
END:VEVENT
BEGIN:VEVENT
DTSTART;TZID=America/New_York:20260608T190000
DTEND;TZID=America/New_York:20260608T200000
DTSTAMP:20260421T182152
CREATED:20250512T192840Z
LAST-MODIFIED:20250616T194145Z
UID:10000272-1780945200-1780948800@alkoranshriners.com
SUMMARY:Hunters Meeting
DESCRIPTION:
URL:https://alkoranshriners.com/event/hunters-meeting/2026-06-08/
LOCATION:Al Koran Office\, 6801 OH-291\, Suite B\, Middleburg Heights\, OH\, 44130\, United States
END:VEVENT
BEGIN:VEVENT
DTSTART;TZID=America/New_York:20260610T173000
DTEND;TZID=America/New_York:20260610T210000
DTSTAMP:20260421T182152
CREATED:20250512T191711Z
LAST-MODIFIED:20250606T124632Z
UID:10000212-1781112600-1781125200@alkoranshriners.com
SUMMARY:Lakewood Shrine Club Meeting
DESCRIPTION:
URL:https://alkoranshriners.com/event/lakewood-shrine-club-meeting/2026-06-10/
LOCATION:Cleveland Yachting Club\, 200 Yacht Club Dr\, Rocky River\, OH\, 44116\, United States
END:VEVENT
BEGIN:VEVENT
DTSTART;TZID=America/New_York:20260610T190000
DTEND;TZID=America/New_York:20260610T210000
DTSTAMP:20260421T182152
CREATED:20260408T172936Z
LAST-MODIFIED:20260408T172937Z
UID:10001358-1781118000-1781125200@alkoranshriners.com
SUMMARY:Lorain County Shrine Club & Fire Brigade
DESCRIPTION:
URL:https://alkoranshriners.com/event/lorain-county-shrine-club-fire-brigade-2/2026-06-10/
END:VEVENT
BEGIN:VEVENT
DTSTART;TZID=America/New_York:20260617T180000
DTEND;TZID=America/New_York:20260617T200000
DTSTAMP:20260421T182152
CREATED:20250930T191631Z
LAST-MODIFIED:20250930T191631Z
UID:10001172-1781719200-1781726400@alkoranshriners.com
SUMMARY:Massillon Shrine Club
DESCRIPTION:
URL:https://alkoranshriners.com/event/massillon-shrine-club-2/2026-06-17/
LOCATION:Massillon Masonic Temple (Clinton Lodge #47)\, 22nd St SW\, Massillon\, OH\, 44647
END:VEVENT
BEGIN:VEVENT
DTSTART;VALUE=DATE:20260618
DTEND;VALUE=DATE:20260619
DTSTAMP:20260421T182152
CREATED:20250722T124240Z
LAST-MODIFIED:20250930T191012Z
UID:10001052-1781740800-1781827199@alkoranshriners.com
SUMMARY:Youngstown Shrine Club Meeting
DESCRIPTION:
URL:https://alkoranshriners.com/event/youngstown-shrine-club-dinner-meeting/2026-06-18/
LOCATION:Youngstown Shrine Club\, 1735 S Range\, North Lima\, OH\, 44452\, United States
ORGANIZER;CN="Al Koran Shriners":MAILTO:clevelandshriners@gmail.com
END:VEVENT
BEGIN:VEVENT
DTSTART;TZID=America/New_York:20260618T180000
DTEND;TZID=America/New_York:20260618T200000
DTSTAMP:20260421T182152
CREATED:20250512T192559Z
LAST-MODIFIED:20250606T123903Z
UID:10000086-1781805600-1781812800@alkoranshriners.com
SUMMARY:Youngstown Shrine Club Meeting
DESCRIPTION:
URL:https://alkoranshriners.com/event/youngstown-shrine-club-meeting/2026-06-18/
LOCATION:Youngstown Shrine Club\, 1735 S Range\, North Lima\, OH\, 44452\, United States
END:VEVENT
BEGIN:VEVENT
DTSTART;TZID=America/New_York:20260622T180000
DTEND;TZID=America/New_York:20260622T200000
DTSTAMP:20260421T182152
CREATED:20250512T193459Z
LAST-MODIFIED:20250606T124855Z
UID:10000332-1782151200-1782158400@alkoranshriners.com
SUMMARY:Krazy Kops Meeting
DESCRIPTION:
URL:https://alkoranshriners.com/event/krazy-kops-meeting/2026-06-22/
LOCATION:Teamz Restaurant & Bar\, 6611 Eastland Rd\, Middleburg Heights\, OH\, 44130\, United States
END:VEVENT
BEGIN:VEVENT
DTSTART;TZID=America/New_York:20260622T180000
DTEND;TZID=America/New_York:20260622T200000
DTSTAMP:20260421T182152
CREATED:20250606T130759Z
LAST-MODIFIED:20250618T141551Z
UID:10000915-1782151200-1782158400@alkoranshriners.com
SUMMARY:Legion of Honor
DESCRIPTION:
URL:https://alkoranshriners.com/event/legion-of-honor/2026-06-22/
LOCATION:St. Matthew’s Episcopal Church\, 9549 Highland Dr\, Brecksville\, OH\, 44141\, United States
END:VEVENT
BEGIN:VEVENT
DTSTART;TZID=America/New_York:20260623T180000
DTEND;TZID=America/New_York:20260623T200000
DTSTAMP:20260421T182152
CREATED:20260408T145522Z
LAST-MODIFIED:20260408T145522Z
UID:10001300-1782237600-1782244800@alkoranshriners.com
SUMMARY:Mariner's Meeting
DESCRIPTION:
URL:https://alkoranshriners.com/event/mariners-meeting-2-2/2026-06-23/
ORGANIZER;CN="Al Koran Shriners":MAILTO:clevelandshriners@gmail.com
END:VEVENT
BEGIN:VEVENT
DTSTART;TZID=America/New_York:20260623T180000
DTEND;TZID=America/New_York:20260623T200000
DTSTAMP:20260421T182152
CREATED:20260408T173107Z
LAST-MODIFIED:20260408T173107Z
UID:10001417-1782237600-1782244800@alkoranshriners.com
SUMMARY:Mariners Meeting
DESCRIPTION:
URL:https://alkoranshriners.com/event/mariners-meeting-3/2026-06-23/
END:VEVENT
BEGIN:VEVENT
DTSTART;TZID=America/New_York:20260624T180000
DTEND;TZID=America/New_York:20260624T200000
DTSTAMP:20260421T182152
CREATED:20250606T130337Z
LAST-MODIFIED:20250930T190850Z
UID:10000991-1782324000-1782331200@alkoranshriners.com
SUMMARY:Hillbilly Crooked River Clan #16 Meeting
DESCRIPTION:
URL:https://alkoranshriners.com/event/hillbilly-crooked-river-clan-16/2026-06-24/
LOCATION:St. Matthew’s Episcopal Church\, 9549 Highland Dr\, Brecksville\, OH\, 44141\, United States
END:VEVENT
BEGIN:VEVENT
DTSTART;TZID=America/New_York:20260627T173000
DTEND;TZID=America/New_York:20260627T230000
DTSTAMP:20260421T182152
CREATED:20260331T192738Z
LAST-MODIFIED:20260401T182434Z
UID:10001298-1782581400-1782601200@alkoranshriners.com
SUMMARY:Al Koran Shriners Nobility Ball 2026
DESCRIPTION:Event Flyer & Hotel Information
URL:https://alkoranshriners.com/event/nobility-ball-2026/
LOCATION:German Central\, 7863 York Rd.\, Parma\, OH\, 44130\, United States
ORGANIZER;CN="Al Koran Shriners":MAILTO:clevelandshriners@gmail.com
END:VEVENT
BEGIN:VEVENT
DTSTART;TZID=America/New_York:20260706T180000
DTEND;TZID=America/New_York:20260706T200000
DTSTAMP:20260421T182152
CREATED:20250512T192700Z
LAST-MODIFIED:20250606T124119Z
UID:10000147-1783360800-1783368000@alkoranshriners.com
SUMMARY:Mid-Ohio Shrine Club Meeting
DESCRIPTION:
URL:https://alkoranshriners.com/event/mid-ohio-shrine-club-meeting/2026-07-06/
LOCATION:Old Bag of Nails\, 625 Lexington Ave #7\, Mansfield\, OH\, 44907\, United States
END:VEVENT
BEGIN:VEVENT
DTSTART;TZID=America/New_York:20260708T173000
DTEND;TZID=America/New_York:20260708T210000
DTSTAMP:20260421T182152
CREATED:20250512T191711Z
LAST-MODIFIED:20250606T124632Z
UID:10000213-1783531800-1783544400@alkoranshriners.com
SUMMARY:Lakewood Shrine Club Meeting
DESCRIPTION:
URL:https://alkoranshriners.com/event/lakewood-shrine-club-meeting/2026-07-08/
LOCATION:Cleveland Yachting Club\, 200 Yacht Club Dr\, Rocky River\, OH\, 44116\, United States
END:VEVENT
BEGIN:VEVENT
DTSTART;TZID=America/New_York:20260708T190000
DTEND;TZID=America/New_York:20260708T210000
DTSTAMP:20260421T182152
CREATED:20260408T172936Z
LAST-MODIFIED:20260408T172937Z
UID:10001359-1783537200-1783544400@alkoranshriners.com
SUMMARY:Lorain County Shrine Club & Fire Brigade
DESCRIPTION:
URL:https://alkoranshriners.com/event/lorain-county-shrine-club-fire-brigade-2/2026-07-08/
END:VEVENT
BEGIN:VEVENT
DTSTART;TZID=America/New_York:20260713T180000
DTEND;TZID=America/New_York:20260713T190000
DTSTAMP:20260421T182152
CREATED:20250512T192758Z
LAST-MODIFIED:20250605T135856Z
UID:10000027-1783965600-1783969200@alkoranshriners.com
SUMMARY:Divan and Board of Directors Meeting
DESCRIPTION:
URL:https://alkoranshriners.com/event/divan-and-board-of-directors-meeting/2026-07-13/
LOCATION:Al Koran Office\, 6801 OH-291\, Suite B\, Middleburg Heights\, OH\, 44130\, United States
ORGANIZER;CN="Al Koran Shriners":MAILTO:clevelandshriners@gmail.com
END:VEVENT
BEGIN:VEVENT
DTSTART;TZID=America/New_York:20260713T190000
DTEND;TZID=America/New_York:20260713T200000
DTSTAMP:20260421T182152
CREATED:20250512T192840Z
LAST-MODIFIED:20250616T194145Z
UID:10000273-1783969200-1783972800@alkoranshriners.com
SUMMARY:Hunters Meeting
DESCRIPTION:
URL:https://alkoranshriners.com/event/hunters-meeting/2026-07-13/
LOCATION:Al Koran Office\, 6801 OH-291\, Suite B\, Middleburg Heights\, OH\, 44130\, United States
END:VEVENT
END:VCALENDAR