BEGIN:VCALENDAR
VERSION:2.0
PRODID:-//Al Koran Shriners - ECPv6.15.20//NONSGML v1.0//EN
CALSCALE:GREGORIAN
METHOD:PUBLISH
X-ORIGINAL-URL:https://alkoranshriners.com
X-WR-CALDESC:Events for Al Koran Shriners
REFRESH-INTERVAL;VALUE=DURATION:PT1H
X-Robots-Tag:noindex
X-PUBLISHED-TTL:PT1H
BEGIN:VTIMEZONE
TZID:America/New_York
BEGIN:DAYLIGHT
TZOFFSETFROM:-0500
TZOFFSETTO:-0400
TZNAME:EDT
DTSTART:20250309T070000
END:DAYLIGHT
BEGIN:STANDARD
TZOFFSETFROM:-0400
TZOFFSETTO:-0500
TZNAME:EST
DTSTART:20251102T060000
END:STANDARD
BEGIN:DAYLIGHT
TZOFFSETFROM:-0500
TZOFFSETTO:-0400
TZNAME:EDT
DTSTART:20260308T070000
END:DAYLIGHT
BEGIN:STANDARD
TZOFFSETFROM:-0400
TZOFFSETTO:-0500
TZNAME:EST
DTSTART:20261101T060000
END:STANDARD
BEGIN:DAYLIGHT
TZOFFSETFROM:-0500
TZOFFSETTO:-0400
TZNAME:EDT
DTSTART:20270314T070000
END:DAYLIGHT
BEGIN:STANDARD
TZOFFSETFROM:-0400
TZOFFSETTO:-0500
TZNAME:EST
DTSTART:20271107T060000
END:STANDARD
END:VTIMEZONE
BEGIN:VEVENT
DTSTART;TZID=America/New_York:20261021T180000
DTEND;TZID=America/New_York:20261021T200000
DTSTAMP:20260422T012822
CREATED:20250930T191631Z
LAST-MODIFIED:20250930T191631Z
UID:10001176-1792605600-1792612800@alkoranshriners.com
SUMMARY:Massillon Shrine Club
DESCRIPTION:
URL:https://alkoranshriners.com/event/massillon-shrine-club-2/2026-10-21/
LOCATION:Massillon Masonic Temple (Clinton Lodge #47)\, 22nd St SW\, Massillon\, OH\, 44647
END:VEVENT
BEGIN:VEVENT
DTSTART;TZID=America/New_York:20261026T180000
DTEND;TZID=America/New_York:20261026T200000
DTSTAMP:20260422T012822
CREATED:20250512T193459Z
LAST-MODIFIED:20250606T124855Z
UID:10000336-1793037600-1793044800@alkoranshriners.com
SUMMARY:Krazy Kops Meeting
DESCRIPTION:
URL:https://alkoranshriners.com/event/krazy-kops-meeting/2026-10-26/
LOCATION:Teamz Restaurant & Bar\, 6611 Eastland Rd\, Middleburg Heights\, OH\, 44130\, United States
END:VEVENT
BEGIN:VEVENT
DTSTART;TZID=America/New_York:20261026T180000
DTEND;TZID=America/New_York:20261026T200000
DTSTAMP:20260422T012822
CREATED:20250606T130759Z
LAST-MODIFIED:20250618T141551Z
UID:10000919-1793037600-1793044800@alkoranshriners.com
SUMMARY:Legion of Honor
DESCRIPTION:
URL:https://alkoranshriners.com/event/legion-of-honor/2026-10-26/
LOCATION:St. Matthew’s Episcopal Church\, 9549 Highland Dr\, Brecksville\, OH\, 44141\, United States
END:VEVENT
BEGIN:VEVENT
DTSTART;TZID=America/New_York:20261027T180000
DTEND;TZID=America/New_York:20261027T200000
DTSTAMP:20260422T012822
CREATED:20260408T145522Z
LAST-MODIFIED:20260408T145522Z
UID:10001304-1793124000-1793131200@alkoranshriners.com
SUMMARY:Mariner's Meeting
DESCRIPTION:
URL:https://alkoranshriners.com/event/mariners-meeting-2-2/2026-10-27/
ORGANIZER;CN="Al Koran Shriners":MAILTO:clevelandshriners@gmail.com
END:VEVENT
BEGIN:VEVENT
DTSTART;TZID=America/New_York:20261027T180000
DTEND;TZID=America/New_York:20261027T200000
DTSTAMP:20260422T012822
CREATED:20260408T173107Z
LAST-MODIFIED:20260408T173107Z
UID:10001421-1793124000-1793131200@alkoranshriners.com
SUMMARY:Mariners Meeting
DESCRIPTION:
URL:https://alkoranshriners.com/event/mariners-meeting-3/2026-10-27/
END:VEVENT
BEGIN:VEVENT
DTSTART;TZID=America/New_York:20261028T180000
DTEND;TZID=America/New_York:20261028T200000
DTSTAMP:20260422T012822
CREATED:20250606T130337Z
LAST-MODIFIED:20250930T190850Z
UID:10000995-1793210400-1793217600@alkoranshriners.com
SUMMARY:Hillbilly Crooked River Clan #16 Meeting
DESCRIPTION:
URL:https://alkoranshriners.com/event/hillbilly-crooked-river-clan-16/2026-10-28/
LOCATION:St. Matthew’s Episcopal Church\, 9549 Highland Dr\, Brecksville\, OH\, 44141\, United States
END:VEVENT
BEGIN:VEVENT
DTSTART;TZID=America/New_York:20261102T180000
DTEND;TZID=America/New_York:20261102T200000
DTSTAMP:20260422T012822
CREATED:20250512T192700Z
LAST-MODIFIED:20250606T124119Z
UID:10000151-1793642400-1793649600@alkoranshriners.com
SUMMARY:Mid-Ohio Shrine Club Meeting
DESCRIPTION:
URL:https://alkoranshriners.com/event/mid-ohio-shrine-club-meeting/2026-11-02/
LOCATION:Old Bag of Nails\, 625 Lexington Ave #7\, Mansfield\, OH\, 44907\, United States
END:VEVENT
BEGIN:VEVENT
DTSTART;TZID=America/New_York:20261109T180000
DTEND;TZID=America/New_York:20261109T190000
DTSTAMP:20260422T012822
CREATED:20250512T192758Z
LAST-MODIFIED:20250605T135856Z
UID:10000031-1794247200-1794250800@alkoranshriners.com
SUMMARY:Divan and Board of Directors Meeting
DESCRIPTION:
URL:https://alkoranshriners.com/event/divan-and-board-of-directors-meeting/2026-11-09/
LOCATION:Al Koran Office\, 6801 OH-291\, Suite B\, Middleburg Heights\, OH\, 44130\, United States
ORGANIZER;CN="Al Koran Shriners":MAILTO:clevelandshriners@gmail.com
END:VEVENT
BEGIN:VEVENT
DTSTART;TZID=America/New_York:20261109T190000
DTEND;TZID=America/New_York:20261109T200000
DTSTAMP:20260422T012822
CREATED:20250512T192840Z
LAST-MODIFIED:20250616T194145Z
UID:10000277-1794250800-1794254400@alkoranshriners.com
SUMMARY:Hunters Meeting
DESCRIPTION:
URL:https://alkoranshriners.com/event/hunters-meeting/2026-11-09/
LOCATION:Al Koran Office\, 6801 OH-291\, Suite B\, Middleburg Heights\, OH\, 44130\, United States
END:VEVENT
BEGIN:VEVENT
DTSTART;TZID=America/New_York:20261111T173000
DTEND;TZID=America/New_York:20261111T210000
DTSTAMP:20260422T012823
CREATED:20250512T191711Z
LAST-MODIFIED:20250606T124632Z
UID:10000217-1794418200-1794430800@alkoranshriners.com
SUMMARY:Lakewood Shrine Club Meeting
DESCRIPTION:
URL:https://alkoranshriners.com/event/lakewood-shrine-club-meeting/2026-11-11/
LOCATION:Cleveland Yachting Club\, 200 Yacht Club Dr\, Rocky River\, OH\, 44116\, United States
END:VEVENT
BEGIN:VEVENT
DTSTART;TZID=America/New_York:20261111T190000
DTEND;TZID=America/New_York:20261111T210000
DTSTAMP:20260422T012823
CREATED:20260408T172936Z
LAST-MODIFIED:20260408T172937Z
UID:10001363-1794423600-1794430800@alkoranshriners.com
SUMMARY:Lorain County Shrine Club & Fire Brigade
DESCRIPTION:
URL:https://alkoranshriners.com/event/lorain-county-shrine-club-fire-brigade-2/2026-11-11/
END:VEVENT
BEGIN:VEVENT
DTSTART;TZID=America/New_York:20261118T180000
DTEND;TZID=America/New_York:20261118T200000
DTSTAMP:20260422T012823
CREATED:20250930T191631Z
LAST-MODIFIED:20250930T191631Z
UID:10001177-1795024800-1795032000@alkoranshriners.com
SUMMARY:Massillon Shrine Club
DESCRIPTION:
URL:https://alkoranshriners.com/event/massillon-shrine-club-2/2026-11-18/
LOCATION:Massillon Masonic Temple (Clinton Lodge #47)\, 22nd St SW\, Massillon\, OH\, 44647
END:VEVENT
BEGIN:VEVENT
DTSTART;VALUE=DATE:20261119
DTEND;VALUE=DATE:20261120
DTSTAMP:20260422T012823
CREATED:20250722T124240Z
LAST-MODIFIED:20250930T191012Z
UID:10001057-1795046400-1795132799@alkoranshriners.com
SUMMARY:Youngstown Shrine Club Meeting
DESCRIPTION:
URL:https://alkoranshriners.com/event/youngstown-shrine-club-dinner-meeting/2026-11-19/
LOCATION:Youngstown Shrine Club\, 1735 S Range\, North Lima\, OH\, 44452\, United States
ORGANIZER;CN="Al Koran Shriners":MAILTO:clevelandshriners@gmail.com
END:VEVENT
BEGIN:VEVENT
DTSTART;TZID=America/New_York:20261119T180000
DTEND;TZID=America/New_York:20261119T200000
DTSTAMP:20260422T012823
CREATED:20250512T192559Z
LAST-MODIFIED:20250606T123903Z
UID:10000091-1795111200-1795118400@alkoranshriners.com
SUMMARY:Youngstown Shrine Club Meeting
DESCRIPTION:
URL:https://alkoranshriners.com/event/youngstown-shrine-club-meeting/2026-11-19/
LOCATION:Youngstown Shrine Club\, 1735 S Range\, North Lima\, OH\, 44452\, United States
END:VEVENT
BEGIN:VEVENT
DTSTART;TZID=America/New_York:20261123T180000
DTEND;TZID=America/New_York:20261123T200000
DTSTAMP:20260422T012823
CREATED:20250512T193459Z
LAST-MODIFIED:20250606T124855Z
UID:10000337-1795456800-1795464000@alkoranshriners.com
SUMMARY:Krazy Kops Meeting
DESCRIPTION:
URL:https://alkoranshriners.com/event/krazy-kops-meeting/2026-11-23/
LOCATION:Teamz Restaurant & Bar\, 6611 Eastland Rd\, Middleburg Heights\, OH\, 44130\, United States
END:VEVENT
BEGIN:VEVENT
DTSTART;TZID=America/New_York:20261123T180000
DTEND;TZID=America/New_York:20261123T200000
DTSTAMP:20260422T012823
CREATED:20250606T130759Z
LAST-MODIFIED:20250618T141551Z
UID:10000920-1795456800-1795464000@alkoranshriners.com
SUMMARY:Legion of Honor
DESCRIPTION:
URL:https://alkoranshriners.com/event/legion-of-honor/2026-11-23/
LOCATION:St. Matthew’s Episcopal Church\, 9549 Highland Dr\, Brecksville\, OH\, 44141\, United States
END:VEVENT
BEGIN:VEVENT
DTSTART;TZID=America/New_York:20261124T180000
DTEND;TZID=America/New_York:20261124T200000
DTSTAMP:20260422T012823
CREATED:20260408T145522Z
LAST-MODIFIED:20260408T145522Z
UID:10001305-1795543200-1795550400@alkoranshriners.com
SUMMARY:Mariner's Meeting
DESCRIPTION:
URL:https://alkoranshriners.com/event/mariners-meeting-2-2/2026-11-24/
ORGANIZER;CN="Al Koran Shriners":MAILTO:clevelandshriners@gmail.com
END:VEVENT
BEGIN:VEVENT
DTSTART;TZID=America/New_York:20261124T180000
DTEND;TZID=America/New_York:20261124T200000
DTSTAMP:20260422T012823
CREATED:20260408T173107Z
LAST-MODIFIED:20260408T173107Z
UID:10001422-1795543200-1795550400@alkoranshriners.com
SUMMARY:Mariners Meeting
DESCRIPTION:
URL:https://alkoranshriners.com/event/mariners-meeting-3/2026-11-24/
END:VEVENT
BEGIN:VEVENT
DTSTART;TZID=America/New_York:20261125T180000
DTEND;TZID=America/New_York:20261125T200000
DTSTAMP:20260422T012823
CREATED:20250606T130337Z
LAST-MODIFIED:20250930T190850Z
UID:10000996-1795629600-1795636800@alkoranshriners.com
SUMMARY:Hillbilly Crooked River Clan #16 Meeting
DESCRIPTION:
URL:https://alkoranshriners.com/event/hillbilly-crooked-river-clan-16/2026-11-25/
LOCATION:St. Matthew’s Episcopal Church\, 9549 Highland Dr\, Brecksville\, OH\, 44141\, United States
END:VEVENT
BEGIN:VEVENT
DTSTART;TZID=America/New_York:20261204T080000
DTEND;TZID=America/New_York:20261204T170000
DTSTAMP:20260422T012823
CREATED:20250930T191518Z
LAST-MODIFIED:20250930T191518Z
UID:10000830-1796371200-1796403600@alkoranshriners.com
SUMMARY:Mansfield Shrine Club
DESCRIPTION:
URL:https://alkoranshriners.com/event/mansfield-shrine-club-2/2026-12-04/
LOCATION:Baku Grotto\, 747 S Main St\, Mansfield\, OH\, 44907\, United States
END:VEVENT
BEGIN:VEVENT
DTSTART;TZID=America/New_York:20261207T180000
DTEND;TZID=America/New_York:20261207T200000
DTSTAMP:20260422T012823
CREATED:20250512T192700Z
LAST-MODIFIED:20250606T124119Z
UID:10000152-1796666400-1796673600@alkoranshriners.com
SUMMARY:Mid-Ohio Shrine Club Meeting
DESCRIPTION:
URL:https://alkoranshriners.com/event/mid-ohio-shrine-club-meeting/2026-12-07/
LOCATION:Old Bag of Nails\, 625 Lexington Ave #7\, Mansfield\, OH\, 44907\, United States
END:VEVENT
BEGIN:VEVENT
DTSTART;TZID=America/New_York:20261209T173000
DTEND;TZID=America/New_York:20261209T210000
DTSTAMP:20260422T012823
CREATED:20250512T191711Z
LAST-MODIFIED:20250606T124632Z
UID:10000218-1796837400-1796850000@alkoranshriners.com
SUMMARY:Lakewood Shrine Club Meeting
DESCRIPTION:
URL:https://alkoranshriners.com/event/lakewood-shrine-club-meeting/2026-12-09/
LOCATION:Cleveland Yachting Club\, 200 Yacht Club Dr\, Rocky River\, OH\, 44116\, United States
END:VEVENT
BEGIN:VEVENT
DTSTART;TZID=America/New_York:20261209T190000
DTEND;TZID=America/New_York:20261209T210000
DTSTAMP:20260422T012823
CREATED:20260408T172936Z
LAST-MODIFIED:20260408T172937Z
UID:10001364-1796842800-1796850000@alkoranshriners.com
SUMMARY:Lorain County Shrine Club & Fire Brigade
DESCRIPTION:
URL:https://alkoranshriners.com/event/lorain-county-shrine-club-fire-brigade-2/2026-12-09/
END:VEVENT
BEGIN:VEVENT
DTSTART;TZID=America/New_York:20261214T180000
DTEND;TZID=America/New_York:20261214T190000
DTSTAMP:20260422T012823
CREATED:20250512T192758Z
LAST-MODIFIED:20250605T135856Z
UID:10000032-1797271200-1797274800@alkoranshriners.com
SUMMARY:Divan and Board of Directors Meeting
DESCRIPTION:
URL:https://alkoranshriners.com/event/divan-and-board-of-directors-meeting/2026-12-14/
LOCATION:Al Koran Office\, 6801 OH-291\, Suite B\, Middleburg Heights\, OH\, 44130\, United States
ORGANIZER;CN="Al Koran Shriners":MAILTO:clevelandshriners@gmail.com
END:VEVENT
BEGIN:VEVENT
DTSTART;TZID=America/New_York:20261214T190000
DTEND;TZID=America/New_York:20261214T200000
DTSTAMP:20260422T012823
CREATED:20250512T192840Z
LAST-MODIFIED:20250616T194145Z
UID:10000278-1797274800-1797278400@alkoranshriners.com
SUMMARY:Hunters Meeting
DESCRIPTION:
URL:https://alkoranshriners.com/event/hunters-meeting/2026-12-14/
LOCATION:Al Koran Office\, 6801 OH-291\, Suite B\, Middleburg Heights\, OH\, 44130\, United States
END:VEVENT
BEGIN:VEVENT
DTSTART;TZID=America/New_York:20261216T180000
DTEND;TZID=America/New_York:20261216T200000
DTSTAMP:20260422T012823
CREATED:20250930T191631Z
LAST-MODIFIED:20250930T191631Z
UID:10001178-1797444000-1797451200@alkoranshriners.com
SUMMARY:Massillon Shrine Club
DESCRIPTION:
URL:https://alkoranshriners.com/event/massillon-shrine-club-2/2026-12-16/
LOCATION:Massillon Masonic Temple (Clinton Lodge #47)\, 22nd St SW\, Massillon\, OH\, 44647
END:VEVENT
BEGIN:VEVENT
DTSTART;VALUE=DATE:20261217
DTEND;VALUE=DATE:20261218
DTSTAMP:20260422T012823
CREATED:20250722T124240Z
LAST-MODIFIED:20250930T191012Z
UID:10001058-1797465600-1797551999@alkoranshriners.com
SUMMARY:Youngstown Shrine Club Meeting
DESCRIPTION:
URL:https://alkoranshriners.com/event/youngstown-shrine-club-dinner-meeting/2026-12-17/
LOCATION:Youngstown Shrine Club\, 1735 S Range\, North Lima\, OH\, 44452\, United States
ORGANIZER;CN="Al Koran Shriners":MAILTO:clevelandshriners@gmail.com
END:VEVENT
BEGIN:VEVENT
DTSTART;TZID=America/New_York:20261217T180000
DTEND;TZID=America/New_York:20261217T200000
DTSTAMP:20260422T012823
CREATED:20250512T192559Z
LAST-MODIFIED:20250606T123903Z
UID:10000092-1797530400-1797537600@alkoranshriners.com
SUMMARY:Youngstown Shrine Club Meeting
DESCRIPTION:
URL:https://alkoranshriners.com/event/youngstown-shrine-club-meeting/2026-12-17/
LOCATION:Youngstown Shrine Club\, 1735 S Range\, North Lima\, OH\, 44452\, United States
END:VEVENT
BEGIN:VEVENT
DTSTART;TZID=America/New_York:20261222T180000
DTEND;TZID=America/New_York:20261222T200000
DTSTAMP:20260422T012823
CREATED:20260408T145522Z
LAST-MODIFIED:20260408T145522Z
UID:10001306-1797962400-1797969600@alkoranshriners.com
SUMMARY:Mariner's Meeting
DESCRIPTION:
URL:https://alkoranshriners.com/event/mariners-meeting-2-2/2026-12-22/
ORGANIZER;CN="Al Koran Shriners":MAILTO:clevelandshriners@gmail.com
END:VEVENT
BEGIN:VEVENT
DTSTART;TZID=America/New_York:20261222T180000
DTEND;TZID=America/New_York:20261222T200000
DTSTAMP:20260422T012823
CREATED:20260408T173107Z
LAST-MODIFIED:20260408T173107Z
UID:10001423-1797962400-1797969600@alkoranshriners.com
SUMMARY:Mariners Meeting
DESCRIPTION:
URL:https://alkoranshriners.com/event/mariners-meeting-3/2026-12-22/
END:VEVENT
END:VCALENDAR