BEGIN:VCALENDAR
VERSION:2.0
PRODID:-//Al Koran Shriners - ECPv6.15.20//NONSGML v1.0//EN
CALSCALE:GREGORIAN
METHOD:PUBLISH
X-WR-CALNAME:Al Koran Shriners
X-ORIGINAL-URL:https://alkoranshriners.com
X-WR-CALDESC:Events for Al Koran Shriners
REFRESH-INTERVAL;VALUE=DURATION:PT1H
X-Robots-Tag:noindex
X-PUBLISHED-TTL:PT1H
BEGIN:VTIMEZONE
TZID:America/New_York
BEGIN:DAYLIGHT
TZOFFSETFROM:-0500
TZOFFSETTO:-0400
TZNAME:EDT
DTSTART:20280312T070000
END:DAYLIGHT
BEGIN:STANDARD
TZOFFSETFROM:-0400
TZOFFSETTO:-0500
TZNAME:EST
DTSTART:20281105T060000
END:STANDARD
BEGIN:DAYLIGHT
TZOFFSETFROM:-0500
TZOFFSETTO:-0400
TZNAME:EDT
DTSTART:20290311T070000
END:DAYLIGHT
BEGIN:STANDARD
TZOFFSETFROM:-0400
TZOFFSETTO:-0500
TZNAME:EST
DTSTART:20291104T060000
END:STANDARD
BEGIN:DAYLIGHT
TZOFFSETFROM:-0500
TZOFFSETTO:-0400
TZNAME:EDT
DTSTART:20300310T070000
END:DAYLIGHT
BEGIN:STANDARD
TZOFFSETFROM:-0400
TZOFFSETTO:-0500
TZNAME:EST
DTSTART:20301103T060000
END:STANDARD
BEGIN:DAYLIGHT
TZOFFSETFROM:-0500
TZOFFSETTO:-0400
TZNAME:EDT
DTSTART:20310309T070000
END:DAYLIGHT
BEGIN:STANDARD
TZOFFSETFROM:-0400
TZOFFSETTO:-0500
TZNAME:EST
DTSTART:20311102T060000
END:STANDARD
END:VTIMEZONE
BEGIN:VEVENT
DTSTART;TZID=America/New_York:20290724T180000
DTEND;TZID=America/New_York:20290724T200000
DTSTAMP:20260421T032151
CREATED:20260408T145522Z
LAST-MODIFIED:20260408T145522Z
UID:10001337-1879610400-1879617600@alkoranshriners.com
SUMMARY:Mariner's Meeting
DESCRIPTION:
URL:https://alkoranshriners.com/event/mariners-meeting-2-2/2029-07-24/
ORGANIZER;CN="Al Koran Shriners":MAILTO:clevelandshriners@gmail.com
END:VEVENT
BEGIN:VEVENT
DTSTART;TZID=America/New_York:20290813T180000
DTEND;TZID=America/New_York:20290813T190000
DTSTAMP:20260421T032151
CREATED:20250512T192758Z
LAST-MODIFIED:20250605T135856Z
UID:10000064-1881338400-1881342000@alkoranshriners.com
SUMMARY:Divan and Board of Directors Meeting
DESCRIPTION:
URL:https://alkoranshriners.com/event/divan-and-board-of-directors-meeting/2029-08-13/
LOCATION:Al Koran Office\, 6801 OH-291\, Suite B\, Middleburg Heights\, OH\, 44130\, United States
ORGANIZER;CN="Al Koran Shriners":MAILTO:clevelandshriners@gmail.com
END:VEVENT
BEGIN:VEVENT
DTSTART;VALUE=DATE:20290816
DTEND;VALUE=DATE:20290817
DTSTAMP:20260421T032151
CREATED:20250722T124240Z
LAST-MODIFIED:20250930T191012Z
UID:10001090-1881532800-1881619199@alkoranshriners.com
SUMMARY:Youngstown Shrine Club Meeting
DESCRIPTION:
URL:https://alkoranshriners.com/event/youngstown-shrine-club-dinner-meeting/2029-08-16/
LOCATION:Youngstown Shrine Club\, 1735 S Range\, North Lima\, OH\, 44452\, United States
ORGANIZER;CN="Al Koran Shriners":MAILTO:clevelandshriners@gmail.com
END:VEVENT
BEGIN:VEVENT
DTSTART;TZID=America/New_York:20290828T180000
DTEND;TZID=America/New_York:20290828T200000
DTSTAMP:20260421T032151
CREATED:20260408T145522Z
LAST-MODIFIED:20260408T145522Z
UID:10001338-1882634400-1882641600@alkoranshriners.com
SUMMARY:Mariner's Meeting
DESCRIPTION:
URL:https://alkoranshriners.com/event/mariners-meeting-2-2/2029-08-28/
ORGANIZER;CN="Al Koran Shriners":MAILTO:clevelandshriners@gmail.com
END:VEVENT
BEGIN:VEVENT
DTSTART;TZID=America/New_York:20290910T180000
DTEND;TZID=America/New_York:20290910T190000
DTSTAMP:20260421T032151
CREATED:20250512T192758Z
LAST-MODIFIED:20250605T135856Z
UID:10000065-1883757600-1883761200@alkoranshriners.com
SUMMARY:Divan and Board of Directors Meeting
DESCRIPTION:
URL:https://alkoranshriners.com/event/divan-and-board-of-directors-meeting/2029-09-10/
LOCATION:Al Koran Office\, 6801 OH-291\, Suite B\, Middleburg Heights\, OH\, 44130\, United States
ORGANIZER;CN="Al Koran Shriners":MAILTO:clevelandshriners@gmail.com
END:VEVENT
BEGIN:VEVENT
DTSTART;VALUE=DATE:20290920
DTEND;VALUE=DATE:20290921
DTSTAMP:20260421T032151
CREATED:20250722T124240Z
LAST-MODIFIED:20250930T191012Z
UID:10001091-1884556800-1884643199@alkoranshriners.com
SUMMARY:Youngstown Shrine Club Meeting
DESCRIPTION:
URL:https://alkoranshriners.com/event/youngstown-shrine-club-dinner-meeting/2029-09-20/
LOCATION:Youngstown Shrine Club\, 1735 S Range\, North Lima\, OH\, 44452\, United States
ORGANIZER;CN="Al Koran Shriners":MAILTO:clevelandshriners@gmail.com
END:VEVENT
BEGIN:VEVENT
DTSTART;TZID=America/New_York:20290925T180000
DTEND;TZID=America/New_York:20290925T200000
DTSTAMP:20260421T032151
CREATED:20260408T145522Z
LAST-MODIFIED:20260408T145522Z
UID:10001339-1885053600-1885060800@alkoranshriners.com
SUMMARY:Mariner's Meeting
DESCRIPTION:
URL:https://alkoranshriners.com/event/mariners-meeting-2-2/2029-09-25/
ORGANIZER;CN="Al Koran Shriners":MAILTO:clevelandshriners@gmail.com
END:VEVENT
BEGIN:VEVENT
DTSTART;TZID=America/New_York:20291008T180000
DTEND;TZID=America/New_York:20291008T190000
DTSTAMP:20260421T032151
CREATED:20250512T192758Z
LAST-MODIFIED:20250605T135856Z
UID:10000066-1886176800-1886180400@alkoranshriners.com
SUMMARY:Divan and Board of Directors Meeting
DESCRIPTION:
URL:https://alkoranshriners.com/event/divan-and-board-of-directors-meeting/2029-10-08/
LOCATION:Al Koran Office\, 6801 OH-291\, Suite B\, Middleburg Heights\, OH\, 44130\, United States
ORGANIZER;CN="Al Koran Shriners":MAILTO:clevelandshriners@gmail.com
END:VEVENT
BEGIN:VEVENT
DTSTART;VALUE=DATE:20291018
DTEND;VALUE=DATE:20291019
DTSTAMP:20260421T032151
CREATED:20250722T124240Z
LAST-MODIFIED:20250930T191012Z
UID:10001092-1886976000-1887062399@alkoranshriners.com
SUMMARY:Youngstown Shrine Club Meeting
DESCRIPTION:
URL:https://alkoranshriners.com/event/youngstown-shrine-club-dinner-meeting/2029-10-18/
LOCATION:Youngstown Shrine Club\, 1735 S Range\, North Lima\, OH\, 44452\, United States
ORGANIZER;CN="Al Koran Shriners":MAILTO:clevelandshriners@gmail.com
END:VEVENT
BEGIN:VEVENT
DTSTART;TZID=America/New_York:20291023T180000
DTEND;TZID=America/New_York:20291023T200000
DTSTAMP:20260421T032151
CREATED:20260408T145522Z
LAST-MODIFIED:20260408T145522Z
UID:10001340-1887472800-1887480000@alkoranshriners.com
SUMMARY:Mariner's Meeting
DESCRIPTION:
URL:https://alkoranshriners.com/event/mariners-meeting-2-2/2029-10-23/
ORGANIZER;CN="Al Koran Shriners":MAILTO:clevelandshriners@gmail.com
END:VEVENT
BEGIN:VEVENT
DTSTART;TZID=America/New_York:20291112T180000
DTEND;TZID=America/New_York:20291112T190000
DTSTAMP:20260421T032151
CREATED:20250512T192758Z
LAST-MODIFIED:20250605T135856Z
UID:10000067-1889200800-1889204400@alkoranshriners.com
SUMMARY:Divan and Board of Directors Meeting
DESCRIPTION:
URL:https://alkoranshriners.com/event/divan-and-board-of-directors-meeting/2029-11-12/
LOCATION:Al Koran Office\, 6801 OH-291\, Suite B\, Middleburg Heights\, OH\, 44130\, United States
ORGANIZER;CN="Al Koran Shriners":MAILTO:clevelandshriners@gmail.com
END:VEVENT
BEGIN:VEVENT
DTSTART;VALUE=DATE:20291115
DTEND;VALUE=DATE:20291116
DTSTAMP:20260421T032151
CREATED:20250722T124240Z
LAST-MODIFIED:20250930T191012Z
UID:10001093-1889395200-1889481599@alkoranshriners.com
SUMMARY:Youngstown Shrine Club Meeting
DESCRIPTION:
URL:https://alkoranshriners.com/event/youngstown-shrine-club-dinner-meeting/2029-11-15/
LOCATION:Youngstown Shrine Club\, 1735 S Range\, North Lima\, OH\, 44452\, United States
ORGANIZER;CN="Al Koran Shriners":MAILTO:clevelandshriners@gmail.com
END:VEVENT
BEGIN:VEVENT
DTSTART;TZID=America/New_York:20291127T180000
DTEND;TZID=America/New_York:20291127T200000
DTSTAMP:20260421T032151
CREATED:20260408T145522Z
LAST-MODIFIED:20260408T145522Z
UID:10001341-1890496800-1890504000@alkoranshriners.com
SUMMARY:Mariner's Meeting
DESCRIPTION:
URL:https://alkoranshriners.com/event/mariners-meeting-2-2/2029-11-27/
ORGANIZER;CN="Al Koran Shriners":MAILTO:clevelandshriners@gmail.com
END:VEVENT
BEGIN:VEVENT
DTSTART;TZID=America/New_York:20291210T180000
DTEND;TZID=America/New_York:20291210T190000
DTSTAMP:20260421T032151
CREATED:20250512T192758Z
LAST-MODIFIED:20250605T135856Z
UID:10000068-1891620000-1891623600@alkoranshriners.com
SUMMARY:Divan and Board of Directors Meeting
DESCRIPTION:
URL:https://alkoranshriners.com/event/divan-and-board-of-directors-meeting/2029-12-10/
LOCATION:Al Koran Office\, 6801 OH-291\, Suite B\, Middleburg Heights\, OH\, 44130\, United States
ORGANIZER;CN="Al Koran Shriners":MAILTO:clevelandshriners@gmail.com
END:VEVENT
BEGIN:VEVENT
DTSTART;VALUE=DATE:20291220
DTEND;VALUE=DATE:20291221
DTSTAMP:20260421T032151
CREATED:20250722T124240Z
LAST-MODIFIED:20250930T191012Z
UID:10001094-1892419200-1892505599@alkoranshriners.com
SUMMARY:Youngstown Shrine Club Meeting
DESCRIPTION:
URL:https://alkoranshriners.com/event/youngstown-shrine-club-dinner-meeting/2029-12-20/
LOCATION:Youngstown Shrine Club\, 1735 S Range\, North Lima\, OH\, 44452\, United States
ORGANIZER;CN="Al Koran Shriners":MAILTO:clevelandshriners@gmail.com
END:VEVENT
BEGIN:VEVENT
DTSTART;TZID=America/New_York:20291225T180000
DTEND;TZID=America/New_York:20291225T200000
DTSTAMP:20260421T032151
CREATED:20260408T145522Z
LAST-MODIFIED:20260408T145522Z
UID:10001342-1892916000-1892923200@alkoranshriners.com
SUMMARY:Mariner's Meeting
DESCRIPTION:
URL:https://alkoranshriners.com/event/mariners-meeting-2-2/2029-12-25/
ORGANIZER;CN="Al Koran Shriners":MAILTO:clevelandshriners@gmail.com
END:VEVENT
BEGIN:VEVENT
DTSTART;TZID=America/New_York:20300114T180000
DTEND;TZID=America/New_York:20300114T190000
DTSTAMP:20260421T032151
CREATED:20250512T192758Z
LAST-MODIFIED:20250605T135856Z
UID:10000069-1894644000-1894647600@alkoranshriners.com
SUMMARY:Divan and Board of Directors Meeting
DESCRIPTION:
URL:https://alkoranshriners.com/event/divan-and-board-of-directors-meeting/2030-01-14/
LOCATION:Al Koran Office\, 6801 OH-291\, Suite B\, Middleburg Heights\, OH\, 44130\, United States
ORGANIZER;CN="Al Koran Shriners":MAILTO:clevelandshriners@gmail.com
END:VEVENT
BEGIN:VEVENT
DTSTART;VALUE=DATE:20300117
DTEND;VALUE=DATE:20300118
DTSTAMP:20260421T032151
CREATED:20250722T124240Z
LAST-MODIFIED:20250930T191012Z
UID:10001095-1894838400-1894924799@alkoranshriners.com
SUMMARY:Youngstown Shrine Club Meeting
DESCRIPTION:
URL:https://alkoranshriners.com/event/youngstown-shrine-club-dinner-meeting/2030-01-17/
LOCATION:Youngstown Shrine Club\, 1735 S Range\, North Lima\, OH\, 44452\, United States
ORGANIZER;CN="Al Koran Shriners":MAILTO:clevelandshriners@gmail.com
END:VEVENT
BEGIN:VEVENT
DTSTART;TZID=America/New_York:20300122T180000
DTEND;TZID=America/New_York:20300122T200000
DTSTAMP:20260421T032151
CREATED:20260408T145522Z
LAST-MODIFIED:20260408T145522Z
UID:10001343-1895335200-1895342400@alkoranshriners.com
SUMMARY:Mariner's Meeting
DESCRIPTION:
URL:https://alkoranshriners.com/event/mariners-meeting-2-2/2030-01-22/
ORGANIZER;CN="Al Koran Shriners":MAILTO:clevelandshriners@gmail.com
END:VEVENT
BEGIN:VEVENT
DTSTART;TZID=America/New_York:20300211T180000
DTEND;TZID=America/New_York:20300211T190000
DTSTAMP:20260421T032151
CREATED:20250512T192758Z
LAST-MODIFIED:20250605T135856Z
UID:10000070-1897063200-1897066800@alkoranshriners.com
SUMMARY:Divan and Board of Directors Meeting
DESCRIPTION:
URL:https://alkoranshriners.com/event/divan-and-board-of-directors-meeting/2030-02-11/
LOCATION:Al Koran Office\, 6801 OH-291\, Suite B\, Middleburg Heights\, OH\, 44130\, United States
ORGANIZER;CN="Al Koran Shriners":MAILTO:clevelandshriners@gmail.com
END:VEVENT
BEGIN:VEVENT
DTSTART;VALUE=DATE:20300221
DTEND;VALUE=DATE:20300222
DTSTAMP:20260421T032151
CREATED:20250722T124240Z
LAST-MODIFIED:20250930T191012Z
UID:10001096-1897862400-1897948799@alkoranshriners.com
SUMMARY:Youngstown Shrine Club Meeting
DESCRIPTION:
URL:https://alkoranshriners.com/event/youngstown-shrine-club-dinner-meeting/2030-02-21/
LOCATION:Youngstown Shrine Club\, 1735 S Range\, North Lima\, OH\, 44452\, United States
ORGANIZER;CN="Al Koran Shriners":MAILTO:clevelandshriners@gmail.com
END:VEVENT
BEGIN:VEVENT
DTSTART;TZID=America/New_York:20300226T180000
DTEND;TZID=America/New_York:20300226T200000
DTSTAMP:20260421T032151
CREATED:20260408T145522Z
LAST-MODIFIED:20260408T145522Z
UID:10001344-1898359200-1898366400@alkoranshriners.com
SUMMARY:Mariner's Meeting
DESCRIPTION:
URL:https://alkoranshriners.com/event/mariners-meeting-2-2/2030-02-26/
ORGANIZER;CN="Al Koran Shriners":MAILTO:clevelandshriners@gmail.com
END:VEVENT
BEGIN:VEVENT
DTSTART;TZID=America/New_York:20300311T180000
DTEND;TZID=America/New_York:20300311T190000
DTSTAMP:20260421T032151
CREATED:20250512T192758Z
LAST-MODIFIED:20250605T135856Z
UID:10000071-1899482400-1899486000@alkoranshriners.com
SUMMARY:Divan and Board of Directors Meeting
DESCRIPTION:
URL:https://alkoranshriners.com/event/divan-and-board-of-directors-meeting/2030-03-11/
LOCATION:Al Koran Office\, 6801 OH-291\, Suite B\, Middleburg Heights\, OH\, 44130\, United States
ORGANIZER;CN="Al Koran Shriners":MAILTO:clevelandshriners@gmail.com
END:VEVENT
BEGIN:VEVENT
DTSTART;VALUE=DATE:20300321
DTEND;VALUE=DATE:20300322
DTSTAMP:20260421T032151
CREATED:20250722T124240Z
LAST-MODIFIED:20250930T191012Z
UID:10001097-1900281600-1900367999@alkoranshriners.com
SUMMARY:Youngstown Shrine Club Meeting
DESCRIPTION:
URL:https://alkoranshriners.com/event/youngstown-shrine-club-dinner-meeting/2030-03-21/
LOCATION:Youngstown Shrine Club\, 1735 S Range\, North Lima\, OH\, 44452\, United States
ORGANIZER;CN="Al Koran Shriners":MAILTO:clevelandshriners@gmail.com
END:VEVENT
BEGIN:VEVENT
DTSTART;TZID=America/New_York:20300326T180000
DTEND;TZID=America/New_York:20300326T200000
DTSTAMP:20260421T032151
CREATED:20260408T145522Z
LAST-MODIFIED:20260408T145522Z
UID:10001345-1900778400-1900785600@alkoranshriners.com
SUMMARY:Mariner's Meeting
DESCRIPTION:
URL:https://alkoranshriners.com/event/mariners-meeting-2-2/2030-03-26/
ORGANIZER;CN="Al Koran Shriners":MAILTO:clevelandshriners@gmail.com
END:VEVENT
BEGIN:VEVENT
DTSTART;TZID=America/New_York:20300408T180000
DTEND;TZID=America/New_York:20300408T190000
DTSTAMP:20260421T032151
CREATED:20250512T192758Z
LAST-MODIFIED:20250605T135856Z
UID:10000072-1901901600-1901905200@alkoranshriners.com
SUMMARY:Divan and Board of Directors Meeting
DESCRIPTION:
URL:https://alkoranshriners.com/event/divan-and-board-of-directors-meeting/2030-04-08/
LOCATION:Al Koran Office\, 6801 OH-291\, Suite B\, Middleburg Heights\, OH\, 44130\, United States
ORGANIZER;CN="Al Koran Shriners":MAILTO:clevelandshriners@gmail.com
END:VEVENT
BEGIN:VEVENT
DTSTART;VALUE=DATE:20300418
DTEND;VALUE=DATE:20300419
DTSTAMP:20260421T032151
CREATED:20250722T124240Z
LAST-MODIFIED:20250930T191012Z
UID:10001098-1902700800-1902787199@alkoranshriners.com
SUMMARY:Youngstown Shrine Club Meeting
DESCRIPTION:
URL:https://alkoranshriners.com/event/youngstown-shrine-club-dinner-meeting/2030-04-18/
LOCATION:Youngstown Shrine Club\, 1735 S Range\, North Lima\, OH\, 44452\, United States
ORGANIZER;CN="Al Koran Shriners":MAILTO:clevelandshriners@gmail.com
END:VEVENT
BEGIN:VEVENT
DTSTART;TZID=America/New_York:20300423T180000
DTEND;TZID=America/New_York:20300423T200000
DTSTAMP:20260421T032151
CREATED:20260408T145522Z
LAST-MODIFIED:20260408T145522Z
UID:10001346-1903197600-1903204800@alkoranshriners.com
SUMMARY:Mariner's Meeting
DESCRIPTION:
URL:https://alkoranshriners.com/event/mariners-meeting-2-2/2030-04-23/
ORGANIZER;CN="Al Koran Shriners":MAILTO:clevelandshriners@gmail.com
END:VEVENT
BEGIN:VEVENT
DTSTART;TZID=America/New_York:20300513T180000
DTEND;TZID=America/New_York:20300513T190000
DTSTAMP:20260421T032151
CREATED:20250512T192758Z
LAST-MODIFIED:20250605T135856Z
UID:10000073-1904925600-1904929200@alkoranshriners.com
SUMMARY:Divan and Board of Directors Meeting
DESCRIPTION:
URL:https://alkoranshriners.com/event/divan-and-board-of-directors-meeting/2030-05-13/
LOCATION:Al Koran Office\, 6801 OH-291\, Suite B\, Middleburg Heights\, OH\, 44130\, United States
ORGANIZER;CN="Al Koran Shriners":MAILTO:clevelandshriners@gmail.com
END:VEVENT
BEGIN:VEVENT
DTSTART;VALUE=DATE:20300516
DTEND;VALUE=DATE:20300517
DTSTAMP:20260421T032151
CREATED:20250722T124240Z
LAST-MODIFIED:20250930T191012Z
UID:10001099-1905120000-1905206399@alkoranshriners.com
SUMMARY:Youngstown Shrine Club Meeting
DESCRIPTION:
URL:https://alkoranshriners.com/event/youngstown-shrine-club-dinner-meeting/2030-05-16/
LOCATION:Youngstown Shrine Club\, 1735 S Range\, North Lima\, OH\, 44452\, United States
ORGANIZER;CN="Al Koran Shriners":MAILTO:clevelandshriners@gmail.com
END:VEVENT
END:VCALENDAR