BEGIN:VCALENDAR
VERSION:2.0
PRODID:-//Al Koran Shriners - ECPv6.15.20//NONSGML v1.0//EN
CALSCALE:GREGORIAN
METHOD:PUBLISH
X-ORIGINAL-URL:https://alkoranshriners.com
X-WR-CALDESC:Events for Al Koran Shriners
REFRESH-INTERVAL;VALUE=DURATION:PT1H
X-Robots-Tag:noindex
X-PUBLISHED-TTL:PT1H
BEGIN:VTIMEZONE
TZID:America/New_York
BEGIN:DAYLIGHT
TZOFFSETFROM:-0500
TZOFFSETTO:-0400
TZNAME:EDT
DTSTART:20290311T070000
END:DAYLIGHT
BEGIN:STANDARD
TZOFFSETFROM:-0400
TZOFFSETTO:-0500
TZNAME:EST
DTSTART:20291104T060000
END:STANDARD
BEGIN:DAYLIGHT
TZOFFSETFROM:-0500
TZOFFSETTO:-0400
TZNAME:EDT
DTSTART:20300310T070000
END:DAYLIGHT
BEGIN:STANDARD
TZOFFSETFROM:-0400
TZOFFSETTO:-0500
TZNAME:EST
DTSTART:20301103T060000
END:STANDARD
BEGIN:DAYLIGHT
TZOFFSETFROM:-0500
TZOFFSETTO:-0400
TZNAME:EDT
DTSTART:20310309T070000
END:DAYLIGHT
BEGIN:STANDARD
TZOFFSETFROM:-0400
TZOFFSETTO:-0500
TZNAME:EST
DTSTART:20311102T060000
END:STANDARD
BEGIN:DAYLIGHT
TZOFFSETFROM:-0500
TZOFFSETTO:-0400
TZNAME:EDT
DTSTART:20320314T070000
END:DAYLIGHT
BEGIN:STANDARD
TZOFFSETFROM:-0400
TZOFFSETTO:-0500
TZNAME:EST
DTSTART:20321107T060000
END:STANDARD
END:VTIMEZONE
BEGIN:VEVENT
DTSTART;TZID=America/New_York:20300827T180000
DTEND;TZID=America/New_York:20300827T200000
DTSTAMP:20260423T074237
CREATED:20260408T145522Z
LAST-MODIFIED:20260408T145522Z
UID:10001350-1914084000-1914091200@alkoranshriners.com
SUMMARY:Mariner's Meeting
DESCRIPTION:
URL:https://alkoranshriners.com/event/mariners-meeting-2-2/2030-08-27/
ORGANIZER;CN="Al Koran Shriners":MAILTO:clevelandshriners@gmail.com
END:VEVENT
BEGIN:VEVENT
DTSTART;VALUE=DATE:20300919
DTEND;VALUE=DATE:20300920
DTSTAMP:20260423T074237
CREATED:20250722T124240Z
LAST-MODIFIED:20250930T191012Z
UID:10001103-1916006400-1916092799@alkoranshriners.com
SUMMARY:Youngstown Shrine Club Meeting
DESCRIPTION:
URL:https://alkoranshriners.com/event/youngstown-shrine-club-dinner-meeting/2030-09-19/
LOCATION:Youngstown Shrine Club\, 1735 S Range\, North Lima\, OH\, 44452\, United States
ORGANIZER;CN="Al Koran Shriners":MAILTO:clevelandshriners@gmail.com
END:VEVENT
BEGIN:VEVENT
DTSTART;TZID=America/New_York:20300924T180000
DTEND;TZID=America/New_York:20300924T200000
DTSTAMP:20260423T074237
CREATED:20260408T145522Z
LAST-MODIFIED:20260408T145522Z
UID:10001351-1916503200-1916510400@alkoranshriners.com
SUMMARY:Mariner's Meeting
DESCRIPTION:
URL:https://alkoranshriners.com/event/mariners-meeting-2-2/2030-09-24/
ORGANIZER;CN="Al Koran Shriners":MAILTO:clevelandshriners@gmail.com
END:VEVENT
BEGIN:VEVENT
DTSTART;TZID=America/New_York:20301022T180000
DTEND;TZID=America/New_York:20301022T200000
DTSTAMP:20260423T074237
CREATED:20260408T145522Z
LAST-MODIFIED:20260408T145522Z
UID:10001352-1918922400-1918929600@alkoranshriners.com
SUMMARY:Mariner's Meeting
DESCRIPTION:
URL:https://alkoranshriners.com/event/mariners-meeting-2-2/2030-10-22/
ORGANIZER;CN="Al Koran Shriners":MAILTO:clevelandshriners@gmail.com
END:VEVENT
BEGIN:VEVENT
DTSTART;TZID=America/New_York:20301126T180000
DTEND;TZID=America/New_York:20301126T200000
DTSTAMP:20260423T074237
CREATED:20260408T145522Z
LAST-MODIFIED:20260408T145522Z
UID:10001353-1921946400-1921953600@alkoranshriners.com
SUMMARY:Mariner's Meeting
DESCRIPTION:
URL:https://alkoranshriners.com/event/mariners-meeting-2-2/2030-11-26/
ORGANIZER;CN="Al Koran Shriners":MAILTO:clevelandshriners@gmail.com
END:VEVENT
BEGIN:VEVENT
DTSTART;TZID=America/New_York:20301224T180000
DTEND;TZID=America/New_York:20301224T200000
DTSTAMP:20260423T074237
CREATED:20260408T145522Z
LAST-MODIFIED:20260408T145522Z
UID:10001354-1924365600-1924372800@alkoranshriners.com
SUMMARY:Mariner's Meeting
DESCRIPTION:
URL:https://alkoranshriners.com/event/mariners-meeting-2-2/2030-12-24/
ORGANIZER;CN="Al Koran Shriners":MAILTO:clevelandshriners@gmail.com
END:VEVENT
BEGIN:VEVENT
DTSTART;TZID=America/New_York:20310128T180000
DTEND;TZID=America/New_York:20310128T200000
DTSTAMP:20260423T074237
CREATED:20260408T145522Z
LAST-MODIFIED:20260408T145522Z
UID:10001355-1927389600-1927396800@alkoranshriners.com
SUMMARY:Mariner's Meeting
DESCRIPTION:
URL:https://alkoranshriners.com/event/mariners-meeting-2-2/2031-01-28/
ORGANIZER;CN="Al Koran Shriners":MAILTO:clevelandshriners@gmail.com
END:VEVENT
BEGIN:VEVENT
DTSTART;TZID=America/New_York:20310225T180000
DTEND;TZID=America/New_York:20310225T200000
DTSTAMP:20260423T074237
CREATED:20260408T145522Z
LAST-MODIFIED:20260408T145522Z
UID:10001356-1929808800-1929816000@alkoranshriners.com
SUMMARY:Mariner's Meeting
DESCRIPTION:
URL:https://alkoranshriners.com/event/mariners-meeting-2-2/2031-02-25/
ORGANIZER;CN="Al Koran Shriners":MAILTO:clevelandshriners@gmail.com
END:VEVENT
BEGIN:VEVENT
DTSTART;TZID=America/New_York:20310325T180000
DTEND;TZID=America/New_York:20310325T200000
DTSTAMP:20260423T074237
CREATED:20260408T145522Z
LAST-MODIFIED:20260408T145522Z
UID:10001357-1932228000-1932235200@alkoranshriners.com
SUMMARY:Mariner's Meeting
DESCRIPTION:
URL:https://alkoranshriners.com/event/mariners-meeting-2-2/2031-03-25/
ORGANIZER;CN="Al Koran Shriners":MAILTO:clevelandshriners@gmail.com
END:VEVENT
END:VCALENDAR